BEGIN:VCALENDAR
VERSION:2.0
PRODID:-//The Mad River Valley Village - ECPv6.0.13//NONSGML v1.0//EN
CALSCALE:GREGORIAN
METHOD:PUBLISH
X-ORIGINAL-URL:https://mrvvillage.com
X-WR-CALDESC:Events for The Mad River Valley Village
REFRESH-INTERVAL;VALUE=DURATION:PT1H
X-Robots-Tag:noindex
X-PUBLISHED-TTL:PT1H
BEGIN:VTIMEZONE
TZID:America/New_York
BEGIN:DAYLIGHT
TZOFFSETFROM:-0500
TZOFFSETTO:-0400
TZNAME:EDT
DTSTART:20250309T070000
END:DAYLIGHT
BEGIN:STANDARD
TZOFFSETFROM:-0400
TZOFFSETTO:-0500
TZNAME:EST
DTSTART:20251102T060000
END:STANDARD
END:VTIMEZONE
BEGIN:VEVENT
DTSTART;TZID=America/New_York:20251011T100000
DTEND;TZID=America/New_York:20251011T160000
DTSTAMP:20260423T001405
CREATED:20250919T215544Z
LAST-MODIFIED:20251011T140838Z
UID:10009023-1760176800-1760198400@mrvvillage.com
SUMMARY:Inklings Children’s Books 2nd Anniversary Celebration!
DESCRIPTION:Join Inklings Children’s Books in celebrating their second anniversary!! \nStarting at 10am\, Inklings is hosting an all-day celebration filled with drinks\, cupcakes\, storytime\, craft making and more! \nWe can’t wait to see you. FREE and open to all!
URL:https://mrvvillage.com/event/inklings-childrens-books-2nd-anniversary-celebration/
LOCATION:Inklings Children’s Books\, 106 Mad River Greeen\, Waitsfield\, VT\, 05673\, United States
CATEGORIES:Family Friendly,Public Welcome,Special Events
ATTACH;FMTTYPE=image/jpeg:https://mrvvillage.com/wp-content/uploads/2025/09/2nd-Anniversary-Party-Flyer-MRV-5tYbH4.jpg
ORGANIZER;CN="Inklings%20Children%26%238217%3Bs%20Books":MAILTO:inklingschildrensbooks@gmail.com
GEO:44.1844899;-72.839037
X-APPLE-STRUCTURED-LOCATION;VALUE=URI;X-ADDRESS=Inklings Children’s Books 106 Mad River Greeen Waitsfield VT 05673 United States;X-APPLE-RADIUS=500;X-TITLE=106 Mad River Greeen:geo:-72.839037,44.1844899
END:VEVENT
BEGIN:VEVENT
DTSTART;TZID=America/New_York:20251011T130000
DTEND;TZID=America/New_York:20251011T170000
DTSTAMP:20260423T001405
CREATED:20251004T043929Z
LAST-MODIFIED:20251011T140838Z
UID:10009074-1760187600-1760202000@mrvvillage.com
SUMMARY:Annual Community Cider Pressing
DESCRIPTION:Open Barn Event | Free & open to the public\, fun for all ages! \nIt’s that time of year again… Join us for cider pressing (and drinking) at Stowell Barn\, plus games\, light snacks\, and good company! \nDefinitely bring:\n1. weather-appropriate clothing (this event is rain or shine\, and is essentially outdoors so it may be chilly!)\n2. some elbow grease for crushing & pressing apples \nOptional things to bring:\n1. your own apples to press (highly recommended—our apple trees had a hard time this year so we are working with much less fruit than usual!)\n2. clean water-tight containers to take cider home with you\n3. snacks and/or drinks to share with friends & neighbors \nAbout the Venue:\nParking is on the grass\, perpendicular to the barn (look for a white sandwich board marking a curb cut!)\nAccessible porta-let available on-site \nQuestions? Don’t hesitate to reach out!
URL:https://mrvvillage.com/event/annual-community-cider-pressing/
LOCATION:Farmsprung Gatherings\, 2692 East Warren Road\, Waitsfield\, VT\, 05673\, United States
CATEGORIES:Family Friendly,Food & Drink
ATTACH;FMTTYPE=image/png:https://mrvvillage.com/wp-content/uploads/2025/10/cider-event-2025-eEEo6w.png
ORGANIZER;CN="Farmsprung%20Gatherings%20LLC":MAILTO:FarmsprungVT@gmail.com
GEO:44.1547101;-72.8123901
X-APPLE-STRUCTURED-LOCATION;VALUE=URI;X-ADDRESS=Farmsprung Gatherings 2692 East Warren Road Waitsfield VT 05673 United States;X-APPLE-RADIUS=500;X-TITLE=2692 East Warren Road:geo:-72.8123901,44.1547101
END:VEVENT
END:VCALENDAR