BEGIN:VCALENDAR
VERSION:2.0
PRODID:-//The Mad River Valley Village - ECPv6.0.13//NONSGML v1.0//EN
CALSCALE:GREGORIAN
METHOD:PUBLISH
X-ORIGINAL-URL:https://mrvvillage.com
X-WR-CALDESC:Events for The Mad River Valley Village
REFRESH-INTERVAL;VALUE=DURATION:PT1H
X-Robots-Tag:noindex
X-PUBLISHED-TTL:PT1H
BEGIN:VTIMEZONE
TZID:America/New_York
BEGIN:DAYLIGHT
TZOFFSETFROM:-0500
TZOFFSETTO:-0400
TZNAME:EDT
DTSTART:20250309T070000
END:DAYLIGHT
BEGIN:STANDARD
TZOFFSETFROM:-0400
TZOFFSETTO:-0500
TZNAME:EST
DTSTART:20251102T060000
END:STANDARD
END:VTIMEZONE
BEGIN:VEVENT
DTSTART;TZID=America/New_York:20251016T150000
DTEND;TZID=America/New_York:20251016T163000
DTSTAMP:20260423T001405
CREATED:20250722T214345Z
LAST-MODIFIED:20251016T142324Z
UID:10008714-1760626800-1760632200@mrvvillage.com
SUMMARY:Fall Art Class at Inklings\, Grades K – 3
DESCRIPTION:Thursdays from 3:00 – 4:30pm. Starts October 16th. \nEXPLORE PAINTING\, SCULPTURE\, & WORK WITH RECYCLED MATERIALS. Starting October 16th\, your young artists will begin a six week course. Each week children will receive their own book based on a featured artist. \nFollowing a read aloud\, children will jump into an art project based on the artist’s work. A perfect introduction to the wider world of creativity!! \nSIGN UP using the EVENT LINK
URL:https://mrvvillage.com/event/fall-art-class-at-inklings-grades-k-3/
LOCATION:Inklings Children’s Books\, 106 Mad River Greeen\, Waitsfield\, VT\, 05673\, United States
CATEGORIES:Arts & Entertainment,Family Friendly
ATTACH;FMTTYPE=image/jpeg:https://mrvvillage.com/wp-content/uploads/2025/07/Fall-Art-Class-Flyer-K-thru-3-MRV-JAvzdc.jpg
ORGANIZER;CN="Inklings%20Children%26%238217%3Bs%20Books":MAILTO:inklingschildrensbooks@gmail.com
GEO:44.1844899;-72.839037
X-APPLE-STRUCTURED-LOCATION;VALUE=URI;X-ADDRESS=Inklings Children’s Books 106 Mad River Greeen Waitsfield VT 05673 United States;X-APPLE-RADIUS=500;X-TITLE=106 Mad River Greeen:geo:-72.839037,44.1844899
END:VEVENT
BEGIN:VEVENT
DTSTART;TZID=America/New_York:20251016T150000
DTEND;TZID=America/New_York:20251016T163000
DTSTAMP:20260423T001405
CREATED:20251105T093817Z
LAST-MODIFIED:20251105T180917Z
UID:10009209-1760626800-1760632200@mrvvillage.com
SUMMARY:Fall Art Class at Inklings\, Grades K – 3
DESCRIPTION:Thursdays from 3:00 – 4:30pm. Starts October 16th. \nEXPLORE PAINTING\, SCULPTURE\, & WORK WITH RECYCLED MATERIALS. Starting October 16th\, your young artists will begin a six week course. Each week children will receive their own book based on a featured artist. \nFollowing a read aloud\, children will jump into an art project based on the artist’s work. A perfect introduction to the wider world of creativity!! \nSIGN UP using the EVENT LINK
URL:https://mrvvillage.com/event/fall-art-class-at-inklings-grades-k-3-7/
LOCATION:Inklings Children’s Books\, 106 Mad River Greeen\, Waitsfield\, VT\, 05673\, United States
CATEGORIES:Arts & Entertainment,Family Friendly
ATTACH;FMTTYPE=image/jpeg:https://mrvvillage.com/wp-content/uploads/2025/07/Fall-Art-Class-Flyer-K-thru-3-MRV-JAvzdc.jpg
ORGANIZER;CN="Inklings%20Children%26%238217%3Bs%20Books":MAILTO:inklingschildrensbooks@gmail.com
GEO:44.1844899;-72.839037
X-APPLE-STRUCTURED-LOCATION;VALUE=URI;X-ADDRESS=Inklings Children’s Books 106 Mad River Greeen Waitsfield VT 05673 United States;X-APPLE-RADIUS=500;X-TITLE=106 Mad River Greeen:geo:-72.839037,44.1844899
END:VEVENT
BEGIN:VEVENT
DTSTART;TZID=America/New_York:20251016T173000
DTEND;TZID=America/New_York:20251016T203000
DTSTAMP:20260423T001405
CREATED:20250918T021101Z
LAST-MODIFIED:20251016T142324Z
UID:10009016-1760635800-1760646600@mrvvillage.com
SUMMARY:LIVE MUSIC & PUB NIGHT Featuring Al’s Pals!
DESCRIPTION:Join us in the pub for all your favorite Mad River Barn menu items with live music from Al’s Pals! Open 5 pm – 9 pm. Live music every Thursday in the summer!
URL:https://mrvvillage.com/event/live-music-pub-night-featuring-als-pals-20/
LOCATION:Mad River Barn
CATEGORIES:Dining,Family Friendly,Live Music,Public Welcome
ATTACH;FMTTYPE=image/png:https://mrvvillage.com/wp-content/uploads/2025/04/Music-Concert-Instagram-Post-w5m2El-dwhVun.png
GEO:44.195472;-72.8915611
END:VEVENT
END:VCALENDAR