BEGIN:VCALENDAR
VERSION:2.0
PRODID:-//The Mad River Valley Village - ECPv6.0.13//NONSGML v1.0//EN
CALSCALE:GREGORIAN
METHOD:PUBLISH
X-ORIGINAL-URL:https://mrvvillage.com
X-WR-CALDESC:Events for The Mad River Valley Village
REFRESH-INTERVAL;VALUE=DURATION:PT1H
X-Robots-Tag:noindex
X-PUBLISHED-TTL:PT1H
BEGIN:VTIMEZONE
TZID:America/New_York
BEGIN:DAYLIGHT
TZOFFSETFROM:-0500
TZOFFSETTO:-0400
TZNAME:EDT
DTSTART:20260308T070000
END:DAYLIGHT
BEGIN:STANDARD
TZOFFSETFROM:-0400
TZOFFSETTO:-0500
TZNAME:EST
DTSTART:20261101T060000
END:STANDARD
END:VTIMEZONE
BEGIN:VEVENT
DTSTART;TZID=America/New_York:20260112T150000
DTEND;TZID=America/New_York:20260216T163000
DTSTAMP:20260422T115906
CREATED:20260107T223914Z
LAST-MODIFIED:20260112T235335Z
UID:10009676-1768230000-1771259400@mrvvillage.com
SUMMARY:Winter Art Classes at Inklings!
DESCRIPTION:Starting Monday\, January 12th\, your young artists will begin a six week course. Focusing on three different artists\, students will have the chance to explore\, in depth\, three very different types of creating – from 2 dimensional to three dimensional art. \nStudents will receive a book about each artist. Following a read aloud\, children will jump into an art project based on the artist’s work. \nREC. Ages – Grades 4 – 6.\nONLY 11 SEATS AVAILABLE PER CLASS.\nPrice: $270 ($45 per class). Includes books and materials.
URL:https://mrvvillage.com/event/winter-art-classes-at-inklings/
LOCATION:Inklings Children’s Books\, 106 Mad River Greeen\, Waitsfield\, VT\, 05673\, United States
CATEGORIES:Arts & Entertainment,Family Friendly
ATTACH;FMTTYPE=image/jpeg:https://mrvvillage.com/wp-content/uploads/2026/01/Jan12ArtClass-MRV-4CRFQY.jpg
ORGANIZER;CN="Inklings%20Children%26%238217%3Bs%20Books":MAILTO:inklingschildrensbooks@gmail.com
GEO:44.1844899;-72.839037
X-APPLE-STRUCTURED-LOCATION;VALUE=URI;X-ADDRESS=Inklings Children’s Books 106 Mad River Greeen Waitsfield VT 05673 United States;X-APPLE-RADIUS=500;X-TITLE=106 Mad River Greeen:geo:-72.839037,44.1844899
END:VEVENT
END:VCALENDAR