BEGIN:VCALENDAR
VERSION:2.0
PRODID:-//The Mad River Valley Village - ECPv6.0.13//NONSGML v1.0//EN
CALSCALE:GREGORIAN
METHOD:PUBLISH
X-WR-CALNAME:The Mad River Valley Village
X-ORIGINAL-URL:https://mrvvillage.com
X-WR-CALDESC:Events for The Mad River Valley Village
REFRESH-INTERVAL;VALUE=DURATION:PT1H
X-Robots-Tag:noindex
X-PUBLISHED-TTL:PT1H
BEGIN:VTIMEZONE
TZID:UTC
BEGIN:STANDARD
TZOFFSETFROM:+0000
TZOFFSETTO:+0000
TZNAME:UTC
DTSTART:20230101T000000
END:STANDARD
TZID:America/New_York
BEGIN:DAYLIGHT
TZOFFSETFROM:-0500
TZOFFSETTO:-0400
TZNAME:EDT
DTSTART:20230312T070000
END:DAYLIGHT
BEGIN:STANDARD
TZOFFSETFROM:-0400
TZOFFSETTO:-0500
TZNAME:EST
DTSTART:20231105T060000
END:STANDARD
END:VTIMEZONE
BEGIN:VEVENT
DTSTART;TZID=UTC:20230604T160000
DTEND;TZID=UTC:20230608T090000
DTSTAMP:20260422T003743
CREATED:20230510T181159Z
LAST-MODIFIED:20230604T235314Z
UID:10003925-1685894400-1686214800@mrvvillage.com
SUMMARY:Furry Friends Market
DESCRIPTION:Come by the Pavilion this week between Sunday & Thursday to explore a large selection of home goods\, furniture and more. All proceeds will be donated to Carriacou Animal Hospital\, a volunteer & donated based veterinary service in Grenada. All items will have a recommended donation amount and payments can be made with cash or the provided QR code for credit card transactions. \nMORE INFO COMING SOON!
URL:https://mrvvillage.com/event/furry-friends-market/
LOCATION:Mad River Barn
CATEGORIES:Family Friendly,Public Welcome
GEO:44.195472;-72.8915611
END:VEVENT
BEGIN:VEVENT
DTSTART;TZID=America/New_York:20230606T130000
DTEND;TZID=America/New_York:20230606T170000
DTSTAMP:20260422T003743
CREATED:20230308T041312Z
LAST-MODIFIED:20230422T205810Z
UID:10003287-1686056400-1686070800@mrvvillage.com
SUMMARY:Reflections by ‘f7’ Photo Group
DESCRIPTION:March 22- April 27: Reflections by‘f7’ Photo Group \nReception: March 23\, 5-7pm \nArtist talk: March 23 \nOpen Tuesday-Saturday 1-5 pm
URL:https://mrvvillage.com/event/reflections-by-f7-photo-group-11/
LOCATION:Festival Gallery at Valley Arts\, 5031 Main Street\,\, Waitsfield\, 05673
CATEGORIES:Arts & Entertainment,Community,Family Friendly
ATTACH;FMTTYPE=image/jpeg:https://mrvvillage.com/wp-content/uploads/2023/01/PhotoShow-for-MRV-1-uybmQv.tmp_.jpg
ORGANIZER;CN="Mad%20River%20Valley%20Arts":MAILTO:director@madrivervalleyarts.org
GEO:44.1926386;-72.7798479
X-APPLE-STRUCTURED-LOCATION;VALUE=URI;X-ADDRESS=Festival Gallery at Valley Arts 5031 Main Street Waitsfield 05673;X-APPLE-RADIUS=500;X-TITLE=5031 Main Street\,:geo:-72.7798479,44.1926386
END:VEVENT
BEGIN:VEVENT
DTSTART;TZID=America/New_York:20230607T130000
DTEND;TZID=America/New_York:20230607T170000
DTSTAMP:20260422T003743
CREATED:20230309T044318Z
LAST-MODIFIED:20230422T205823Z
UID:10003290-1686142800-1686157200@mrvvillage.com
SUMMARY:Reflections by ‘f7’ Photo Group
DESCRIPTION:March 22- April 27: Reflections by‘f7’ Photo Group \nReception: March 23\, 5-7pm \nArtist talk: March 23 \nOpen Tuesday-Saturday 1-5 pm
URL:https://mrvvillage.com/event/reflections-by-f7-photo-group-12/
LOCATION:Festival Gallery at Valley Arts\, 5031 Main Street\,\, Waitsfield\, 05673
CATEGORIES:Arts & Entertainment,Community,Family Friendly
ATTACH;FMTTYPE=image/jpeg:https://mrvvillage.com/wp-content/uploads/2023/01/PhotoShow-for-MRV-1-uybmQv.tmp_.jpg
ORGANIZER;CN="Mad%20River%20Valley%20Arts":MAILTO:director@madrivervalleyarts.org
GEO:44.1926386;-72.7798479
X-APPLE-STRUCTURED-LOCATION;VALUE=URI;X-ADDRESS=Festival Gallery at Valley Arts 5031 Main Street Waitsfield 05673;X-APPLE-RADIUS=500;X-TITLE=5031 Main Street\,:geo:-72.7798479,44.1926386
END:VEVENT
BEGIN:VEVENT
DTSTART;TZID=UTC:20230607T170000
DTEND;TZID=UTC:20230607T210000
DTSTAMP:20260422T003743
CREATED:20230510T181215Z
LAST-MODIFIED:20230607T120819Z
UID:10003926-1686157200-1686171600@mrvvillage.com
SUMMARY:Pop-Up Pizza Night
DESCRIPTION:We’re breaking out the wood fired oven to wrap up our Furry Friends Market and kick off the 2023 Summer season. 10% of all F+B proceeds will be donated to Carriacou Animal Hospital. Menu & more info coming soon!
URL:https://mrvvillage.com/event/pop-up-pizza-night/
CATEGORIES:Dining,Family Friendly,Public Welcome
ATTACH;FMTTYPE=image/png:https://mrvvillage.com/wp-content/uploads/2023/05/Screen-Shot-2023-05-23-at-10.45.19-PM-Gw3QDR.tmp_.png
END:VEVENT
BEGIN:VEVENT
DTSTART;TZID=America/New_York:20230608T130000
DTEND;TZID=America/New_York:20230608T170000
DTSTAMP:20260422T003743
CREATED:20230310T051323Z
LAST-MODIFIED:20230422T205824Z
UID:10003292-1686229200-1686243600@mrvvillage.com
SUMMARY:Reflections by ‘f7’ Photo Group
DESCRIPTION:March 22- April 27: Reflections by‘f7’ Photo Group \nReception: March 23\, 5-7pm \nArtist talk: March 23 \nOpen Tuesday-Saturday 1-5 pm
URL:https://mrvvillage.com/event/reflections-by-f7-photo-group-13/
LOCATION:Festival Gallery at Valley Arts\, 5031 Main Street\,\, Waitsfield\, 05673
CATEGORIES:Arts & Entertainment,Community,Family Friendly
ATTACH;FMTTYPE=image/jpeg:https://mrvvillage.com/wp-content/uploads/2023/01/PhotoShow-for-MRV-1-uybmQv.tmp_.jpg
ORGANIZER;CN="Mad%20River%20Valley%20Arts":MAILTO:director@madrivervalleyarts.org
GEO:44.1926386;-72.7798479
X-APPLE-STRUCTURED-LOCATION;VALUE=URI;X-ADDRESS=Festival Gallery at Valley Arts 5031 Main Street Waitsfield 05673;X-APPLE-RADIUS=500;X-TITLE=5031 Main Street\,:geo:-72.7798479,44.1926386
END:VEVENT
BEGIN:VEVENT
DTSTART;TZID=UTC:20230608T170000
DTEND;TZID=UTC:20230608T210000
DTSTAMP:20260422T003743
CREATED:20230510T181230Z
LAST-MODIFIED:20230608T120819Z
UID:10003927-1686243600-1686258000@mrvvillage.com
SUMMARY:Pub Music Series: Al’s Pals
DESCRIPTION:Join us for live music\, food & drinks from 5:00-9:00pm. Music featuring Al’s Pals
URL:https://mrvvillage.com/event/pub-music-series-summer-kick-off/
LOCATION:Mad River Barn
CATEGORIES:Dining,Family Friendly,Live Music,Public Welcome
GEO:44.195472;-72.8915611
END:VEVENT
BEGIN:VEVENT
DTSTART;TZID=America/New_York:20230609T130000
DTEND;TZID=America/New_York:20230609T170000
DTSTAMP:20260422T003743
CREATED:20230311T054314Z
LAST-MODIFIED:20230422T205825Z
UID:10003295-1686315600-1686330000@mrvvillage.com
SUMMARY:Reflections by ‘f7’ Photo Group
DESCRIPTION:March 22- April 27: Reflections by‘f7’ Photo Group \nReception: March 23\, 5-7pm \nArtist talk: March 23 \nOpen Tuesday-Saturday 1-5 pm
URL:https://mrvvillage.com/event/reflections-by-f7-photo-group-14/
LOCATION:Festival Gallery at Valley Arts\, 5031 Main Street\,\, Waitsfield\, 05673
CATEGORIES:Arts & Entertainment,Community,Family Friendly
ATTACH;FMTTYPE=image/jpeg:https://mrvvillage.com/wp-content/uploads/2023/01/PhotoShow-for-MRV-1-uybmQv.tmp_.jpg
ORGANIZER;CN="Mad%20River%20Valley%20Arts":MAILTO:director@madrivervalleyarts.org
GEO:44.1926386;-72.7798479
X-APPLE-STRUCTURED-LOCATION;VALUE=URI;X-ADDRESS=Festival Gallery at Valley Arts 5031 Main Street Waitsfield 05673;X-APPLE-RADIUS=500;X-TITLE=5031 Main Street\,:geo:-72.7798479,44.1926386
END:VEVENT
BEGIN:VEVENT
DTSTART;TZID=America/New_York:20230609T170000
DTEND;TZID=America/New_York:20230609T200000
DTSTAMP:20260422T003743
CREATED:20230520T204030Z
LAST-MODIFIED:20230609T122348Z
UID:10003982-1686330000-1686340800@mrvvillage.com
SUMMARY:The Medicine Tribe play the Free Concert on the Green!
DESCRIPTION:Join us as we welcome The Medicine Tribe back to the Green!. You will love this trio playing the perfect blend of traditional Americana and soulful blues. Doors at 5pm\, band begins at 5:30pm.
URL:https://mrvvillage.com/event/the-medicine-tribe-play-the-free-concert-on-the-green/
LOCATION:Camp Meade\, 961 ROUTE 2\, middlesex\, 05602
CATEGORIES:Arts & Entertainment,Family Friendly,Food & Drink
ATTACH;FMTTYPE=image/jpeg:https://mrvvillage.com/wp-content/uploads/2023/05/Medicine-Tribe-TUlesh.tmp_.jpg
ORGANIZER;CN="Camp%20Meade":MAILTO:info@campmeade.today
GEO:44.2412437;-72.5366148
X-APPLE-STRUCTURED-LOCATION;VALUE=URI;X-ADDRESS=Camp Meade 961 ROUTE 2 middlesex 05602;X-APPLE-RADIUS=500;X-TITLE=961 ROUTE 2:geo:-72.5366148,44.2412437
END:VEVENT
BEGIN:VEVENT
DTSTART;TZID=America/New_York:20230610T090000
DTEND;TZID=America/New_York:20230610T130000
DTSTAMP:20260422T003743
CREATED:20230425T214240Z
LAST-MODIFIED:20230610T123825Z
UID:10003711-1686387600-1686402000@mrvvillage.com
SUMMARY:Waitsfield Farmers Market
DESCRIPTION:Welcome to the Waitsfield Farmer’s Market.  We’re a unique collective of Vermont farmers\, makers\, bakers\, and shakers in the heart of the Mad River Valley. \nLocal produce\, plant starts\, fruit trees\, bushes\, maple\, honey\, flowers\, seedlings\, eggs\, meats\, cheeses\, fish\, crafts\, art\, clothes\, bread\, baked goods\, liquors\, and prepared foods all by Vermonters. \nEstablished in 1993\, the Waitsfield Farmer’s Market for decades has been a meeting place for those who appreciate Vermont farmers and artisans. Our market vendors are a carefully curated group of local Vermont businesses who provide the highest quality products to market. Every Saturday\, rain or shine\, May-October\, you’ll find us on the green! \nEvery Saturday\, Rain or Shine from 9 am to 1 pm\nMay 13th – October 14th\, 2023 \nOur market can be found on the Mad River Green in Waitsfield\, Vermont.
URL:https://mrvvillage.com/event/waitsfield-farmers-market-5/
LOCATION:Mad River Green\, 105 Mad River Green\, Waitsfield\, VT\, 05673\, United States
CATEGORIES:Arts & Entertainment,Community,Family Friendly,Food & Drink
ATTACH;FMTTYPE=image/png:https://mrvvillage.com/wp-content/uploads/2023/04/WFM_Brand_Logos-02-DmdRr1.tmp_.png
ORGANIZER;CN="Waitsfield%20Farmer%26%238217%3Bs%20Market":MAILTO:waitsfieldmarketmanager@gmail.com
GEO:44.183836;-72.8388576
X-APPLE-STRUCTURED-LOCATION;VALUE=URI;X-ADDRESS=Mad River Green 105 Mad River Green Waitsfield VT 05673 United States;X-APPLE-RADIUS=500;X-TITLE=105 Mad River Green:geo:-72.8388576,44.183836
END:VEVENT
BEGIN:VEVENT
DTSTART;TZID=America/New_York:20230610T130000
DTEND;TZID=America/New_York:20230610T170000
DTSTAMP:20260422T003743
CREATED:20230312T061326Z
LAST-MODIFIED:20230422T205839Z
UID:10003299-1686402000-1686416400@mrvvillage.com
SUMMARY:Reflections by ‘f7’ Photo Group
DESCRIPTION:March 22- April 27: Reflections by‘f7’ Photo Group \nReception: March 23\, 5-7pm \nArtist talk: March 23 \nOpen Tuesday-Saturday 1-5 pm
URL:https://mrvvillage.com/event/reflections-by-f7-photo-group-15/
LOCATION:Festival Gallery at Valley Arts\, 5031 Main Street\,\, Waitsfield\, 05673
CATEGORIES:Arts & Entertainment,Community,Family Friendly
ATTACH;FMTTYPE=image/jpeg:https://mrvvillage.com/wp-content/uploads/2023/01/PhotoShow-for-MRV-1-uybmQv.tmp_.jpg
ORGANIZER;CN="Mad%20River%20Valley%20Arts":MAILTO:director@madrivervalleyarts.org
GEO:44.1926386;-72.7798479
X-APPLE-STRUCTURED-LOCATION;VALUE=URI;X-ADDRESS=Festival Gallery at Valley Arts 5031 Main Street Waitsfield 05673;X-APPLE-RADIUS=500;X-TITLE=5031 Main Street\,:geo:-72.7798479,44.1926386
END:VEVENT
BEGIN:VEVENT
DTSTART;TZID=America/New_York:20230611T170000
DTEND;TZID=America/New_York:20230611T200000
DTSTAMP:20260422T003743
CREATED:20230520T204050Z
LAST-MODIFIED:20230611T123920Z
UID:10003983-1686502800-1686513600@mrvvillage.com
SUMMARY:Craigen play at our Free Concert on the Green!
DESCRIPTION:Join us as Craig Mitchell and Matt Hagen acoustically arrange Prince and a variety of soul music using the spirit of improvisation to guide them. Your ears will smile! Doors at 5pm\, band begins at 5:30pm.
URL:https://mrvvillage.com/event/craigen-play-at-our-free-concert-on-the-green/
LOCATION:Camp Meade\, 961 ROUTE 2\, middlesex\, 05602
CATEGORIES:Arts & Entertainment,Community,Family Friendly
ATTACH;FMTTYPE=image/jpeg:https://mrvvillage.com/wp-content/uploads/2023/05/Craigen-yclpA3.tmp_.jpg
ORGANIZER;CN="Camp%20Meade":MAILTO:info@campmeade.today
GEO:44.2412437;-72.5366148
X-APPLE-STRUCTURED-LOCATION;VALUE=URI;X-ADDRESS=Camp Meade 961 ROUTE 2 middlesex 05602;X-APPLE-RADIUS=500;X-TITLE=961 ROUTE 2:geo:-72.5366148,44.2412437
END:VEVENT
END:VCALENDAR