BEGIN:VCALENDAR
VERSION:2.0
PRODID:-//The Mad River Valley Village - ECPv6.0.13//NONSGML v1.0//EN
CALSCALE:GREGORIAN
METHOD:PUBLISH
X-WR-CALNAME:The Mad River Valley Village
X-ORIGINAL-URL:https://mrvvillage.com
X-WR-CALDESC:Events for The Mad River Valley Village
REFRESH-INTERVAL;VALUE=DURATION:PT1H
X-Robots-Tag:noindex
X-PUBLISHED-TTL:PT1H
BEGIN:VTIMEZONE
TZID:America/New_York
BEGIN:DAYLIGHT
TZOFFSETFROM:-0500
TZOFFSETTO:-0400
TZNAME:EDT
DTSTART:20230312T070000
END:DAYLIGHT
BEGIN:STANDARD
TZOFFSETFROM:-0400
TZOFFSETTO:-0500
TZNAME:EST
DTSTART:20231105T060000
END:STANDARD
END:VTIMEZONE
BEGIN:VEVENT
DTSTART;TZID=America/New_York:20230626T163000
DTEND;TZID=America/New_York:20230626T173000
DTSTAMP:20260422T180843
CREATED:20230510T011412Z
LAST-MODIFIED:20230626T182315Z
UID:10003916-1687797000-1687800600@mrvvillage.com
SUMMARY:Clowning Around – Structured Silliness for 3.5-4 Year olds
DESCRIPTION:Structured silliness! Led by Kolleen & Bobby Kintz\, this class  for kids ages 3.5-4 years old will explore creative movement\, comedic expression and ensemble creation. Campers will play games\, move their bodies\, make music and find their funny. Students will share some of what they’ve learned at a showing for parents during the final class. This class will be a drop-off class; however\, there is a shared room in our space where parents can be close by and in sight\, if that is more comfortable for your child.\n\nPlease complete one form for each child who will be attending class.  We will send additional information about class procedures as we get closer to June 19th. Don’t hesitate to call Kolleen at 802-377-1742 or email kolleenkintz@gmail.com with any questions.\n\n\nKolleen Kintz attended Dell’Arte International School of Physical Theatre in 2010. Starting in 2011\, she and Bobby began training with Dody Disanto at The Center for Movement Theatre in Washington DC. They have performed with the DC Fringe Festival\, Zip Zap Circus and regularly at Clown Cabaret. In 2014\, the duo traveled to Haiti to volunteer with Clowns Without Borders and performed for over 5000 children. Kolleen later became a hospital clown for Healthy Humor and made rounds as Dr. Pickle at Johns Hopkins for 6 years.\n\nKolleen & Bobby Kintz have been teaching artists since 2013. Beginning their journey with the instruction of 3 & 4 year olds\, in Del Ray\, VA. Later developing their own circus camp for ages 5-13\, which ran in Baltimore at Morgan State University for 5 years. More recently\, the journey has been parenthood! It is very exciting to be offering this class to the community\, in our new hometown of Waitsfield.
URL:https://mrvvillage.com/event/clowning-around-structured-silliness-for-3-5-4-year-olds-2/
LOCATION:Waitsfield United Church of Christ Village Meeting House\, 4335 Main St\, Waitsfield\, VT\, 05673\, United States
CATEGORIES:Arts & Entertainment,Community,Family Friendly
ATTACH;FMTTYPE=image/png:https://mrvvillage.com/wp-content/uploads/2023/05/Screen-Shot-2023-05-09-at-2.15.53-PM-peOUJx.tmp_.png
ORGANIZER;CN="Kolleen%20and%20Bobby%20Kintz":MAILTO:photosbykintz@gmail.com
GEO:44.1904984;-72.8233656
X-APPLE-STRUCTURED-LOCATION;VALUE=URI;X-ADDRESS=Waitsfield United Church of Christ Village Meeting House 4335 Main St Waitsfield VT 05673 United States;X-APPLE-RADIUS=500;X-TITLE=4335 Main St:geo:-72.8233656,44.1904984
END:VEVENT
BEGIN:VEVENT
DTSTART;TZID=America/New_York:20230627T130000
DTEND;TZID=America/New_York:20230627T170000
DTSTAMP:20260422T180843
CREATED:20230329T105932Z
LAST-MODIFIED:20230422T205954Z
UID:10003426-1687870800-1687885200@mrvvillage.com
SUMMARY:Reflections by ‘f7’ Photo Group
DESCRIPTION:March 22- April 27: Reflections by‘f7’ Photo Group \nReception: March 23\, 5-7pm \nArtist talk: March 23 \nOpen Tuesday-Saturday 1-5 pm
URL:https://mrvvillage.com/event/reflections-by-f7-photo-group-26/
LOCATION:Festival Gallery at Valley Arts\, 5031 Main Street\,\, Waitsfield\, 05673
CATEGORIES:Arts & Entertainment,Community,Family Friendly
ATTACH;FMTTYPE=image/jpeg:https://mrvvillage.com/wp-content/uploads/2023/01/PhotoShow-for-MRV-1-uybmQv.tmp_.jpg
ORGANIZER;CN="Mad%20River%20Valley%20Arts":MAILTO:director@madrivervalleyarts.org
GEO:44.1926386;-72.7798479
X-APPLE-STRUCTURED-LOCATION;VALUE=URI;X-ADDRESS=Festival Gallery at Valley Arts 5031 Main Street Waitsfield 05673;X-APPLE-RADIUS=500;X-TITLE=5031 Main Street\,:geo:-72.7798479,44.1926386
END:VEVENT
BEGIN:VEVENT
DTSTART;TZID=America/New_York:20230628T130000
DTEND;TZID=America/New_York:20230628T170000
DTSTAMP:20260422T180843
CREATED:20230330T111432Z
LAST-MODIFIED:20230422T210009Z
UID:10003429-1687957200-1687971600@mrvvillage.com
SUMMARY:Reflections by ‘f7’ Photo Group
DESCRIPTION:March 22- April 27: Reflections by‘f7’ Photo Group \nReception: March 23\, 5-7pm \nArtist talk: March 23 \nOpen Tuesday-Saturday 1-5 pm
URL:https://mrvvillage.com/event/reflections-by-f7-photo-group-27/
LOCATION:Festival Gallery at Valley Arts\, 5031 Main Street\,\, Waitsfield\, 05673
CATEGORIES:Arts & Entertainment,Community,Family Friendly
ATTACH;FMTTYPE=image/jpeg:https://mrvvillage.com/wp-content/uploads/2023/01/PhotoShow-for-MRV-1-uybmQv.tmp_.jpg
ORGANIZER;CN="Mad%20River%20Valley%20Arts":MAILTO:director@madrivervalleyarts.org
GEO:44.1926386;-72.7798479
X-APPLE-STRUCTURED-LOCATION;VALUE=URI;X-ADDRESS=Festival Gallery at Valley Arts 5031 Main Street Waitsfield 05673;X-APPLE-RADIUS=500;X-TITLE=5031 Main Street\,:geo:-72.7798479,44.1926386
END:VEVENT
BEGIN:VEVENT
DTSTART;TZID=America/New_York:20230629T130000
DTEND;TZID=America/New_York:20230629T170000
DTSTAMP:20260422T180843
CREATED:20230331T112932Z
LAST-MODIFIED:20230422T210009Z
UID:10003431-1688043600-1688058000@mrvvillage.com
SUMMARY:Reflections by ‘f7’ Photo Group
DESCRIPTION:March 22- April 27: Reflections by‘f7’ Photo Group \nReception: March 23\, 5-7pm \nArtist talk: March 23 \nOpen Tuesday-Saturday 1-5 pm
URL:https://mrvvillage.com/event/reflections-by-f7-photo-group-28/
LOCATION:Festival Gallery at Valley Arts\, 5031 Main Street\,\, Waitsfield\, 05673
CATEGORIES:Arts & Entertainment,Community,Family Friendly
ATTACH;FMTTYPE=image/jpeg:https://mrvvillage.com/wp-content/uploads/2023/01/PhotoShow-for-MRV-1-uybmQv.tmp_.jpg
ORGANIZER;CN="Mad%20River%20Valley%20Arts":MAILTO:director@madrivervalleyarts.org
GEO:44.1926386;-72.7798479
X-APPLE-STRUCTURED-LOCATION;VALUE=URI;X-ADDRESS=Festival Gallery at Valley Arts 5031 Main Street Waitsfield 05673;X-APPLE-RADIUS=500;X-TITLE=5031 Main Street\,:geo:-72.7798479,44.1926386
END:VEVENT
BEGIN:VEVENT
DTSTART;TZID=America/New_York:20230629T193000
DTEND;TZID=America/New_York:20230629T213000
DTSTAMP:20260422T180843
CREATED:20230620T095418Z
LAST-MODIFIED:20230629T190819Z
UID:10004137-1688067000-1688074200@mrvvillage.com
SUMMARY:Willy Wonka at the Valley Players
DESCRIPTION:Roald Dahl’s Willy Wonka follows enigmatic candy manufacturer Willy Wonka as he stages a contest by hiding golden tickets in five of his scrumptious candy bars. Whomever comes up with these tickets will win a free tour of the Wonka factory\, as well as a lifetime supply of candy. Four of the five winning children are insufferable brats: the fifth is a likeable young lad named Charlie Bucket\, who takes the tour in the company of his equally amiable grandfather. The children must learn to follow Mr. Wonka’s rules in the factory… or suffer the consequences. Featuring the enchanting songs from the 1971 film starring Gene Wilder and new songs by Leslie Bricusse (Jekyll & Hyde\, Doctor Dolittle) and Anthony Newley\, Roald Dahl’s Willy Wonka is a musical guaranteed to delight everyone’s sweet tooth. \nMusic and lyrics by Leslie Bricusse and Anthony Newly\nAdapted for the stage by Leslie Bricusse and Timothy Allen McDonaldBased on the book “Charlie and the Chocolate Factory” by Roald Dahl \n​\nCAST:Willy Wonka – Wes Olds (Graniteville)Charlie Bucket – Zane Demarais (Websterville)The Candy Man/Phineous Trout\, reporter – Ashley Hall (Warren)Augustus Gloop – Jane Schaefer (Waitsfield)Mrs. Gloop – Carrie Phillips (Waterbury)Veruca Salt – Camille Edgcomb (Warren)Mr. Salt – Jordan Streeter (Montpelier)Violet Beauregarde – Naomi Niewiadomski (Waitsfield)Mrs. Beauregarde – Charlotte Robinson (Warren)Mike Teavee – Tarin Askew (Warren) andMrs. Teavee – Stefanie Seng (Waterbury)Grandpa Joe – Clem Turmel (Milton)Mr. Bucket – Matt Bellew (St. Albans)Mrs. Bucket – Cassandra Demarais (Websterville)Grandma Josephine – Joanne Puente (Worcester)Grandma Georgina – Marci Robinson (Warren)Grandpa George – Joe Robinson (Warren)Oompa Loompas – Tommy O’Grady (Waitsfield)\, Sunny Randall (Moretown)\, Ava Robinson (Warren)\, and Elizabeth Treacy (Fayston) \n​ \nNEW! Buy a Shout-Out to a members of the cast or crew!\nYour message of up to 20 words will appear in the playbill insert for each show.\nDonation of $10 goes to support the show and more famnily friendly theater at the Valley Players!
URL:https://mrvvillage.com/event/willy-wonka-at-the-valley-players/
LOCATION:Valley Players Theater\, 4254 Main Street\, Route 100\, Waitsfield\, VT\, 05673\, United States
CATEGORIES:Arts & Entertainment,Community,Family Friendly
ATTACH;FMTTYPE=image/png:https://mrvvillage.com/wp-content/uploads/2023/06/Screen-Shot-2023-06-19-at-10.29.13-AM-3uGrzS.tmp_.png
GEO:44.2017815;-72.8121321
X-APPLE-STRUCTURED-LOCATION;VALUE=URI;X-ADDRESS=Valley Players Theater 4254 Main Street Route 100 Waitsfield VT 05673 United States;X-APPLE-RADIUS=500;X-TITLE=4254 Main Street\, Route 100:geo:-72.8121321,44.2017815
END:VEVENT
BEGIN:VEVENT
DTSTART;TZID=America/New_York:20230630T130000
DTEND;TZID=America/New_York:20230630T170000
DTSTAMP:20260422T180843
CREATED:20230401T114435Z
LAST-MODIFIED:20230422T210024Z
UID:10003435-1688130000-1688144400@mrvvillage.com
SUMMARY:Reflections by ‘f7’ Photo Group
DESCRIPTION:March 22- April 27: Reflections by‘f7’ Photo Group \nReception: March 23\, 5-7pm \nArtist talk: March 23 \nOpen Tuesday-Saturday 1-5 pm
URL:https://mrvvillage.com/event/reflections-by-f7-photo-group-29/
LOCATION:Festival Gallery at Valley Arts\, 5031 Main Street\,\, Waitsfield\, 05673
CATEGORIES:Arts & Entertainment,Community,Family Friendly
ATTACH;FMTTYPE=image/jpeg:https://mrvvillage.com/wp-content/uploads/2023/01/PhotoShow-for-MRV-1-uybmQv.tmp_.jpg
ORGANIZER;CN="Mad%20River%20Valley%20Arts":MAILTO:director@madrivervalleyarts.org
GEO:44.1926386;-72.7798479
X-APPLE-STRUCTURED-LOCATION;VALUE=URI;X-ADDRESS=Festival Gallery at Valley Arts 5031 Main Street Waitsfield 05673;X-APPLE-RADIUS=500;X-TITLE=5031 Main Street\,:geo:-72.7798479,44.1926386
END:VEVENT
BEGIN:VEVENT
DTSTART;TZID=America/New_York:20230630T193000
DTEND;TZID=America/New_York:20230630T213000
DTSTAMP:20260422T180843
CREATED:20230620T095420Z
LAST-MODIFIED:20230630T192318Z
UID:10004138-1688153400-1688160600@mrvvillage.com
SUMMARY:Willy Wonka at the Valley Players
DESCRIPTION:Roald Dahl’s Willy Wonka follows enigmatic candy manufacturer Willy Wonka as he stages a contest by hiding golden tickets in five of his scrumptious candy bars. Whomever comes up with these tickets will win a free tour of the Wonka factory\, as well as a lifetime supply of candy. Four of the five winning children are insufferable brats: the fifth is a likeable young lad named Charlie Bucket\, who takes the tour in the company of his equally amiable grandfather. The children must learn to follow Mr. Wonka’s rules in the factory… or suffer the consequences. Featuring the enchanting songs from the 1971 film starring Gene Wilder and new songs by Leslie Bricusse (Jekyll & Hyde\, Doctor Dolittle) and Anthony Newley\, Roald Dahl’s Willy Wonka is a musical guaranteed to delight everyone’s sweet tooth. \nMusic and lyrics by Leslie Bricusse and Anthony Newly\nAdapted for the stage by Leslie Bricusse and Timothy Allen McDonaldBased on the book “Charlie and the Chocolate Factory” by Roald Dahl \n​\nCAST:Willy Wonka – Wes Olds (Graniteville)Charlie Bucket – Zane Demarais (Websterville)The Candy Man/Phineous Trout\, reporter – Ashley Hall (Warren)Augustus Gloop – Jane Schaefer (Waitsfield)Mrs. Gloop – Carrie Phillips (Waterbury)Veruca Salt – Camille Edgcomb (Warren)Mr. Salt – Jordan Streeter (Montpelier)Violet Beauregarde – Naomi Niewiadomski (Waitsfield)Mrs. Beauregarde – Charlotte Robinson (Warren)Mike Teavee – Tarin Askew (Warren) andMrs. Teavee – Stefanie Seng (Waterbury)Grandpa Joe – Clem Turmel (Milton)Mr. Bucket – Matt Bellew (St. Albans)Mrs. Bucket – Cassandra Demarais (Websterville)Grandma Josephine – Joanne Puente (Worcester)Grandma Georgina – Marci Robinson (Warren)Grandpa George – Joe Robinson (Warren)Oompa Loompas – Tommy O’Grady (Waitsfield)\, Sunny Randall (Moretown)\, Ava Robinson (Warren)\, and Elizabeth Treacy (Fayston) \n​ \nNEW! Buy a Shout-Out to a members of the cast or crew!\nYour message of up to 20 words will appear in the playbill insert for each show.\nDonation of $10 goes to support the show and more famnily friendly theater at the Valley Players!
URL:https://mrvvillage.com/event/willy-wonka-at-the-valley-players-2/
LOCATION:Valley Players Theater\, 4254 Main Street\, Route 100\, Waitsfield\, VT\, 05673\, United States
CATEGORIES:Arts & Entertainment,Community,Family Friendly
ATTACH;FMTTYPE=image/png:https://mrvvillage.com/wp-content/uploads/2023/06/Screen-Shot-2023-06-19-at-10.29.13-AM-3uGrzS.tmp_.png
GEO:44.2017815;-72.8121321
X-APPLE-STRUCTURED-LOCATION;VALUE=URI;X-ADDRESS=Valley Players Theater 4254 Main Street Route 100 Waitsfield VT 05673 United States;X-APPLE-RADIUS=500;X-TITLE=4254 Main Street\, Route 100:geo:-72.8121321,44.2017815
END:VEVENT
BEGIN:VEVENT
DTSTART;TZID=America/New_York:20230701T000000
DTEND;TZID=America/New_York:20230704T235959
DTSTAMP:20260422T180843
CREATED:20230621T143920Z
LAST-MODIFIED:20230701T193814Z
UID:10004157-1688169600-1688515199@mrvvillage.com
SUMMARY:4th of July Weekend at Sugarbush Resort
DESCRIPTION:Unanimously voted the #1 Fourth of July Parade by everyone on the planet\, the Warren Parade offers an ever-evolving\, engaging and (often/sometimes) humorous take on our independence. You’ll want to be in Warren Village before 10 AM on the 4th to grab a spot along the route\, but don’t wait until Tuesday to enjoy the festivities. We’ve got an entire weekend of fun for you with four days of live music\, lift rides\, swimming holes\, parties\, fireworks\, and even a snow gun waterfall. (You’ll have to come up to Lincoln Peak so see what that is.) Checkout the schedule below. \nParade Shuttle Bus Schedule: School buses will begin running from Lincoln Peak to Warren Village at 8am. Lincoln Peak pick up is at the bus stops in front of Clay Brook Hotel. Take the earlier buses as it gets more crowded as the clock nears 10am (parade kick off). The bus stop in Warren Village is at the top of Covered Bridge Road. Buses will run throughout the day between Lincoln Peak and Warren Village with the final return trip to Lincoln Peak at 4pm. Sorry\, no dogs\, except service dogs\, allowed on the buses. \nJoin PAWSitive Pantry at their annual 4th of July Pet Parade and show off your pet in their best costume. We will have fun games\, giveaways\, and prizes. There is a $10 registration donation which will be due before you attend the event. For those that can’t attend the event in person\, PAWSitive Pantry is partnering with GO GO Pet Photo and you can submit your best photo and our community will vote on the winning pictures. To register please reach out to stacy@pawsitivepantry.org or call 978-239-2090 for more information. Learn more…. \nSCHEDULE OF EVENTS\n \nJULY 1 SATURDAY \n10:00 AM-5:00pm Mountain Activities\, including Scenic Lift Rides\, Downhill Mountain Biking\, Disc Golf\, Euro Bungee\, Cornhole\, and Courtyard Games \n11:00 AM – 3:00 PM Sunflower Daydream (Plant Your Own Sunflower Seeds) – Lincoln Peak Courtyard \n11:00 AM – 3:00 PM Rubber Ducky Drop- Super Bravo Express Quad \n11:00 AM – 4:00 PM Tie Dye t-shirts on the lawn at the base of Gate House Express Quad \n11:00 AM – 3:00 PM Mini Golf \n1:00 PM – 3:00 PM Snow gun waterfall and water balloons on the grass behind Gate House Lodge \n2:00 PM – 4:00 PM Face Painting Lincoln Peak Courtyard \nLIve Music in the Lincoln Peak Courtyard \n12:00 PM-3:00 PM DJ Chris Logan \n3:00 PM-5:00 PM The Party Crashers \n5:00 PM-9:00 PM The Spiders\n \n \nJULY 2 SUNDAY \n10:00 AM- 5:00PM Mountain Activities\, including Scenic Lift Rides\, Downhill Mountain Biking\, Disc Golf\, Euro Bungee\, Cornhole\, and Courtyard Games \n11:00 AM – 3:00 PM Sunflower Daydream (Plant Your Own Sunflower Seeds) Lincoln Peak Courtyard \n11:00 AM – 3:00 PM Rubber Ducky Drop Super Bravo Express Quad \n11:00 AM – 4:00 PM Tie Dye t-shirts on the lawn at the base of Gate House Express Quad \n11:00 AM – 3:00 PM Mini Golf \n1:00 PM – 3:00 PM Snow gun waterfall and water balloons on the grass behind Gate House Lodge \n2:00 PM – 4:00 PM Face Painting Lincoln Peak Courtyard \nLIve Music in the Lincoln Peak Courtyard \n12:00 PM-3:00 PM DJ Chris Logan \n3:00 PM-6:00 PM band Kip and Coe \n6:00 PM-9:00 PM The Grift\n \n \nJULY 3 MONDAY \n10:00 AM- 5:00PM Mountain Activities\, including Scenic Lift Rides\, Downhill Mountain Biking\, Disc Golf\, Euro Bungee\, Cornhole\, and Courtyard Games \n11:00 AM – 3:00 PM Sunflower Daydream Lincoln Peak Courtyard \n11:00 AM – 3:00 PM Rubber Ducky Drop Super Bravo Express Quad \n11:00 AM – 4:00 PM Tie Dye t-shirts on the lawn at the base of Gate House Express Quad \n11:00 AM – 3:00 PM Mini Golf \n1:00 PM – 3:00 PM Snow gun waterfall and water balloons on the grass behind Gate House Lodge \n2:00 PM – 4:00 PM Face Painting \nLIve Music in the Lincoln Peak Courtyard \n12:00 PM – 2:00 PM DJ Chris Logan \n2:00 PM- 5:00PM Guitfiddle \n5:00PM-9:00PM Al’s Pals \n \nJULY 4 TUESDAY \n10:00 AM- 5:00PM Mountain Activities\, including Scenic Lift Rides\, Downhill Mountain Biking\, Disc Golf\, Euro Bungee\, Cornhole\, and Courtyard Games \n12:00 AM – 3:00 PM Sunflower Daydream Lincoln Peak Courtyard \n12:00 AM – 3:00 PM Rubber Ducky Drop Super Bravo Express Quad \n12:00 AM – 4:00 PM Tie Dye t-shirts on the lawn at the base of Gate House Express Quad \n12:00 AM – 3:00 PM Mini Golf \n1:00 PM – 3:00 PM Snow gun waterfall and water balloons on the grass behind Gate House Lodge \n2:00 PM – 4:00 PM Face Painting Lincoln Peak Courtyard \n2:00 PM – 3:00 PM Dog Parade and Gogo pet contest a benefit for PAWSITIVE PANTRY \nLIve Music in the Lincoln Peak Courtyard \n12:00 PM – 3:00 PM DJ Chris Logan \n3:00 M – 6:00 PM Quasi Kings \n6:00 PM – 9:00 PM The Detonators \n9:00 PM Fireworks
URL:https://mrvvillage.com/event/4th-of-july-weekend-at-sugarbush-resort/
LOCATION:Sugarbush Resort\, 102 Forest Drive Warren\, VT 05674\, Warren\, 05674
CATEGORIES:Arts & Entertainment,Community,Dining,Family Friendly,Food & Drink,Sugarbush
ATTACH;FMTTYPE=image/jpeg:https://mrvvillage.com/wp-content/uploads/2023/06/2019-07-04-JA-sugarbush-141-DaAtyO.tmp_.jpg
GEO:44.1272818;-72.9284492
X-APPLE-STRUCTURED-LOCATION;VALUE=URI;X-ADDRESS=Sugarbush Resort 102 Forest Drive Warren VT 05674 Warren 05674;X-APPLE-RADIUS=500;X-TITLE=102 Forest Drive Warren\, VT 05674:geo:-72.9284492,44.1272818
END:VEVENT
BEGIN:VEVENT
DTSTART;TZID=America/New_York:20230701T090000
DTEND;TZID=America/New_York:20230701T130000
DTSTAMP:20260422T180843
CREATED:20230425T214409Z
LAST-MODIFIED:20230614T132453Z
UID:10003714-1688202000-1688216400@mrvvillage.com
SUMMARY:Waitsfield Farmers Market
DESCRIPTION:Welcome to the Waitsfield Farmer’s Market.  We’re a unique collective of Vermont farmers\, makers\, bakers\, and shakers in the heart of the Mad River Valley. \nLocal produce\, plant starts\, fruit trees\, bushes\, maple\, honey\, flowers\, seedlings\, eggs\, meats\, cheeses\, fish\, crafts\, art\, clothes\, bread\, baked goods\, liquors\, and prepared foods all by Vermonters. \nEstablished in 1993\, the Waitsfield Farmer’s Market for decades has been a meeting place for those who appreciate Vermont farmers and artisans. Our market vendors are a carefully curated group of local Vermont businesses who provide the highest quality products to market. Every Saturday\, rain or shine\, May-October\, you’ll find us on the green! \nEvery Saturday\, Rain or Shine from 9 am to 1 pm\nMay 13th – October 14th\, 2023 \nOur market can be found on the Mad River Green in Waitsfield\, Vermont.
URL:https://mrvvillage.com/event/waitsfield-farmers-market-8/
LOCATION:Mad River Green\, 105 Mad River Green\, Waitsfield\, VT\, 05673\, United States
CATEGORIES:Arts & Entertainment,Community,Family Friendly,Food & Drink
ATTACH;FMTTYPE=image/png:https://mrvvillage.com/wp-content/uploads/2023/04/WFM_Brand_Logos-02-DmdRr1.tmp_.png
ORGANIZER;CN="Waitsfield%20Farmer%26%238217%3Bs%20Market":MAILTO:waitsfieldmarketmanager@gmail.com
GEO:44.183836;-72.8388576
X-APPLE-STRUCTURED-LOCATION;VALUE=URI;X-ADDRESS=Mad River Green 105 Mad River Green Waitsfield VT 05673 United States;X-APPLE-RADIUS=500;X-TITLE=105 Mad River Green:geo:-72.8388576,44.183836
END:VEVENT
BEGIN:VEVENT
DTSTART;TZID=America/New_York:20230701T130000
DTEND;TZID=America/New_York:20230701T170000
DTSTAMP:20260422T180843
CREATED:20230402T115945Z
LAST-MODIFIED:20230422T210024Z
UID:10003437-1688216400-1688230800@mrvvillage.com
SUMMARY:Reflections by ‘f7’ Photo Group
DESCRIPTION:March 22- April 27: Reflections by‘f7’ Photo Group \nReception: March 23\, 5-7pm \nArtist talk: March 23 \nOpen Tuesday-Saturday 1-5 pm
URL:https://mrvvillage.com/event/reflections-by-f7-photo-group-30/
LOCATION:Festival Gallery at Valley Arts\, 5031 Main Street\,\, Waitsfield\, 05673
CATEGORIES:Arts & Entertainment,Community,Family Friendly
ATTACH;FMTTYPE=image/jpeg:https://mrvvillage.com/wp-content/uploads/2023/01/PhotoShow-for-MRV-1-uybmQv.tmp_.jpg
ORGANIZER;CN="Mad%20River%20Valley%20Arts":MAILTO:director@madrivervalleyarts.org
GEO:44.1926386;-72.7798479
X-APPLE-STRUCTURED-LOCATION;VALUE=URI;X-ADDRESS=Festival Gallery at Valley Arts 5031 Main Street Waitsfield 05673;X-APPLE-RADIUS=500;X-TITLE=5031 Main Street\,:geo:-72.7798479,44.1926386
END:VEVENT
BEGIN:VEVENT
DTSTART;TZID=America/New_York:20230701T193000
DTEND;TZID=America/New_York:20230701T213000
DTSTAMP:20260422T180843
CREATED:20230620T095421Z
LAST-MODIFIED:20230701T193814Z
UID:10004139-1688239800-1688247000@mrvvillage.com
SUMMARY:Willy Wonka at the Valley Players
DESCRIPTION:Roald Dahl’s Willy Wonka follows enigmatic candy manufacturer Willy Wonka as he stages a contest by hiding golden tickets in five of his scrumptious candy bars. Whomever comes up with these tickets will win a free tour of the Wonka factory\, as well as a lifetime supply of candy. Four of the five winning children are insufferable brats: the fifth is a likeable young lad named Charlie Bucket\, who takes the tour in the company of his equally amiable grandfather. The children must learn to follow Mr. Wonka’s rules in the factory… or suffer the consequences. Featuring the enchanting songs from the 1971 film starring Gene Wilder and new songs by Leslie Bricusse (Jekyll & Hyde\, Doctor Dolittle) and Anthony Newley\, Roald Dahl’s Willy Wonka is a musical guaranteed to delight everyone’s sweet tooth. \nMusic and lyrics by Leslie Bricusse and Anthony Newly\nAdapted for the stage by Leslie Bricusse and Timothy Allen McDonaldBased on the book “Charlie and the Chocolate Factory” by Roald Dahl \n​\nCAST:Willy Wonka – Wes Olds (Graniteville)Charlie Bucket – Zane Demarais (Websterville)The Candy Man/Phineous Trout\, reporter – Ashley Hall (Warren)Augustus Gloop – Jane Schaefer (Waitsfield)Mrs. Gloop – Carrie Phillips (Waterbury)Veruca Salt – Camille Edgcomb (Warren)Mr. Salt – Jordan Streeter (Montpelier)Violet Beauregarde – Naomi Niewiadomski (Waitsfield)Mrs. Beauregarde – Charlotte Robinson (Warren)Mike Teavee – Tarin Askew (Warren) andMrs. Teavee – Stefanie Seng (Waterbury)Grandpa Joe – Clem Turmel (Milton)Mr. Bucket – Matt Bellew (St. Albans)Mrs. Bucket – Cassandra Demarais (Websterville)Grandma Josephine – Joanne Puente (Worcester)Grandma Georgina – Marci Robinson (Warren)Grandpa George – Joe Robinson (Warren)Oompa Loompas – Tommy O’Grady (Waitsfield)\, Sunny Randall (Moretown)\, Ava Robinson (Warren)\, and Elizabeth Treacy (Fayston) \n​ \nNEW! Buy a Shout-Out to a members of the cast or crew!\nYour message of up to 20 words will appear in the playbill insert for each show.\nDonation of $10 goes to support the show and more famnily friendly theater at the Valley Players!
URL:https://mrvvillage.com/event/willy-wonka-at-the-valley-players-3/
LOCATION:Valley Players Theater\, 4254 Main Street\, Route 100\, Waitsfield\, VT\, 05673\, United States
CATEGORIES:Arts & Entertainment,Community,Family Friendly
ATTACH;FMTTYPE=image/png:https://mrvvillage.com/wp-content/uploads/2023/06/Screen-Shot-2023-06-19-at-10.29.13-AM-3uGrzS.tmp_.png
GEO:44.2017815;-72.8121321
X-APPLE-STRUCTURED-LOCATION;VALUE=URI;X-ADDRESS=Valley Players Theater 4254 Main Street Route 100 Waitsfield VT 05673 United States;X-APPLE-RADIUS=500;X-TITLE=4254 Main Street\, Route 100:geo:-72.8121321,44.2017815
END:VEVENT
BEGIN:VEVENT
DTSTART;TZID=America/New_York:20230702T160000
DTEND;TZID=America/New_York:20230702T180000
DTSTAMP:20260422T180843
CREATED:20230620T095435Z
LAST-MODIFIED:20230702T195317Z
UID:10004140-1688313600-1688320800@mrvvillage.com
SUMMARY:Willy Wonka at the Valley Players
DESCRIPTION:Roald Dahl’s Willy Wonka follows enigmatic candy manufacturer Willy Wonka as he stages a contest by hiding golden tickets in five of his scrumptious candy bars. Whomever comes up with these tickets will win a free tour of the Wonka factory\, as well as a lifetime supply of candy. Four of the five winning children are insufferable brats: the fifth is a likeable young lad named Charlie Bucket\, who takes the tour in the company of his equally amiable grandfather. The children must learn to follow Mr. Wonka’s rules in the factory… or suffer the consequences. Featuring the enchanting songs from the 1971 film starring Gene Wilder and new songs by Leslie Bricusse (Jekyll & Hyde\, Doctor Dolittle) and Anthony Newley\, Roald Dahl’s Willy Wonka is a musical guaranteed to delight everyone’s sweet tooth. \nMusic and lyrics by Leslie Bricusse and Anthony Newly\nAdapted for the stage by Leslie Bricusse and Timothy Allen McDonaldBased on the book “Charlie and the Chocolate Factory” by Roald Dahl \n​\nCAST:Willy Wonka – Wes Olds (Graniteville)Charlie Bucket – Zane Demarais (Websterville)The Candy Man/Phineous Trout\, reporter – Ashley Hall (Warren)Augustus Gloop – Jane Schaefer (Waitsfield)Mrs. Gloop – Carrie Phillips (Waterbury)Veruca Salt – Camille Edgcomb (Warren)Mr. Salt – Jordan Streeter (Montpelier)Violet Beauregarde – Naomi Niewiadomski (Waitsfield)Mrs. Beauregarde – Charlotte Robinson (Warren)Mike Teavee – Tarin Askew (Warren) andMrs. Teavee – Stefanie Seng (Waterbury)Grandpa Joe – Clem Turmel (Milton)Mr. Bucket – Matt Bellew (St. Albans)Mrs. Bucket – Cassandra Demarais (Websterville)Grandma Josephine – Joanne Puente (Worcester)Grandma Georgina – Marci Robinson (Warren)Grandpa George – Joe Robinson (Warren)Oompa Loompas – Tommy O’Grady (Waitsfield)\, Sunny Randall (Moretown)\, Ava Robinson (Warren)\, and Elizabeth Treacy (Fayston) \n​ \nNEW! Buy a Shout-Out to a members of the cast or crew!\nYour message of up to 20 words will appear in the playbill insert for each show.\nDonation of $10 goes to support the show and more famnily friendly theater at the Valley Players!
URL:https://mrvvillage.com/event/willy-wonka-at-the-valley-players-4/
LOCATION:Valley Players Theater\, 4254 Main Street\, Route 100\, Waitsfield\, VT\, 05673\, United States
CATEGORIES:Arts & Entertainment,Community,Family Friendly
ATTACH;FMTTYPE=image/png:https://mrvvillage.com/wp-content/uploads/2023/06/Screen-Shot-2023-06-19-at-10.29.13-AM-3uGrzS.tmp_.png
GEO:44.2017815;-72.8121321
X-APPLE-STRUCTURED-LOCATION;VALUE=URI;X-ADDRESS=Valley Players Theater 4254 Main Street Route 100 Waitsfield VT 05673 United States;X-APPLE-RADIUS=500;X-TITLE=4254 Main Street\, Route 100:geo:-72.8121321,44.2017815
END:VEVENT
END:VCALENDAR