BEGIN:VCALENDAR
VERSION:2.0
PRODID:-//The Mad River Valley Village - ECPv6.0.13//NONSGML v1.0//EN
CALSCALE:GREGORIAN
METHOD:PUBLISH
X-ORIGINAL-URL:https://mrvvillage.com
X-WR-CALDESC:Events for The Mad River Valley Village
REFRESH-INTERVAL;VALUE=DURATION:PT1H
X-Robots-Tag:noindex
X-PUBLISHED-TTL:PT1H
BEGIN:VTIMEZONE
TZID:America/New_York
BEGIN:DAYLIGHT
TZOFFSETFROM:-0500
TZOFFSETTO:-0400
TZNAME:EDT
DTSTART:20230312T070000
END:DAYLIGHT
BEGIN:STANDARD
TZOFFSETFROM:-0400
TZOFFSETTO:-0500
TZNAME:EST
DTSTART:20231105T060000
END:STANDARD
TZID:UTC
BEGIN:STANDARD
TZOFFSETFROM:+0000
TZOFFSETTO:+0000
TZNAME:UTC
DTSTART:20230101T000000
END:STANDARD
END:VTIMEZONE
BEGIN:VEVENT
DTSTART;TZID=America/New_York:20230710T000000
DTEND;TZID=America/New_York:20230721T235959
DTSTAMP:20260422T115828
CREATED:20230630T192418Z
LAST-MODIFIED:20230710T215338Z
UID:10004228-1688947200-1689983999@mrvvillage.com
SUMMARY:Summer Art Camps at Camp Meade
DESCRIPTION:Looking for creative inspiration for a young artist? Announcing summer art & music camps at Camp Meade! \nThis July and August\, kids can try their hand at glass blowing and fusing with glass artist Sam Lightner of Lightner Glass\, create a fairy house or explore the flora and fauna of the rainforest with artist-educator Heather O’Hare\, or have a rock star experience at Rise Up Rock Camp with music educator Dov Michael Schiller. Several camp weeks are available – visit our website to learn more and sign up.
URL:https://mrvvillage.com/event/summer-art-camps-at-camp-meade/
LOCATION:Camp Meade\, 961 ROUTE 2\, middlesex\, 05602
CATEGORIES:Arts & Entertainment,Family Friendly
ATTACH;FMTTYPE=image/png:https://mrvvillage.com/wp-content/uploads/2023/07/Screen-Shot-2023-07-03-at-6.13.09-PM-CtMSDW.tmp_.png
ORGANIZER;CN="Camp%20Meade":MAILTO:info@campmeade.today
GEO:44.2412437;-72.5366148
X-APPLE-STRUCTURED-LOCATION;VALUE=URI;X-ADDRESS=Camp Meade 961 ROUTE 2 middlesex 05602;X-APPLE-RADIUS=500;X-TITLE=961 ROUTE 2:geo:-72.5366148,44.2412437
END:VEVENT
BEGIN:VEVENT
DTSTART;TZID=America/New_York:20230717T130000
DTEND;TZID=America/New_York:20230721T160000
DTSTAMP:20260422T115828
CREATED:20230523T212718Z
LAST-MODIFIED:20230717T232414Z
UID:10003997-1689598800-1689955200@mrvvillage.com
SUMMARY:Shibori/Indigo Summer Camp (Ages 8-14)
DESCRIPTION:Instructor: Miriam Jacobs\, artist\, teacher\, textile designer \nTextile camp explores new possibilities with 100% cottons\, pre-washed cotton garments\, for ready to wear\, functional and decorative purposes. Shibori is a dyeing technique that involves folding\, clamping\, pole-wrapping\, and the insertion of various objects into the fabric to create patterns. \nScholarships are available on a sliding scale basis.
URL:https://mrvvillage.com/event/shibori-indigo-summer-camp-ages-8-14/
LOCATION:Mad River Valley Arts\, 5031 Main Street #2 Village Square\, Waitsfield\, 05673
CATEGORIES:Community,Family Friendly
ATTACH;FMTTYPE=image/png:https://mrvvillage.com/wp-content/uploads/2023/05/shibori-uZS0Cl.tmp_.png
ORGANIZER;CN="Mad%20River%20Valley%20Arts":MAILTO:director@madrivervalleyarts.org
GEO:44.1926386;-72.7798479
X-APPLE-STRUCTURED-LOCATION;VALUE=URI;X-ADDRESS=Mad River Valley Arts 5031 Main Street #2 Village Square Waitsfield 05673;X-APPLE-RADIUS=500;X-TITLE=5031 Main Street #2 Village Square:geo:-72.7798479,44.1926386
END:VEVENT
BEGIN:VEVENT
DTSTART;TZID=America/New_York:20230717T163000
DTEND;TZID=America/New_York:20230717T173000
DTSTAMP:20260422T115828
CREATED:20230510T011544Z
LAST-MODIFIED:20230717T232414Z
UID:10003918-1689611400-1689615000@mrvvillage.com
SUMMARY:Clowning Around – Structured Silliness for 3.5-4 Year olds
DESCRIPTION:Structured silliness! Led by Kolleen & Bobby Kintz\, this class  for kids ages 3.5-4 years old will explore creative movement\, comedic expression and ensemble creation. Campers will play games\, move their bodies\, make music and find their funny. Students will share some of what they’ve learned at a showing for parents during the final class. This class will be a drop-off class; however\, there is a shared room in our space where parents can be close by and in sight\, if that is more comfortable for your child.\n\nPlease complete one form for each child who will be attending class.  We will send additional information about class procedures as we get closer to June 19th. Don’t hesitate to call Kolleen at 802-377-1742 or email kolleenkintz@gmail.com with any questions.\n\n\nKolleen Kintz attended Dell’Arte International School of Physical Theatre in 2010. Starting in 2011\, she and Bobby began training with Dody Disanto at The Center for Movement Theatre in Washington DC. They have performed with the DC Fringe Festival\, Zip Zap Circus and regularly at Clown Cabaret. In 2014\, the duo traveled to Haiti to volunteer with Clowns Without Borders and performed for over 5000 children. Kolleen later became a hospital clown for Healthy Humor and made rounds as Dr. Pickle at Johns Hopkins for 6 years.\n\nKolleen & Bobby Kintz have been teaching artists since 2013. Beginning their journey with the instruction of 3 & 4 year olds\, in Del Ray\, VA. Later developing their own circus camp for ages 5-13\, which ran in Baltimore at Morgan State University for 5 years. More recently\, the journey has been parenthood! It is very exciting to be offering this class to the community\, in our new hometown of Waitsfield.
URL:https://mrvvillage.com/event/clowning-around-structured-silliness-for-3-5-4-year-olds-4/
LOCATION:Waitsfield United Church of Christ Village Meeting House\, 4335 Main St\, Waitsfield\, VT\, 05673\, United States
CATEGORIES:Arts & Entertainment,Community,Family Friendly
ATTACH;FMTTYPE=image/png:https://mrvvillage.com/wp-content/uploads/2023/05/Screen-Shot-2023-05-09-at-2.15.53-PM-peOUJx.tmp_.png
ORGANIZER;CN="Kolleen%20and%20Bobby%20Kintz":MAILTO:photosbykintz@gmail.com
GEO:44.1904984;-72.8233656
X-APPLE-STRUCTURED-LOCATION;VALUE=URI;X-ADDRESS=Waitsfield United Church of Christ Village Meeting House 4335 Main St Waitsfield VT 05673 United States;X-APPLE-RADIUS=500;X-TITLE=4335 Main St:geo:-72.8233656,44.1904984
END:VEVENT
BEGIN:VEVENT
DTSTART;TZID=America/New_York:20230717T180000
DTEND;TZID=America/New_York:20230717T190000
DTSTAMP:20260422T115828
CREATED:20230622T102646Z
LAST-MODIFIED:20230717T232415Z
UID:10004168-1689616800-1689620400@mrvvillage.com
SUMMARY:Good Citizen Challenge
DESCRIPTION:Created and sponsored by Seven Days and KidsVT\, this Challenge asks participants to find the answers to some questions about their community and to consider what we can do when we work together\, the impact we can have\, and the messages we can send to each other about how we should act. We will focus on completing one of the challenges listed on the bingo card. Finish a row of five activities and receive a Good Citizen sticker and patch\, a pocket-sized U.S. Constitution\, and an invitation to a fall reception at the Vermont Statehouse\, with special recognition given to those who fill in their whole card. Best for elementary/middle school-aged children. Part of the MRV Libraries “All Together Now” summer learning program.
URL:https://mrvvillage.com/event/good-citizen-challenge-2/
LOCATION:Moretown Town Hall and Library\, 1147 Route 100B\, Moretown\, 05660
CATEGORIES:Community,Family Friendly
ATTACH;FMTTYPE=image/png:https://mrvvillage.com/wp-content/uploads/2023/06/2023-slp-Good-Citizen-Challenge1-FBlrte.tmp_.png
ORGANIZER;CN="Mad%20River%20Libraries":MAILTO:programs@warrenlibrary.com
GEO:44.2476272;-72.7639304
X-APPLE-STRUCTURED-LOCATION;VALUE=URI;X-ADDRESS=Moretown Town Hall and Library 1147 Route 100B Moretown 05660;X-APPLE-RADIUS=500;X-TITLE=1147 Route 100B:geo:-72.7639304,44.2476272
END:VEVENT
BEGIN:VEVENT
DTSTART;TZID=America/New_York:20230718T130000
DTEND;TZID=America/New_York:20230718T170000
DTSTAMP:20260422T115828
CREATED:20230419T130231Z
LAST-MODIFIED:20230422T210138Z
UID:10003675-1689685200-1689699600@mrvvillage.com
SUMMARY:Reflections by ‘f7’ Photo Group
DESCRIPTION:March 22- April 27: Reflections by‘f7’ Photo Group \nReception: March 23\, 5-7pm \nArtist talk: March 23 \nOpen Tuesday-Saturday 1-5 pm
URL:https://mrvvillage.com/event/reflections-by-f7-photo-group-41/
LOCATION:Festival Gallery at Valley Arts\, 5031 Main Street\,\, Waitsfield\, 05673
CATEGORIES:Arts & Entertainment,Community,Family Friendly
ATTACH;FMTTYPE=image/jpeg:https://mrvvillage.com/wp-content/uploads/2023/01/PhotoShow-for-MRV-1-uybmQv.tmp_.jpg
ORGANIZER;CN="Mad%20River%20Valley%20Arts":MAILTO:director@madrivervalleyarts.org
GEO:44.1926386;-72.7798479
X-APPLE-STRUCTURED-LOCATION;VALUE=URI;X-ADDRESS=Festival Gallery at Valley Arts 5031 Main Street Waitsfield 05673;X-APPLE-RADIUS=500;X-TITLE=5031 Main Street\,:geo:-72.7798479,44.1926386
END:VEVENT
BEGIN:VEVENT
DTSTART;TZID=America/New_York:20230719T130000
DTEND;TZID=America/New_York:20230719T170000
DTSTAMP:20260422T115828
CREATED:20230420T131704Z
LAST-MODIFIED:20230422T210139Z
UID:10003681-1689771600-1689786000@mrvvillage.com
SUMMARY:Reflections by ‘f7’ Photo Group
DESCRIPTION:March 22- April 27: Reflections by‘f7’ Photo Group \nReception: March 23\, 5-7pm \nArtist talk: March 23 \nOpen Tuesday-Saturday 1-5 pm
URL:https://mrvvillage.com/event/reflections-by-f7-photo-group-42/
LOCATION:Festival Gallery at Valley Arts\, 5031 Main Street\,\, Waitsfield\, 05673
CATEGORIES:Arts & Entertainment,Community,Family Friendly
ATTACH;FMTTYPE=image/jpeg:https://mrvvillage.com/wp-content/uploads/2023/01/PhotoShow-for-MRV-1-uybmQv.tmp_.jpg
ORGANIZER;CN="Mad%20River%20Valley%20Arts":MAILTO:director@madrivervalleyarts.org
GEO:44.1926386;-72.7798479
X-APPLE-STRUCTURED-LOCATION;VALUE=URI;X-ADDRESS=Festival Gallery at Valley Arts 5031 Main Street Waitsfield 05673;X-APPLE-RADIUS=500;X-TITLE=5031 Main Street\,:geo:-72.7798479,44.1926386
END:VEVENT
BEGIN:VEVENT
DTSTART;TZID=America/New_York:20230719T180000
DTEND;TZID=America/New_York:20230719T203000
DTSTAMP:20260422T115828
CREATED:20230706T172529Z
LAST-MODIFIED:20230719T235408Z
UID:10004277-1689789600-1689798600@mrvvillage.com
SUMMARY:Mad River Glen Wednesday Night Live Music Series
DESCRIPTION:Come on up to Mad River Glen every Wednesday for live music and tasty vitals and libations at general Stark’s Pub!\nCheck out the line up! \n\n7/12 Medicine Tribe Trio\n7/19 Evan Jennison\n7/26 TBD\n8/2 TBD\n8/9 TBD\n8/16 Ragged Company\n8/23 Atom and the Orbits\n8/30 Danielle Keegan and friends\n9/6 Jaded Ravins\n9/13 Alex Budney and Friends\n9/20 Easy Street Duo\n9/27 She Was Right\n10/4 TBD
URL:https://mrvvillage.com/event/mad-river-glen-wednesday-night-live-music-series-2/
LOCATION:Mad River Glen\, 57 Schuss Pass Road\, Waitsfield\, 05673
CATEGORIES:Arts & Entertainment,Community,Family Friendly,Food & Drink
ATTACH;FMTTYPE=image/png:https://mrvvillage.com/wp-content/uploads/2022/12/mad-river-glen-ZDw5Dq.tmp_.png
ORGANIZER;CN="Mad%20River%20Glen":MAILTO:ski@madriverglen.com
GEO:44.2023162;-72.9182617
X-APPLE-STRUCTURED-LOCATION;VALUE=URI;X-ADDRESS=Mad River Glen 57 Schuss Pass Road Waitsfield 05673;X-APPLE-RADIUS=500;X-TITLE=57 Schuss Pass Road:geo:-72.9182617,44.2023162
END:VEVENT
BEGIN:VEVENT
DTSTART;TZID=America/New_York:20230720T130000
DTEND;TZID=America/New_York:20230720T170000
DTSTAMP:20260422T115828
CREATED:20230421T133157Z
LAST-MODIFIED:20230422T210153Z
UID:10003686-1689858000-1689872400@mrvvillage.com
SUMMARY:Reflections by ‘f7’ Photo Group
DESCRIPTION:March 22- April 27: Reflections by‘f7’ Photo Group \nReception: March 23\, 5-7pm \nArtist talk: March 23 \nOpen Tuesday-Saturday 1-5 pm
URL:https://mrvvillage.com/event/reflections-by-f7-photo-group-43/
LOCATION:Festival Gallery at Valley Arts\, 5031 Main Street\,\, Waitsfield\, 05673
CATEGORIES:Arts & Entertainment,Community,Family Friendly
ATTACH;FMTTYPE=image/jpeg:https://mrvvillage.com/wp-content/uploads/2023/01/PhotoShow-for-MRV-1-uybmQv.tmp_.jpg
ORGANIZER;CN="Mad%20River%20Valley%20Arts":MAILTO:director@madrivervalleyarts.org
GEO:44.1926386;-72.7798479
X-APPLE-STRUCTURED-LOCATION;VALUE=URI;X-ADDRESS=Festival Gallery at Valley Arts 5031 Main Street Waitsfield 05673;X-APPLE-RADIUS=500;X-TITLE=5031 Main Street\,:geo:-72.7798479,44.1926386
END:VEVENT
BEGIN:VEVENT
DTSTART;TZID=UTC:20230720T170000
DTEND;TZID=UTC:20230720T210000
DTSTAMP:20260422T115828
CREATED:20230621T101058Z
LAST-MODIFIED:20230720T205359Z
UID:10004155-1689872400-1689886800@mrvvillage.com
SUMMARY:MRB Pub Music Series: Granville Daze
DESCRIPTION:Join us for live music\, food & drinks from 5:00-9:00pm. Music featuring Granville Daze
URL:https://mrvvillage.com/event/pub-music-series-granville-daze-2/
CATEGORIES:Dining,Family Friendly,Live Music,Public Welcome
END:VEVENT
BEGIN:VEVENT
DTSTART;TZID=America/New_York:20230721T130000
DTEND;TZID=America/New_York:20230721T170000
DTSTAMP:20260422T115828
CREATED:20230422T134701Z
LAST-MODIFIED:20230422T210154Z
UID:10003693-1689944400-1689958800@mrvvillage.com
SUMMARY:Reflections by ‘f7’ Photo Group
DESCRIPTION:March 22- April 27: Reflections by‘f7’ Photo Group \nReception: March 23\, 5-7pm \nArtist talk: March 23 \nOpen Tuesday-Saturday 1-5 pm
URL:https://mrvvillage.com/event/reflections-by-f7-photo-group-44/
LOCATION:Festival Gallery at Valley Arts\, 5031 Main Street\,\, Waitsfield\, 05673
CATEGORIES:Arts & Entertainment,Community,Family Friendly
ATTACH;FMTTYPE=image/jpeg:https://mrvvillage.com/wp-content/uploads/2023/01/PhotoShow-for-MRV-1-uybmQv.tmp_.jpg
ORGANIZER;CN="Mad%20River%20Valley%20Arts":MAILTO:director@madrivervalleyarts.org
GEO:44.1926386;-72.7798479
X-APPLE-STRUCTURED-LOCATION;VALUE=URI;X-ADDRESS=Festival Gallery at Valley Arts 5031 Main Street Waitsfield 05673;X-APPLE-RADIUS=500;X-TITLE=5031 Main Street\,:geo:-72.7798479,44.1926386
END:VEVENT
BEGIN:VEVENT
DTSTART;TZID=America/New_York:20230722T090000
DTEND;TZID=America/New_York:20230722T130000
DTSTAMP:20260422T115828
CREATED:20230425T214542Z
LAST-MODIFIED:20230614T132611Z
UID:10003717-1690016400-1690030800@mrvvillage.com
SUMMARY:Waitsfield Farmers Market
DESCRIPTION:Welcome to the Waitsfield Farmer’s Market.  We’re a unique collective of Vermont farmers\, makers\, bakers\, and shakers in the heart of the Mad River Valley. \nLocal produce\, plant starts\, fruit trees\, bushes\, maple\, honey\, flowers\, seedlings\, eggs\, meats\, cheeses\, fish\, crafts\, art\, clothes\, bread\, baked goods\, liquors\, and prepared foods all by Vermonters. \nEstablished in 1993\, the Waitsfield Farmer’s Market for decades has been a meeting place for those who appreciate Vermont farmers and artisans. Our market vendors are a carefully curated group of local Vermont businesses who provide the highest quality products to market. Every Saturday\, rain or shine\, May-October\, you’ll find us on the green! \nEvery Saturday\, Rain or Shine from 9 am to 1 pm\nMay 13th – October 14th\, 2023 \nOur market can be found on the Mad River Green in Waitsfield\, Vermont.
URL:https://mrvvillage.com/event/waitsfield-farmers-market-11/
LOCATION:Mad River Green\, 105 Mad River Green\, Waitsfield\, VT\, 05673\, United States
CATEGORIES:Arts & Entertainment,Community,Family Friendly,Food & Drink
ATTACH;FMTTYPE=image/png:https://mrvvillage.com/wp-content/uploads/2023/04/WFM_Brand_Logos-02-DmdRr1.tmp_.png
ORGANIZER;CN="Waitsfield%20Farmer%26%238217%3Bs%20Market":MAILTO:waitsfieldmarketmanager@gmail.com
GEO:44.183836;-72.8388576
X-APPLE-STRUCTURED-LOCATION;VALUE=URI;X-ADDRESS=Mad River Green 105 Mad River Green Waitsfield VT 05673 United States;X-APPLE-RADIUS=500;X-TITLE=105 Mad River Green:geo:-72.8388576,44.183836
END:VEVENT
END:VCALENDAR