BEGIN:VCALENDAR
VERSION:2.0
PRODID:-//The Mad River Valley Village - ECPv6.0.13//NONSGML v1.0//EN
CALSCALE:GREGORIAN
METHOD:PUBLISH
X-ORIGINAL-URL:https://mrvvillage.com
X-WR-CALDESC:Events for The Mad River Valley Village
REFRESH-INTERVAL;VALUE=DURATION:PT1H
X-Robots-Tag:noindex
X-PUBLISHED-TTL:PT1H
BEGIN:VTIMEZONE
TZID:America/New_York
BEGIN:DAYLIGHT
TZOFFSETFROM:-0500
TZOFFSETTO:-0400
TZNAME:EDT
DTSTART:20230312T070000
END:DAYLIGHT
BEGIN:STANDARD
TZOFFSETFROM:-0400
TZOFFSETTO:-0500
TZNAME:EST
DTSTART:20231105T060000
END:STANDARD
TZID:UTC
BEGIN:STANDARD
TZOFFSETFROM:+0000
TZOFFSETTO:+0000
TZNAME:UTC
DTSTART:20230101T000000
END:STANDARD
END:VTIMEZONE
BEGIN:VEVENT
DTSTART;TZID=America/New_York:20230906T180000
DTEND;TZID=America/New_York:20230906T203000
DTSTAMP:20260422T115932
CREATED:20230706T172850Z
LAST-MODIFIED:20230813T044126Z
UID:10004288-1694023200-1694032200@mrvvillage.com
SUMMARY:Mad River Glen Wednesday Night Live Music Series
DESCRIPTION:Come on up to Mad River Glen every Wednesday for live music and tasty vitals and libations at general Stark’s Pub!\nCheck out the line up! \n\n7/12 Medicine Tribe Trio\n7/19 Evan Jennison\n7/26 TBD\n8/2 TBD\n8/9 TBD\n8/16 Ragged Company\n8/23 Atom and the Orbits\n8/30 Danielle Keegan and friends\n9/6 Jaded Ravins\n9/13 Alex Budney and Friends\n9/20 Easy Street Duo\n9/27 She Was Right\n10/4 TBD
URL:https://mrvvillage.com/event/mad-river-glen-wednesday-night-live-music-series-9/
LOCATION:Mad River Glen\, 57 Schuss Pass Road\, Waitsfield\, 05673
CATEGORIES:Arts & Entertainment,Community,Family Friendly,Food & Drink
ATTACH;FMTTYPE=image/png:https://mrvvillage.com/wp-content/uploads/2022/12/mad-river-glen-ZDw5Dq.tmp_.png
ORGANIZER;CN="Mad%20River%20Glen":MAILTO:ski@madriverglen.com
GEO:44.2023162;-72.9182617
X-APPLE-STRUCTURED-LOCATION;VALUE=URI;X-ADDRESS=Mad River Glen 57 Schuss Pass Road Waitsfield 05673;X-APPLE-RADIUS=500;X-TITLE=57 Schuss Pass Road:geo:-72.9182617,44.2023162
END:VEVENT
BEGIN:VEVENT
DTSTART;TZID=UTC:20230907T170000
DTEND;TZID=UTC:20230907T210000
DTSTAMP:20260422T115932
CREATED:20230809T034148Z
LAST-MODIFIED:20230907T235421Z
UID:10004569-1694106000-1694120400@mrvvillage.com
SUMMARY:MRB Pub Music Series: Running in Circles (RIC)
DESCRIPTION:Join us for live music\, food & drinks from 5:00-9:00pm. Music featuring Running in Circles (RIC)
URL:https://mrvvillage.com/event/mrb-pub-music-series-joshs-new-band/
CATEGORIES:Dining,Family Friendly,Live Music,Public Welcome
END:VEVENT
BEGIN:VEVENT
DTSTART;TZID=America/New_York:20230909T090000
DTEND;TZID=America/New_York:20230909T130000
DTSTAMP:20260422T115932
CREATED:20230611T084241Z
LAST-MODIFIED:20230614T132740Z
UID:10004085-1694250000-1694264400@mrvvillage.com
SUMMARY:Waitsfield Farmers Market
DESCRIPTION:Welcome to the Waitsfield Farmer’s Market.  We’re a unique collective of Vermont farmers\, makers\, bakers\, and shakers in the heart of the Mad River Valley. \nLocal produce\, plant starts\, fruit trees\, bushes\, maple\, honey\, flowers\, seedlings\, eggs\, meats\, cheeses\, fish\, crafts\, art\, clothes\, bread\, baked goods\, liquors\, and prepared foods all by Vermonters. \nEstablished in 1993\, the Waitsfield Farmer’s Market for decades has been a meeting place for those who appreciate Vermont farmers and artisans. Our market vendors are a carefully curated group of local Vermont businesses who provide the highest quality products to market. Every Saturday\, rain or shine\, May-October\, you’ll find us on the green! \nEvery Saturday\, Rain or Shine from 9 am to 1 pm\nMay 13th – October 14th\, 2023 \nOur market can be found on the Mad River Green in Waitsfield\, Vermont.
URL:https://mrvvillage.com/event/waitsfield-farmers-market-18/
LOCATION:Mad River Green\, 105 Mad River Green\, Waitsfield\, VT\, 05673\, United States
CATEGORIES:Arts & Entertainment,Community,Family Friendly,Food & Drink
ATTACH;FMTTYPE=image/png:https://mrvvillage.com/wp-content/uploads/2023/04/WFM_Brand_Logos-02-DmdRr1.tmp_.png
ORGANIZER;CN="Waitsfield%20Farmer%26%238217%3Bs%20Market":MAILTO:waitsfieldmarketmanager@gmail.com
GEO:44.183836;-72.8388576
X-APPLE-STRUCTURED-LOCATION;VALUE=URI;X-ADDRESS=Mad River Green 105 Mad River Green Waitsfield VT 05673 United States;X-APPLE-RADIUS=500;X-TITLE=105 Mad River Green:geo:-72.8388576,44.183836
END:VEVENT
BEGIN:VEVENT
DTSTART;TZID=America/New_York:20230910T113000
DTEND;TZID=America/New_York:20230910T140000
DTSTAMP:20260422T115932
CREATED:20230706T172850Z
LAST-MODIFIED:20230731T125716Z
UID:10004289-1694345400-1694354400@mrvvillage.com
SUMMARY:Mad River Glen Sunday Brunch Music Series
DESCRIPTION:This summer MRG is hosting live music every other Sunday during brunch service. This selection of local artists features toned-down tunes to help you keep those Sunday scaries at bay. Thanks to Lawson’s Finest Liquids for supporting local artists and good vibes by sponsoring year-round music at Stark’s Pub.\n\n7/16 Ragged Trio\n7/30 Alex Budney and Friends\n8/13 Dave O\n8/27 Evan Jennison\n9/10 Music by Cooper\n9/24 Rob Pierce and Friends\n10/8 Ragged Trio
URL:https://mrvvillage.com/event/mad-river-glen-sunday-brunch-music-series-5/
LOCATION:Mad River Glen\, 57 Schuss Pass Road\, Waitsfield\, 05673
CATEGORIES:Arts & Entertainment,Community,Family Friendly,Food & Drink
ATTACH;FMTTYPE=image/png:https://mrvvillage.com/wp-content/uploads/2022/12/mad-river-glen-ZDw5Dq.tmp_.png
ORGANIZER;CN="Mad%20River%20Glen":MAILTO:ski@madriverglen.com
GEO:44.2023162;-72.9182617
X-APPLE-STRUCTURED-LOCATION;VALUE=URI;X-ADDRESS=Mad River Glen 57 Schuss Pass Road Waitsfield 05673;X-APPLE-RADIUS=500;X-TITLE=57 Schuss Pass Road:geo:-72.9182617,44.2023162
END:VEVENT
BEGIN:VEVENT
DTSTART;TZID=UTC:20230910T130000
DTEND;TZID=UTC:20230910T170000
DTSTAMP:20260422T115932
CREATED:20230812T042631Z
LAST-MODIFIED:20230910T122355Z
UID:10004573-1694350800-1694365200@mrvvillage.com
SUMMARY:Fracas on the Farm
DESCRIPTION:An Annual Fundraiser to Support VT Farm and Agriculture\nTickets & more info at: www.madriverbarnvt.com \n\n\n\n\n\n\nThe Mad River Barn\, in collaboration with Ploughgate\, is proud to host Fracas on the Farm; an annual celebration of the exquisite beauty of the Mad River Valley. Rooted in our commitment to supporting Vermont’s Farm and Agriculture organizations\, Fracas on the Farm brings together our community to experience the magic of local music\, culinary delights\, and artistic expressions. Through purposeful partnerships with regional arts and culinary businesses\, we offer families a unique opportunity to immerse themselves in the wonders of our vibrant local culture. \nCentral to our mission is giving back to the Vermont Farm & Agriculture community that sustains us. Every year\, a significant portion of all proceeds is thoughtfully donated to essential Farm & Agriculture organizations\, vital pillars of the Vermont economy. In 2023\, We proudly direct a portion of the proceeds to support the Vermont Farm Fund and the Northeast Organic Farming Association [NOFA]\, supporting their tireless efforts to provost sustainable farming practices and fostering a resilient agriculture community. \nThrough Fracas on the Farm\, we endeavor to foster a sense of gratitude and stewardship for the Mad River Valley while nurturing connections that strengthen our community. Guided by our shared values of sustainability\, collaboration\, and appreciation for local traditions\, we are dedicated to creating an enduring legacy that enriches the lives of everyone who has the privledge of experiencing Vermont.
URL:https://mrvvillage.com/event/fracas-on-the-farm/
CATEGORIES:Family Friendly,Live Music,Public Welcome,Ticketed Event
END:VEVENT
END:VCALENDAR