BEGIN:VCALENDAR
VERSION:2.0
PRODID:-//The Mad River Valley Village - ECPv6.0.13//NONSGML v1.0//EN
CALSCALE:GREGORIAN
METHOD:PUBLISH
X-ORIGINAL-URL:https://mrvvillage.com
X-WR-CALDESC:Events for The Mad River Valley Village
REFRESH-INTERVAL;VALUE=DURATION:PT1H
X-Robots-Tag:noindex
X-PUBLISHED-TTL:PT1H
BEGIN:VTIMEZONE
TZID:America/New_York
BEGIN:DAYLIGHT
TZOFFSETFROM:-0500
TZOFFSETTO:-0400
TZNAME:EDT
DTSTART:20230312T070000
END:DAYLIGHT
BEGIN:STANDARD
TZOFFSETFROM:-0400
TZOFFSETTO:-0500
TZNAME:EST
DTSTART:20231105T060000
END:STANDARD
TZID:UTC
BEGIN:STANDARD
TZOFFSETFROM:+0000
TZOFFSETTO:+0000
TZNAME:UTC
DTSTART:20230101T000000
END:STANDARD
END:VTIMEZONE
BEGIN:VEVENT
DTSTART;TZID=America/New_York:20230913T180000
DTEND;TZID=America/New_York:20230913T203000
DTSTAMP:20260423T075314
CREATED:20230706T172906Z
LAST-MODIFIED:20230813T044158Z
UID:10004290-1694628000-1694637000@mrvvillage.com
SUMMARY:Mad River Glen Wednesday Night Live Music Series
DESCRIPTION:Come on up to Mad River Glen every Wednesday for live music and tasty vitals and libations at general Stark’s Pub!\nCheck out the line up! \n\n7/12 Medicine Tribe Trio\n7/19 Evan Jennison\n7/26 TBD\n8/2 TBD\n8/9 TBD\n8/16 Ragged Company\n8/23 Atom and the Orbits\n8/30 Danielle Keegan and friends\n9/6 Jaded Ravins\n9/13 Alex Budney and Friends\n9/20 Easy Street Duo\n9/27 She Was Right\n10/4 TBD
URL:https://mrvvillage.com/event/mad-river-glen-wednesday-night-live-music-series-10/
LOCATION:Mad River Glen\, 57 Schuss Pass Road\, Waitsfield\, 05673
CATEGORIES:Arts & Entertainment,Community,Family Friendly,Food & Drink
ATTACH;FMTTYPE=image/png:https://mrvvillage.com/wp-content/uploads/2022/12/mad-river-glen-ZDw5Dq.tmp_.png
ORGANIZER;CN="Mad%20River%20Glen":MAILTO:ski@madriverglen.com
GEO:44.2023162;-72.9182617
X-APPLE-STRUCTURED-LOCATION;VALUE=URI;X-ADDRESS=Mad River Glen 57 Schuss Pass Road Waitsfield 05673;X-APPLE-RADIUS=500;X-TITLE=57 Schuss Pass Road:geo:-72.9182617,44.2023162
END:VEVENT
BEGIN:VEVENT
DTSTART;TZID=UTC:20230914T170000
DTEND;TZID=UTC:20230914T210000
DTSTAMP:20260423T075314
CREATED:20230817T052844Z
LAST-MODIFIED:20230914T132339Z
UID:10004951-1694710800-1694725200@mrvvillage.com
SUMMARY:MRB Pub Music Series: Al’s Pals
DESCRIPTION:Join us for live music\, food & drinks from 5:00-9:00pm. Music featuring Al’s Pals
URL:https://mrvvillage.com/event/mrb-pub-music-series-als-pals-2/
CATEGORIES:Dining,Family Friendly,Live Music,Public Welcome
END:VEVENT
BEGIN:VEVENT
DTSTART;TZID=America/New_York:20230917T120000
DTEND;TZID=America/New_York:20230917T190000
DTSTAMP:20260423T075314
CREATED:20230831T221230Z
LAST-MODIFIED:20230917T135322Z
UID:10005099-1694952000-1694977200@mrvvillage.com
SUMMARY:OUTPOUR ’23 at Sugarbush
DESCRIPTION:Since the July floods that wiped out thousands of Vermonter’s livelihoods\, there has been an outpouring of support to help those affected. But folks still need help and the Mad River Valley is answering the call. Head up to Sugarbush’s Lincoln Peak Courtyard on Sunday\, September 17th for a full day of food\, drink\, and live music. Doors at 11:00 AM with first notes at noon. Advanced tickets are just $20; day-of $25. \n100% of ticket proceeds goes to the Vermont Community Foundation’s VT Flood Response & Recovery Fund along with a portion of food and beverage sales from the day courtesy of the Be Better Here Fund. Live raffles between sets will feature Sugarbush season passes and lift tickets\, as well as gifts from partners and community members including Lawson’s Finest Liquids\, High Fives Foundation\, Mad River Valley Arts and so much more. \nBuy Your Tickets TODAY!
URL:https://mrvvillage.com/event/outpour-23-at-sugarbush/
LOCATION:Lincoln Peak Courtyard\, Warren\, 05674\, United States
CATEGORIES:Arts & Entertainment,Community,Family Friendly,Food & Drink,Live Music,Sugarbush
ATTACH;FMTTYPE=image/jpeg:https://mrvvillage.com/wp-content/uploads/2023/08/2017-06-10-JA-brewgrass-0079-720x480-45fe83a0-0fed-4c4d-87ef-36e86d4f0487-3IG3Q5.tmp_.jpg
GEO:44.1359019;-72.8944139
END:VEVENT
END:VCALENDAR