BEGIN:VCALENDAR
VERSION:2.0
PRODID:-//The Mad River Valley Village - ECPv6.0.13//NONSGML v1.0//EN
CALSCALE:GREGORIAN
METHOD:PUBLISH
X-ORIGINAL-URL:https://mrvvillage.com
X-WR-CALDESC:Events for The Mad River Valley Village
REFRESH-INTERVAL;VALUE=DURATION:PT1H
X-Robots-Tag:noindex
X-PUBLISHED-TTL:PT1H
BEGIN:VTIMEZONE
TZID:America/New_York
BEGIN:DAYLIGHT
TZOFFSETFROM:-0500
TZOFFSETTO:-0400
TZNAME:EDT
DTSTART:20230312T070000
END:DAYLIGHT
BEGIN:STANDARD
TZOFFSETFROM:-0400
TZOFFSETTO:-0500
TZNAME:EST
DTSTART:20231105T060000
END:STANDARD
END:VTIMEZONE
BEGIN:VEVENT
DTSTART;TZID=America/New_York:20231005T160000
DTEND;TZID=America/New_York:20231116T170000
DTSTAMP:20260422T224146
CREATED:20230920T144010Z
LAST-MODIFIED:20231005T172319Z
UID:10005242-1696521600-1700154000@mrvvillage.com
SUMMARY:Clown Class for Ages 4 & 5
DESCRIPTION:Ages 4 & 5\nOctober 5th – November 16th (6 week session; no class Nov 2nd)\nThursday’s 4:00-5:00pm\nWaitsfield United Church of Christ – 4355 Main Street \nStructured silliness! Led by Kolleen & Bobby Kintz\, this class will explore creative movement\, comedic expression and ensemble creation. Students will play games\, move their bodies\, make soundtracks and find their funny. Students will share some of what they’ve learned at a showing for parents during the final class. \nThis is a drop-off class: we will help create a comfortable transition for your child when they arrive each week.
URL:https://mrvvillage.com/event/clown-class-for-ages-4-5/
LOCATION:Waitsfield United Church Village Meeting House\, 4355 Main St\, Waitsfield\, 05673
CATEGORIES:Arts & Entertainment,Community,Family Friendly
ATTACH;FMTTYPE=image/jpeg:https://mrvvillage.com/wp-content/uploads/2023/09/0I9A2219-1-2ZH0V7.tmp_.jpg
ORGANIZER;CN="Kolleen%20%26amp%3B%20Bobby%20Kintz":MAILTO:kolleenkintz@gmail.com
GEO:44.1905725;-72.8237868
X-APPLE-STRUCTURED-LOCATION;VALUE=URI;X-ADDRESS=Waitsfield United Church Village Meeting House 4355 Main St Waitsfield 05673;X-APPLE-RADIUS=500;X-TITLE=4355 Main St:geo:-72.8237868,44.1905725
END:VEVENT
BEGIN:VEVENT
DTSTART;TZID=America/New_York:20231005T160000
DTEND;TZID=America/New_York:20231116T170000
DTSTAMP:20260422T224146
CREATED:20230920T144011Z
LAST-MODIFIED:20231005T172319Z
UID:10005243-1696521600-1700154000@mrvvillage.com
SUMMARY:Parent & Child Clown Class for Ages 2 & 3
DESCRIPTION:Kolleen & Bobby Kintz are Offering a New Class! \nIn addition to our ongoing preschool age clown class\, we are excited to announce our newest class: Parent & Child Clown for Ages 2 & 3!\nStudents and their parents will play games\, move their bodies\, explore soundtracks and find their funny. We will use tools like songs\, puppets\, parachutes and more\, to help us teach the basic fundamentals of circus and performance through play. The journey starts here! \nParent & Child Clown\nAges 2 & 3\nOct 5th – Nov 16th (6 week session; no class Nov 2nd)\nThursday’s 10:00-11:00am\nWaitsfield United Church of Christ – 4355 Main Street\nCopy/paste the following link to learn more and register your little clown: https://forms.gle/Dm35UyGBHQE3oDCp8
URL:https://mrvvillage.com/event/parent-child-clown-class-for-ages-2-3/
LOCATION:Waitsfield United Church Village Meeting House\, 4355 Main St\, Waitsfield\, 05673
CATEGORIES:Arts & Entertainment,Community,Family Friendly
ATTACH;FMTTYPE=image/jpeg:https://mrvvillage.com/wp-content/uploads/2023/09/0I9A2159-1-kvpM6Y.tmp_.jpg
GEO:44.1905725;-72.8237868
X-APPLE-STRUCTURED-LOCATION;VALUE=URI;X-ADDRESS=Waitsfield United Church Village Meeting House 4355 Main St Waitsfield 05673;X-APPLE-RADIUS=500;X-TITLE=4355 Main St:geo:-72.8237868,44.1905725
END:VEVENT
BEGIN:VEVENT
DTSTART;TZID=America/New_York:20231114T093000
DTEND;TZID=America/New_York:20231114T101500
DTSTAMP:20260422T224146
CREATED:20231016T164011Z
LAST-MODIFIED:20231114T213813Z
UID:10005390-1699954200-1699956900@mrvvillage.com
SUMMARY:Weekly Storytime at Inklings Children’s Books!
DESCRIPTION:Weekly Storytime at Inklings! Join us every Tuesday at 9:30am for a read aloud under the cherry blossom tree. \nAnd what goes better with books than a delicious snack?! Bring any item from Three Mountain Cafe and get 10% off your second book purchase.
URL:https://mrvvillage.com/event/weekly-storytime-at-inklings-childrens-books-5/
LOCATION:Inklings Children’s Books\, 106 Mad River Greeen\, Waitsfield\, VT\, 05673\, United States
CATEGORIES:Community,Family Friendly
ATTACH;FMTTYPE=image/jpeg:https://mrvvillage.com/wp-content/uploads/2023/10/ReadingPic2-OnemQF.tmp_.jpg
ORGANIZER;CN="Inklings%20Children%26%238217%3Bs%20Books":MAILTO:inklingschildrensbooks@gmail.com
GEO:44.1844899;-72.839037
X-APPLE-STRUCTURED-LOCATION;VALUE=URI;X-ADDRESS=Inklings Children’s Books 106 Mad River Greeen Waitsfield VT 05673 United States;X-APPLE-RADIUS=500;X-TITLE=106 Mad River Greeen:geo:-72.839037,44.1844899
END:VEVENT
BEGIN:VEVENT
DTSTART;TZID=America/New_York:20231117T000000
DTEND;TZID=America/New_York:20231117T000000
DTSTAMP:20260422T224146
CREATED:20231101T192442Z
LAST-MODIFIED:20231116T215312Z
UID:10005492-1700179200-1700179200@mrvvillage.com
SUMMARY:Spring Hill School Bid & Boogie Fundraiser
DESCRIPTION:Spring Hill School’s 24rd annual Bid & Boogie fundraiser is coming up soon! \nTHE BID: The online auction is open November 17 through 10:00am on Sunday\, December 3rd. Winning items will be picked up at Spring Hill School on Sunday\, December 3rd from 3:00pm- 6:00pm. Special thanks to our sponsors and the many local businesses\, artisans and families who donated to the auction. Shop local for a great cause! \nTHE BOOGIE: Stay tuned for more information about The Valley’s best dance party (and Spring Hill School’s 40th birthday bash)\, spring 2024! \n 
URL:https://mrvvillage.com/event/spring-hill-school-bid-boogie-fundraiser/
CATEGORIES:Community,Family Friendly
ATTACH;FMTTYPE=image/jpeg:https://mrvvillage.com/wp-content/uploads/2023/11/Spring-Hill-DRKDyG.tmp_.jpg
ORGANIZER;CN="Spring%20Hill%20School":MAILTO:shkira@madriver.com
END:VEVENT
BEGIN:VEVENT
DTSTART;TZID=America/New_York:20231117T000000
DTEND;TZID=America/New_York:20231117T000000
DTSTAMP:20260422T224146
CREATED:20231117T140812Z
LAST-MODIFIED:20231117T215313Z
UID:10005536-1700179200-1700179200@mrvvillage.com
SUMMARY:Spring Hill School Bid & Boogie Fundraiser
DESCRIPTION:Spring Hill School’s 24rd annual Bid & Boogie fundraiser is here! \nTHE BID: The online auction is open November 17 through 10:00am on Sunday\, December 3rd. Winning items will be picked up at Spring Hill School on Sunday\, December 3rd from 3:00pm- 6:00pm. Special thanks to our sponsors and the many local businesses\, artisans and families who donated to the auction. Shop local for a great cause! \nTHE BOOGIE: Stay tuned for more information about The Valley’s best dance party (and Spring Hill School’s 40th birthday bash)\, spring 2024! \n 
URL:https://mrvvillage.com/event/spring-hill-school-bid-boogie-fundraiser-3/
CATEGORIES:Community,Family Friendly
ATTACH;FMTTYPE=image/jpeg:https://mrvvillage.com/wp-content/uploads/2023/11/Spring-Hill-DRKDyG.tmp_.jpg
ORGANIZER;CN="Spring%20Hill%20School":MAILTO:shkira@madriver.com
END:VEVENT
BEGIN:VEVENT
DTSTART;TZID=America/New_York:20231117T090000
DTEND;TZID=America/New_York:20231117T150000
DTSTAMP:20260422T224146
CREATED:20230819T060510Z
LAST-MODIFIED:20230915T121333Z
UID:10004961-1700211600-1700233200@mrvvillage.com
SUMMARY:Farm and River Camps (Preschool too!)
DESCRIPTION:Living Tree Alliance’s camps immerse children in the life of the homestead\, rivers and forests through farming\, cooking\, nature crafts\, swimming\, and forest and field games. In the afternoon\, participants explore the forest through play\, fort building and of course spend ample time splashing in the Mad River and Dowsville Creek. Preschoolers will be welcome this week. Please inquire about paying per diem if a child can not attend for the week.
URL:https://mrvvillage.com/event/farm-and-river-camps-preschool-too-96/
LOCATION:Living Tree Alliance\, 96 Living Tree Ln\, Moretown\, VT\, 05660\, United States
CATEGORIES:Community,Family Friendly
ATTACH;FMTTYPE=image/jpeg:https://mrvvillage.com/wp-content/uploads/2023/05/campcard2-dXfKum.tmp_.jpg
ORGANIZER;CN="Living%20Tree%20Alliance":MAILTO:info@livingtreealliance.com
GEO:44.2472902;-72.7762636
X-APPLE-STRUCTURED-LOCATION;VALUE=URI;X-ADDRESS=Living Tree Alliance 96 Living Tree Ln Moretown VT 05660 United States;X-APPLE-RADIUS=500;X-TITLE=96 Living Tree Ln:geo:-72.7762636,44.2472902
END:VEVENT
BEGIN:VEVENT
DTSTART;TZID=America/New_York:20231118T090000
DTEND;TZID=America/New_York:20231118T150000
DTSTAMP:20260422T224146
CREATED:20230820T062004Z
LAST-MODIFIED:20230915T121333Z
UID:10004964-1700298000-1700319600@mrvvillage.com
SUMMARY:Farm and River Camps (Preschool too!)
DESCRIPTION:Living Tree Alliance’s camps immerse children in the life of the homestead\, rivers and forests through farming\, cooking\, nature crafts\, swimming\, and forest and field games. In the afternoon\, participants explore the forest through play\, fort building and of course spend ample time splashing in the Mad River and Dowsville Creek. Preschoolers will be welcome this week. Please inquire about paying per diem if a child can not attend for the week.
URL:https://mrvvillage.com/event/farm-and-river-camps-preschool-too-97/
LOCATION:Living Tree Alliance\, 96 Living Tree Ln\, Moretown\, VT\, 05660\, United States
CATEGORIES:Community,Family Friendly
ATTACH;FMTTYPE=image/jpeg:https://mrvvillage.com/wp-content/uploads/2023/05/campcard2-dXfKum.tmp_.jpg
ORGANIZER;CN="Living%20Tree%20Alliance":MAILTO:info@livingtreealliance.com
GEO:44.2472902;-72.7762636
X-APPLE-STRUCTURED-LOCATION;VALUE=URI;X-ADDRESS=Living Tree Alliance 96 Living Tree Ln Moretown VT 05660 United States;X-APPLE-RADIUS=500;X-TITLE=96 Living Tree Ln:geo:-72.7762636,44.2472902
END:VEVENT
BEGIN:VEVENT
DTSTART;TZID=America/New_York:20231118T160000
DTEND;TZID=America/New_York:20231118T180000
DTSTAMP:20260422T224146
CREATED:20231109T205350Z
LAST-MODIFIED:20231118T215313Z
UID:10005514-1700323200-1700330400@mrvvillage.com
SUMMARY:The Songbird Project
DESCRIPTION:Are you ready for change?  The shift from fall to winter brings strong emotions – from regret and anxiety to joy and resilience. Join The Songbird Project 4:00 pm Saturday November 18th at the Waitsfield UCC Village Meeting House\, upstairs\, to celebrate “stick season” through music.  This free program offers unique arrangements of works from Norah Jones and Don Henley to Van Morrison and Louis Armstrong.  Donations will be shared with VINS.  Follow us today on Facebook! \n\n\n\n 
URL:https://mrvvillage.com/event/the-songbird-project/
LOCATION:Waitsfield United Church of Christ Village Meeting House\, 4335 Main St\, Waitsfield\, VT\, 05673\, United States
CATEGORIES:Arts & Entertainment,Community,Family Friendly,Live Music
ATTACH;FMTTYPE=image/jpeg:https://mrvvillage.com/wp-content/uploads/2023/11/songbirds-logo-1-JdqXeg.tmp_.jpg
ORGANIZER;CN="Waitsfield%20United%20Church%20of%20Christ":MAILTO:info@waitsfieldchurch.org
GEO:44.1904984;-72.8233656
X-APPLE-STRUCTURED-LOCATION;VALUE=URI;X-ADDRESS=Waitsfield United Church of Christ Village Meeting House 4335 Main St Waitsfield VT 05673 United States;X-APPLE-RADIUS=500;X-TITLE=4335 Main St:geo:-72.8233656,44.1904984
END:VEVENT
BEGIN:VEVENT
DTSTART;TZID=America/New_York:20231119T090000
DTEND;TZID=America/New_York:20231119T150000
DTSTAMP:20260422T224146
CREATED:20230821T063440Z
LAST-MODIFIED:20230915T121338Z
UID:10004968-1700384400-1700406000@mrvvillage.com
SUMMARY:Farm and River Camps (Preschool too!)
DESCRIPTION:Living Tree Alliance’s camps immerse children in the life of the homestead\, rivers and forests through farming\, cooking\, nature crafts\, swimming\, and forest and field games. In the afternoon\, participants explore the forest through play\, fort building and of course spend ample time splashing in the Mad River and Dowsville Creek. Preschoolers will be welcome this week. Please inquire about paying per diem if a child can not attend for the week.
URL:https://mrvvillage.com/event/farm-and-river-camps-preschool-too-98/
LOCATION:Living Tree Alliance\, 96 Living Tree Ln\, Moretown\, VT\, 05660\, United States
CATEGORIES:Community,Family Friendly
ATTACH;FMTTYPE=image/jpeg:https://mrvvillage.com/wp-content/uploads/2023/05/campcard2-dXfKum.tmp_.jpg
ORGANIZER;CN="Living%20Tree%20Alliance":MAILTO:info@livingtreealliance.com
GEO:44.2472902;-72.7762636
X-APPLE-STRUCTURED-LOCATION;VALUE=URI;X-ADDRESS=Living Tree Alliance 96 Living Tree Ln Moretown VT 05660 United States;X-APPLE-RADIUS=500;X-TITLE=96 Living Tree Ln:geo:-72.7762636,44.2472902
END:VEVENT
END:VCALENDAR