BEGIN:VCALENDAR
VERSION:2.0
PRODID:-//The Mad River Valley Village - ECPv6.0.13//NONSGML v1.0//EN
CALSCALE:GREGORIAN
METHOD:PUBLISH
X-WR-CALNAME:The Mad River Valley Village
X-ORIGINAL-URL:https://mrvvillage.com
X-WR-CALDESC:Events for The Mad River Valley Village
REFRESH-INTERVAL;VALUE=DURATION:PT1H
X-Robots-Tag:noindex
X-PUBLISHED-TTL:PT1H
BEGIN:VTIMEZONE
TZID:America/New_York
BEGIN:DAYLIGHT
TZOFFSETFROM:-0500
TZOFFSETTO:-0400
TZNAME:EDT
DTSTART:20230312T070000
END:DAYLIGHT
BEGIN:STANDARD
TZOFFSETFROM:-0400
TZOFFSETTO:-0500
TZNAME:EST
DTSTART:20231105T060000
END:STANDARD
END:VTIMEZONE
BEGIN:VEVENT
DTSTART;TZID=America/New_York:20231120T090000
DTEND;TZID=America/New_York:20231120T150000
DTSTAMP:20260423T065820
CREATED:20230822T065042Z
LAST-MODIFIED:20230915T121338Z
UID:10004998-1700470800-1700492400@mrvvillage.com
SUMMARY:Farm and River Camps (Preschool too!)
DESCRIPTION:Living Tree Alliance’s camps immerse children in the life of the homestead\, rivers and forests through farming\, cooking\, nature crafts\, swimming\, and forest and field games. In the afternoon\, participants explore the forest through play\, fort building and of course spend ample time splashing in the Mad River and Dowsville Creek. Preschoolers will be welcome this week. Please inquire about paying per diem if a child can not attend for the week.
URL:https://mrvvillage.com/event/farm-and-river-camps-preschool-too-99/
LOCATION:Living Tree Alliance\, 96 Living Tree Ln\, Moretown\, VT\, 05660\, United States
CATEGORIES:Community,Family Friendly
ATTACH;FMTTYPE=image/jpeg:https://mrvvillage.com/wp-content/uploads/2023/05/campcard2-dXfKum.tmp_.jpg
ORGANIZER;CN="Living%20Tree%20Alliance":MAILTO:info@livingtreealliance.com
GEO:44.2472902;-72.7762636
X-APPLE-STRUCTURED-LOCATION;VALUE=URI;X-ADDRESS=Living Tree Alliance 96 Living Tree Ln Moretown VT 05660 United States;X-APPLE-RADIUS=500;X-TITLE=96 Living Tree Ln:geo:-72.7762636,44.2472902
END:VEVENT
BEGIN:VEVENT
DTSTART;TZID=America/New_York:20231121T090000
DTEND;TZID=America/New_York:20231121T150000
DTSTAMP:20260423T065820
CREATED:20230823T070521Z
LAST-MODIFIED:20230915T121351Z
UID:10005024-1700557200-1700578800@mrvvillage.com
SUMMARY:Farm and River Camps (Preschool too!)
DESCRIPTION:Living Tree Alliance’s camps immerse children in the life of the homestead\, rivers and forests through farming\, cooking\, nature crafts\, swimming\, and forest and field games. In the afternoon\, participants explore the forest through play\, fort building and of course spend ample time splashing in the Mad River and Dowsville Creek. Preschoolers will be welcome this week. Please inquire about paying per diem if a child can not attend for the week.
URL:https://mrvvillage.com/event/farm-and-river-camps-preschool-too-100/
LOCATION:Living Tree Alliance\, 96 Living Tree Ln\, Moretown\, VT\, 05660\, United States
CATEGORIES:Community,Family Friendly
ATTACH;FMTTYPE=image/jpeg:https://mrvvillage.com/wp-content/uploads/2023/05/campcard2-dXfKum.tmp_.jpg
ORGANIZER;CN="Living%20Tree%20Alliance":MAILTO:info@livingtreealliance.com
GEO:44.2472902;-72.7762636
X-APPLE-STRUCTURED-LOCATION;VALUE=URI;X-ADDRESS=Living Tree Alliance 96 Living Tree Ln Moretown VT 05660 United States;X-APPLE-RADIUS=500;X-TITLE=96 Living Tree Ln:geo:-72.7762636,44.2472902
END:VEVENT
BEGIN:VEVENT
DTSTART;TZID=America/New_York:20231121T093000
DTEND;TZID=America/New_York:20231121T101500
DTSTAMP:20260423T065820
CREATED:20231016T164025Z
LAST-MODIFIED:20231117T215328Z
UID:10005391-1700559000-1700561700@mrvvillage.com
SUMMARY:Weekly Storytime at Inklings Children’s Books!
DESCRIPTION:Weekly Storytime at Inklings! Join us every Tuesday at 9:30am for a read aloud under the cherry blossom tree. \nAnd what goes better with books than a delicious snack?! Bring any item from Three Mountain Cafe and get 10% off your second book purchase.
URL:https://mrvvillage.com/event/weekly-storytime-at-inklings-childrens-books-6/
LOCATION:Inklings Children’s Books\, 106 Mad River Greeen\, Waitsfield\, VT\, 05673\, United States
CATEGORIES:Community,Family Friendly
ATTACH;FMTTYPE=image/jpeg:https://mrvvillage.com/wp-content/uploads/2023/10/ReadingPic2-OnemQF.tmp_.jpg
ORGANIZER;CN="Inklings%20Children%26%238217%3Bs%20Books":MAILTO:inklingschildrensbooks@gmail.com
GEO:44.1844899;-72.839037
X-APPLE-STRUCTURED-LOCATION;VALUE=URI;X-ADDRESS=Inklings Children’s Books 106 Mad River Greeen Waitsfield VT 05673 United States;X-APPLE-RADIUS=500;X-TITLE=106 Mad River Greeen:geo:-72.839037,44.1844899
END:VEVENT
BEGIN:VEVENT
DTSTART;TZID=America/New_York:20231122T090000
DTEND;TZID=America/New_York:20231122T104500
DTSTAMP:20260423T065820
CREATED:20231111T210855Z
LAST-MODIFIED:20231122T222312Z
UID:10005518-1700643600-1700649900@mrvvillage.com
SUMMARY:Musical Munchkins Holiday Winter Open house
DESCRIPTION:MUSICAL MUNCHKINS Grand opening at INKLINGS CHILDRENS BOOKSTORE\nJoin Miss Andrea for a FREE Holiday winter program for her 8-week session that begins on Wednesday\, Nov 29th \nOPEN HOUSE-Nov 22nd- Baby Boogie- 9:00-9:45 for babies- 1year olds\nToddler Kids Jamboree- 10:00-10:45 toddlers & preschoolers\nWe will be singing holiday & winter songs with jingle bells\, dreidels\, drums \, puppets\, parachute play\, & so much more . Come see the fun!
URL:https://mrvvillage.com/event/musical-munchkins-holiday-winter-open-house/
LOCATION:Inklings Children’s Books\, 106 Mad River Greeen\, Waitsfield\, VT\, 05673\, United States
CATEGORIES:Arts & Entertainment,Community,Family Friendly
ATTACH;FMTTYPE=image/jpeg:https://mrvvillage.com/wp-content/uploads/2023/11/3EB1B21C-E54B-49E0-A6DA-A3ABE5BA9165_1_201_a-DZACxj.tmp_.jpg
ORGANIZER;CN="Musical%20Munchkins%20with%20Andrea":MAILTO:musicalmunchkinswithandrea@gmail.com
GEO:44.1844899;-72.839037
X-APPLE-STRUCTURED-LOCATION;VALUE=URI;X-ADDRESS=Inklings Children’s Books 106 Mad River Greeen Waitsfield VT 05673 United States;X-APPLE-RADIUS=500;X-TITLE=106 Mad River Greeen:geo:-72.839037,44.1844899
END:VEVENT
BEGIN:VEVENT
DTSTART;TZID=America/New_York:20231122T090000
DTEND;TZID=America/New_York:20231122T150000
DTSTAMP:20260423T065820
CREATED:20230824T072017Z
LAST-MODIFIED:20230915T121351Z
UID:10005027-1700643600-1700665200@mrvvillage.com
SUMMARY:Farm and River Camps (Preschool too!)
DESCRIPTION:Living Tree Alliance’s camps immerse children in the life of the homestead\, rivers and forests through farming\, cooking\, nature crafts\, swimming\, and forest and field games. In the afternoon\, participants explore the forest through play\, fort building and of course spend ample time splashing in the Mad River and Dowsville Creek. Preschoolers will be welcome this week. Please inquire about paying per diem if a child can not attend for the week.
URL:https://mrvvillage.com/event/farm-and-river-camps-preschool-too-101/
LOCATION:Living Tree Alliance\, 96 Living Tree Ln\, Moretown\, VT\, 05660\, United States
CATEGORIES:Community,Family Friendly
ATTACH;FMTTYPE=image/jpeg:https://mrvvillage.com/wp-content/uploads/2023/05/campcard2-dXfKum.tmp_.jpg
ORGANIZER;CN="Living%20Tree%20Alliance":MAILTO:info@livingtreealliance.com
GEO:44.2472902;-72.7762636
X-APPLE-STRUCTURED-LOCATION;VALUE=URI;X-ADDRESS=Living Tree Alliance 96 Living Tree Ln Moretown VT 05660 United States;X-APPLE-RADIUS=500;X-TITLE=96 Living Tree Ln:geo:-72.7762636,44.2472902
END:VEVENT
BEGIN:VEVENT
DTSTART;TZID=America/New_York:20231123T090000
DTEND;TZID=America/New_York:20231123T150000
DTSTAMP:20260423T065820
CREATED:20230825T191938Z
LAST-MODIFIED:20230915T121352Z
UID:10005032-1700730000-1700751600@mrvvillage.com
SUMMARY:Farm and River Camps (Preschool too!)
DESCRIPTION:Living Tree Alliance’s camps immerse children in the life of the homestead\, rivers and forests through farming\, cooking\, nature crafts\, swimming\, and forest and field games. In the afternoon\, participants explore the forest through play\, fort building and of course spend ample time splashing in the Mad River and Dowsville Creek. Preschoolers will be welcome this week. Please inquire about paying per diem if a child can not attend for the week.
URL:https://mrvvillage.com/event/farm-and-river-camps-preschool-too-102/
LOCATION:Living Tree Alliance\, 96 Living Tree Ln\, Moretown\, VT\, 05660\, United States
CATEGORIES:Community,Family Friendly
ATTACH;FMTTYPE=image/jpeg:https://mrvvillage.com/wp-content/uploads/2023/05/campcard2-dXfKum.tmp_.jpg
ORGANIZER;CN="Living%20Tree%20Alliance":MAILTO:info@livingtreealliance.com
GEO:44.2472902;-72.7762636
X-APPLE-STRUCTURED-LOCATION;VALUE=URI;X-ADDRESS=Living Tree Alliance 96 Living Tree Ln Moretown VT 05660 United States;X-APPLE-RADIUS=500;X-TITLE=96 Living Tree Ln:geo:-72.7762636,44.2472902
END:VEVENT
BEGIN:VEVENT
DTSTART;TZID=America/New_York:20231124T090000
DTEND;TZID=America/New_York:20231124T150000
DTSTAMP:20260423T065820
CREATED:20230826T073447Z
LAST-MODIFIED:20230915T121352Z
UID:10005035-1700816400-1700838000@mrvvillage.com
SUMMARY:Farm and River Camps (Preschool too!)
DESCRIPTION:Living Tree Alliance’s camps immerse children in the life of the homestead\, rivers and forests through farming\, cooking\, nature crafts\, swimming\, and forest and field games. In the afternoon\, participants explore the forest through play\, fort building and of course spend ample time splashing in the Mad River and Dowsville Creek. Preschoolers will be welcome this week. Please inquire about paying per diem if a child can not attend for the week.
URL:https://mrvvillage.com/event/farm-and-river-camps-preschool-too-103/
LOCATION:Living Tree Alliance\, 96 Living Tree Ln\, Moretown\, VT\, 05660\, United States
CATEGORIES:Community,Family Friendly
ATTACH;FMTTYPE=image/jpeg:https://mrvvillage.com/wp-content/uploads/2023/05/campcard2-dXfKum.tmp_.jpg
ORGANIZER;CN="Living%20Tree%20Alliance":MAILTO:info@livingtreealliance.com
GEO:44.2472902;-72.7762636
X-APPLE-STRUCTURED-LOCATION;VALUE=URI;X-ADDRESS=Living Tree Alliance 96 Living Tree Ln Moretown VT 05660 United States;X-APPLE-RADIUS=500;X-TITLE=96 Living Tree Ln:geo:-72.7762636,44.2472902
END:VEVENT
BEGIN:VEVENT
DTSTART;TZID=America/New_York:20231125T090000
DTEND;TZID=America/New_York:20231125T150000
DTSTAMP:20260423T065820
CREATED:20230827T075023Z
LAST-MODIFIED:20230915T121352Z
UID:10005054-1700902800-1700924400@mrvvillage.com
SUMMARY:Farm and River Camps (Preschool too!)
DESCRIPTION:Living Tree Alliance’s camps immerse children in the life of the homestead\, rivers and forests through farming\, cooking\, nature crafts\, swimming\, and forest and field games. In the afternoon\, participants explore the forest through play\, fort building and of course spend ample time splashing in the Mad River and Dowsville Creek. Preschoolers will be welcome this week. Please inquire about paying per diem if a child can not attend for the week.
URL:https://mrvvillage.com/event/farm-and-river-camps-preschool-too-104/
LOCATION:Living Tree Alliance\, 96 Living Tree Ln\, Moretown\, VT\, 05660\, United States
CATEGORIES:Community,Family Friendly
ATTACH;FMTTYPE=image/jpeg:https://mrvvillage.com/wp-content/uploads/2023/05/campcard2-dXfKum.tmp_.jpg
ORGANIZER;CN="Living%20Tree%20Alliance":MAILTO:info@livingtreealliance.com
GEO:44.2472902;-72.7762636
X-APPLE-STRUCTURED-LOCATION;VALUE=URI;X-ADDRESS=Living Tree Alliance 96 Living Tree Ln Moretown VT 05660 United States;X-APPLE-RADIUS=500;X-TITLE=96 Living Tree Ln:geo:-72.7762636,44.2472902
END:VEVENT
BEGIN:VEVENT
DTSTART;TZID=America/New_York:20231126T090000
DTEND;TZID=America/New_York:20231126T150000
DTSTAMP:20260423T065820
CREATED:20230828T200506Z
LAST-MODIFIED:20230915T121352Z
UID:10005058-1700989200-1701010800@mrvvillage.com
SUMMARY:Farm and River Camps (Preschool too!)
DESCRIPTION:Living Tree Alliance’s camps immerse children in the life of the homestead\, rivers and forests through farming\, cooking\, nature crafts\, swimming\, and forest and field games. In the afternoon\, participants explore the forest through play\, fort building and of course spend ample time splashing in the Mad River and Dowsville Creek. Preschoolers will be welcome this week. Please inquire about paying per diem if a child can not attend for the week.
URL:https://mrvvillage.com/event/farm-and-river-camps-preschool-too-105/
LOCATION:Living Tree Alliance\, 96 Living Tree Ln\, Moretown\, VT\, 05660\, United States
CATEGORIES:Community,Family Friendly
ATTACH;FMTTYPE=image/jpeg:https://mrvvillage.com/wp-content/uploads/2023/05/campcard2-dXfKum.tmp_.jpg
ORGANIZER;CN="Living%20Tree%20Alliance":MAILTO:info@livingtreealliance.com
GEO:44.2472902;-72.7762636
X-APPLE-STRUCTURED-LOCATION;VALUE=URI;X-ADDRESS=Living Tree Alliance 96 Living Tree Ln Moretown VT 05660 United States;X-APPLE-RADIUS=500;X-TITLE=96 Living Tree Ln:geo:-72.7762636,44.2472902
END:VEVENT
END:VCALENDAR