BEGIN:VCALENDAR
VERSION:2.0
PRODID:-//The Mad River Valley Village - ECPv6.0.13//NONSGML v1.0//EN
CALSCALE:GREGORIAN
METHOD:PUBLISH
X-ORIGINAL-URL:https://mrvvillage.com
X-WR-CALDESC:Events for The Mad River Valley Village
REFRESH-INTERVAL;VALUE=DURATION:PT1H
X-Robots-Tag:noindex
X-PUBLISHED-TTL:PT1H
BEGIN:VTIMEZONE
TZID:America/New_York
BEGIN:DAYLIGHT
TZOFFSETFROM:-0500
TZOFFSETTO:-0400
TZNAME:EDT
DTSTART:20230312T070000
END:DAYLIGHT
BEGIN:STANDARD
TZOFFSETFROM:-0400
TZOFFSETTO:-0500
TZNAME:EST
DTSTART:20231105T060000
END:STANDARD
BEGIN:DAYLIGHT
TZOFFSETFROM:-0500
TZOFFSETTO:-0400
TZNAME:EDT
DTSTART:20240310T070000
END:DAYLIGHT
BEGIN:STANDARD
TZOFFSETFROM:-0400
TZOFFSETTO:-0500
TZNAME:EST
DTSTART:20241103T060000
END:STANDARD
END:VTIMEZONE
BEGIN:VEVENT
DTSTART;TZID=America/New_York:20231129T090000
DTEND;TZID=America/New_York:20240124T094500
DTSTAMP:20260423T051420
CREATED:20231111T210926Z
LAST-MODIFIED:20231129T153834Z
UID:10005520-1701248400-1706089500@mrvvillage.com
SUMMARY:Holiday Winter Baby music classes for 4mos- 14 mos (non walkers)
DESCRIPTION:Musical Munchkins Baby music class. Babies are musical in the womb\, so it’s never too early to begin your musical education with your baby. You will learn delightful musical ways to play with your baby\, make friends\, and nurture your baby’s sensory development and natural musicianship. Babies love the gentle bouncing\, instrument plays with shakers\, drums\, bells\, glockenspiels\, prop play\, peek-a-boo games\, tickling rhymes\, baby massages\, and dancing included in our specialized 45-minute class. Please bring a small blanket for your baby to lie down on.\nincludes uploaded digital music of songs we will be singing in class.\nFor information\, fees & registration go to \, www.musicalmunchkins.net
URL:https://mrvvillage.com/event/holiday-winter-baby-music-classes-for-4mos-14-mos-non-walkers/
LOCATION:Inklings Children’s Books\, 106 Mad River Greeen\, Waitsfield\, VT\, 05673\, United States
CATEGORIES:Arts & Entertainment,Community,Family Friendly
ATTACH;FMTTYPE=image/jpeg:https://mrvvillage.com/wp-content/uploads/2023/11/292615646_457756686356599_8227499784858362724_n-mKKh9w.tmp_.jpg
ORGANIZER;CN="Musical%20Munchkins%20with%20Andrea":MAILTO:musicalmunchkinswithandrea@gmail.com
GEO:44.1844899;-72.839037
X-APPLE-STRUCTURED-LOCATION;VALUE=URI;X-ADDRESS=Inklings Children’s Books 106 Mad River Greeen Waitsfield VT 05673 United States;X-APPLE-RADIUS=500;X-TITLE=106 Mad River Greeen:geo:-72.839037,44.1844899
END:VEVENT
BEGIN:VEVENT
DTSTART;TZID=America/New_York:20231129T100000
DTEND;TZID=America/New_York:20240124T104500
DTSTAMP:20260423T051420
CREATED:20231111T210926Z
LAST-MODIFIED:20231129T153834Z
UID:10005521-1701252000-1706093100@mrvvillage.com
SUMMARY:Musical Munchkins Holiday winter classes for Toddlers & Preschoolers
DESCRIPTION:Our winter session weaves a tapestry of Holiday and winter songs movement games\, puppets\, flannel board stories\, songbooks\, instruments: Jingle Bells\, glockenspiels\, xylophones\, Triangles\, Woods\, lollipop drums\, and of course our Gathering drums that will keep your little ones singing\, playing\, dancing and having a great time while learning so much. After music class\, you can enjoy art activities and browse Inklings Children’s Book Store’s beautiful selection of books for toddlers and preschoolers.
URL:https://mrvvillage.com/event/musical-munchkins-holiday-winter-classes-for-toddlers-preschoolers/
LOCATION:Inklings Children’s Books\, 106 Mad River Greeen\, Waitsfield\, VT\, 05673\, United States
CATEGORIES:Arts & Entertainment,Community,Family Friendly
ATTACH;FMTTYPE=image/jpeg:https://mrvvillage.com/wp-content/uploads/2023/11/292615646_457756686356599_8227499784858362724_n-mKKh9w.tmp_.jpg
ORGANIZER;CN="Musical%20Munchkins%20with%20Andrea":MAILTO:musicalmunchkinswithandrea@gmail.com
GEO:44.1844899;-72.839037
X-APPLE-STRUCTURED-LOCATION;VALUE=URI;X-ADDRESS=Inklings Children’s Books 106 Mad River Greeen Waitsfield VT 05673 United States;X-APPLE-RADIUS=500;X-TITLE=106 Mad River Greeen:geo:-72.839037,44.1844899
END:VEVENT
BEGIN:VEVENT
DTSTART;TZID=America/New_York:20231219T093000
DTEND;TZID=America/New_York:20231219T101500
DTSTAMP:20260423T051420
CREATED:20231016T164108Z
LAST-MODIFIED:20231117T215442Z
UID:10005395-1702978200-1702980900@mrvvillage.com
SUMMARY:Weekly Storytime at Inklings Children’s Books!
DESCRIPTION:Weekly Storytime at Inklings! Join us every Tuesday at 9:30am for a read aloud under the cherry blossom tree. \nAnd what goes better with books than a delicious snack?! Bring any item from Three Mountain Cafe and get 10% off your second book purchase.
URL:https://mrvvillage.com/event/weekly-storytime-at-inklings-childrens-books-10/
LOCATION:Inklings Children’s Books\, 106 Mad River Greeen\, Waitsfield\, VT\, 05673\, United States
CATEGORIES:Community,Family Friendly
ATTACH;FMTTYPE=image/jpeg:https://mrvvillage.com/wp-content/uploads/2023/10/ReadingPic2-OnemQF.tmp_.jpg
ORGANIZER;CN="Inklings%20Children%26%238217%3Bs%20Books":MAILTO:inklingschildrensbooks@gmail.com
GEO:44.1844899;-72.839037
X-APPLE-STRUCTURED-LOCATION;VALUE=URI;X-ADDRESS=Inklings Children’s Books 106 Mad River Greeen Waitsfield VT 05673 United States;X-APPLE-RADIUS=500;X-TITLE=106 Mad River Greeen:geo:-72.839037,44.1844899
END:VEVENT
BEGIN:VEVENT
DTSTART;TZID=America/New_York:20231221T180000
DTEND;TZID=America/New_York:20231221T200000
DTSTAMP:20260423T051420
CREATED:20231212T052407Z
LAST-MODIFIED:20231221T200827Z
UID:10005697-1703181600-1703188800@mrvvillage.com
SUMMARY:Solstice Stargazing
DESCRIPTION:Drop in anytime and explore the sky on the longest night of the year with Joel Greene from the Vermont Astronomical Society. Telescopes\, binoculars and hot chocolate will be provided\, please make sure to dress to be comfortable outside.
URL:https://mrvvillage.com/event/solstice-stargazing/
LOCATION:Moretown Recreation Fields\, 79 School Street\, Moretown\, Vermont\, 05660\, United States
CATEGORIES:Community,Family Friendly,Public Welcome
ATTACH;FMTTYPE=image/jpeg:https://mrvvillage.com/wp-content/uploads/2023/12/Solstice-Stargazing-MML-eB8Bm3.tmp_.jpg
ORGANIZER;CN="Moretown%20Library":MAILTO:moretownlibrary@gmail.com
GEO:44.2480955;-72.7614818
X-APPLE-STRUCTURED-LOCATION;VALUE=URI;X-ADDRESS=Moretown Recreation Fields 79 School Street Moretown Vermont 05660 United States;X-APPLE-RADIUS=500;X-TITLE=79 School Street:geo:-72.7614818,44.2480955
END:VEVENT
BEGIN:VEVENT
DTSTART;TZID=America/New_York:20231222T090000
DTEND;TZID=America/New_York:20231223T170000
DTSTAMP:20260423T051420
CREATED:20231219T070827Z
LAST-MODIFIED:20231222T202336Z
UID:10005723-1703235600-1703350800@mrvvillage.com
SUMMARY:Inklings Children’s Books – 2 DAY SALE!
DESCRIPTION:It’s time for Inklings Jolabokaflod two-day sale. \nJolabokaflod is the Icelandic tradition of reading a book on Christmas Eve usually\, in front of the fire with something chocolatey. \nOn Friday and Saturday\, December 22 and 23\, Inklings will be having its first annual Jolabokaflod Sale\, offering 10% off purchases store-wide. QUAYL’S CHOCOLATES will be joining us on December 22 from noon to 2:00 p.m. with her  homemade chocolate.MADIGAN LINNANE will be joining us on December 23 at noon to play some holiday favorites for the children.
URL:https://mrvvillage.com/event/inklings-childrens-books-2-day-sale/
LOCATION:Unnamed Venue\, United States
CATEGORIES:Family Friendly
ATTACH;FMTTYPE=image/png:https://mrvvillage.com/wp-content/uploads/2023/12/JolabokaflodSale-ZYCbzm.tmp_.png
GEO:37.09024;-95.712891
END:VEVENT
BEGIN:VEVENT
DTSTART;TZID=America/New_York:20231223T130000
DTEND;TZID=America/New_York:20231223T150000
DTSTAMP:20260423T051420
CREATED:20231123T145421Z
LAST-MODIFIED:20231223T203822Z
UID:10005562-1703336400-1703343600@mrvvillage.com
SUMMARY:Christmas Carol Sing-Along
DESCRIPTION:Join Kind Bud and his acoustic guitar for a Family Christmas Carol Sing-Along. Sing 20 Traditional Christmas Carols with Kind Bud. Caroling books will be provided so everyone can join in.
URL:https://mrvvillage.com/event/christmas-carol-sing-along/
LOCATION:Sugarbush Resort\, 102 Forest Drive Warren\, VT 05674\, Warren\, 05674
CATEGORIES:Family Friendly,Sugarbush
ATTACH;FMTTYPE=image/jpeg:https://mrvvillage.com/wp-content/uploads/2023/11/kind-bud-rumbles-holiday-88h6Od.tmp_.jpg
GEO:44.1272818;-72.9284492
X-APPLE-STRUCTURED-LOCATION;VALUE=URI;X-ADDRESS=Sugarbush Resort 102 Forest Drive Warren VT 05674 Warren 05674;X-APPLE-RADIUS=500;X-TITLE=102 Forest Drive Warren\, VT 05674:geo:-72.9284492,44.1272818
END:VEVENT
BEGIN:VEVENT
DTSTART;TZID=America/New_York:20231224T050000
DTEND;TZID=America/New_York:20231224T200000
DTSTAMP:20260423T051420
CREATED:20231212T183904Z
LAST-MODIFIED:20231224T205327Z
UID:10005700-1703394000-1703448000@mrvvillage.com
SUMMARY:Christmas Eve Dinner
DESCRIPTION:A special 3 course menu. Reservations are required.
URL:https://mrvvillage.com/event/christmas-eve-dinner/
LOCATION:Tucker Hill Inn\, 65 Marble Hill Road\, Waitsfield\, 05673
CATEGORIES:Community,Dining,Family Friendly
ATTACH;FMTTYPE=image/png:https://mrvvillage.com/wp-content/uploads/2023/12/thi-logo-fvq8Fm.tmp_.png
ORGANIZER;CN="Tucker%20Hill%20Inn":MAILTO:stephen@tuckerhill.com
GEO:44.1816177;-72.8652725
X-APPLE-STRUCTURED-LOCATION;VALUE=URI;X-ADDRESS=Tucker Hill Inn 65 Marble Hill Road Waitsfield 05673;X-APPLE-RADIUS=500;X-TITLE=65 Marble Hill Road:geo:-72.8652725,44.1816177
END:VEVENT
BEGIN:VEVENT
DTSTART;TZID=America/New_York:20231224T170000
DTEND;TZID=America/New_York:20231224T180000
DTSTAMP:20260423T051420
CREATED:20231123T145422Z
LAST-MODIFIED:20231224T205327Z
UID:10005564-1703437200-1703440800@mrvvillage.com
SUMMARY:Christmas Eve service in Gate House Lodge
DESCRIPTION:Join us at our non-denominational Christmas Eve service in Gate House Lodge at Lincoln Peak.
URL:https://mrvvillage.com/event/christmas-eve-service-in-gate-house-lodge/
LOCATION:Sugarbush Resort\, 102 Forest Drive Warren\, VT 05674\, Warren\, 05674
CATEGORIES:Family Friendly,Sugarbush
ATTACH;FMTTYPE=image/webp:https://mrvvillage.com/wp-content/uploads/2023/11/2020-01-16-ja-sugarbush-002-scaled-viCYKN.tmp_.webp
GEO:44.1272818;-72.9284492
X-APPLE-STRUCTURED-LOCATION;VALUE=URI;X-ADDRESS=Sugarbush Resort 102 Forest Drive Warren VT 05674 Warren 05674;X-APPLE-RADIUS=500;X-TITLE=102 Forest Drive Warren\, VT 05674:geo:-72.9284492,44.1272818
END:VEVENT
END:VCALENDAR