BEGIN:VCALENDAR
VERSION:2.0
PRODID:-//The Mad River Valley Village - ECPv6.0.13//NONSGML v1.0//EN
CALSCALE:GREGORIAN
METHOD:PUBLISH
X-ORIGINAL-URL:https://mrvvillage.com
X-WR-CALDESC:Events for The Mad River Valley Village
REFRESH-INTERVAL;VALUE=DURATION:PT1H
X-Robots-Tag:noindex
X-PUBLISHED-TTL:PT1H
BEGIN:VTIMEZONE
TZID:America/New_York
BEGIN:DAYLIGHT
TZOFFSETFROM:-0500
TZOFFSETTO:-0400
TZNAME:EDT
DTSTART:20230312T070000
END:DAYLIGHT
BEGIN:STANDARD
TZOFFSETFROM:-0400
TZOFFSETTO:-0500
TZNAME:EST
DTSTART:20231105T060000
END:STANDARD
BEGIN:DAYLIGHT
TZOFFSETFROM:-0500
TZOFFSETTO:-0400
TZNAME:EDT
DTSTART:20240310T070000
END:DAYLIGHT
BEGIN:STANDARD
TZOFFSETFROM:-0400
TZOFFSETTO:-0500
TZNAME:EST
DTSTART:20241103T060000
END:STANDARD
TZID:UTC
BEGIN:STANDARD
TZOFFSETFROM:+0000
TZOFFSETTO:+0000
TZNAME:UTC
DTSTART:20240101T000000
END:STANDARD
END:VTIMEZONE
BEGIN:VEVENT
DTSTART;TZID=America/New_York:20231129T090000
DTEND;TZID=America/New_York:20240124T094500
DTSTAMP:20260423T171236
CREATED:20231111T210926Z
LAST-MODIFIED:20231129T153834Z
UID:10005520-1701248400-1706089500@mrvvillage.com
SUMMARY:Holiday Winter Baby music classes for 4mos- 14 mos (non walkers)
DESCRIPTION:Musical Munchkins Baby music class. Babies are musical in the womb\, so it’s never too early to begin your musical education with your baby. You will learn delightful musical ways to play with your baby\, make friends\, and nurture your baby’s sensory development and natural musicianship. Babies love the gentle bouncing\, instrument plays with shakers\, drums\, bells\, glockenspiels\, prop play\, peek-a-boo games\, tickling rhymes\, baby massages\, and dancing included in our specialized 45-minute class. Please bring a small blanket for your baby to lie down on.\nincludes uploaded digital music of songs we will be singing in class.\nFor information\, fees & registration go to \, www.musicalmunchkins.net
URL:https://mrvvillage.com/event/holiday-winter-baby-music-classes-for-4mos-14-mos-non-walkers/
LOCATION:Inklings Children’s Books\, 106 Mad River Greeen\, Waitsfield\, VT\, 05673\, United States
CATEGORIES:Arts & Entertainment,Community,Family Friendly
ATTACH;FMTTYPE=image/jpeg:https://mrvvillage.com/wp-content/uploads/2023/11/292615646_457756686356599_8227499784858362724_n-mKKh9w.tmp_.jpg
ORGANIZER;CN="Musical%20Munchkins%20with%20Andrea":MAILTO:musicalmunchkinswithandrea@gmail.com
GEO:44.1844899;-72.839037
X-APPLE-STRUCTURED-LOCATION;VALUE=URI;X-ADDRESS=Inklings Children’s Books 106 Mad River Greeen Waitsfield VT 05673 United States;X-APPLE-RADIUS=500;X-TITLE=106 Mad River Greeen:geo:-72.839037,44.1844899
END:VEVENT
BEGIN:VEVENT
DTSTART;TZID=America/New_York:20231129T100000
DTEND;TZID=America/New_York:20240124T104500
DTSTAMP:20260423T171236
CREATED:20231111T210926Z
LAST-MODIFIED:20231129T153834Z
UID:10005521-1701252000-1706093100@mrvvillage.com
SUMMARY:Musical Munchkins Holiday winter classes for Toddlers & Preschoolers
DESCRIPTION:Our winter session weaves a tapestry of Holiday and winter songs movement games\, puppets\, flannel board stories\, songbooks\, instruments: Jingle Bells\, glockenspiels\, xylophones\, Triangles\, Woods\, lollipop drums\, and of course our Gathering drums that will keep your little ones singing\, playing\, dancing and having a great time while learning so much. After music class\, you can enjoy art activities and browse Inklings Children’s Book Store’s beautiful selection of books for toddlers and preschoolers.
URL:https://mrvvillage.com/event/musical-munchkins-holiday-winter-classes-for-toddlers-preschoolers/
LOCATION:Inklings Children’s Books\, 106 Mad River Greeen\, Waitsfield\, VT\, 05673\, United States
CATEGORIES:Arts & Entertainment,Community,Family Friendly
ATTACH;FMTTYPE=image/jpeg:https://mrvvillage.com/wp-content/uploads/2023/11/292615646_457756686356599_8227499784858362724_n-mKKh9w.tmp_.jpg
ORGANIZER;CN="Musical%20Munchkins%20with%20Andrea":MAILTO:musicalmunchkinswithandrea@gmail.com
GEO:44.1844899;-72.839037
X-APPLE-STRUCTURED-LOCATION;VALUE=URI;X-ADDRESS=Inklings Children’s Books 106 Mad River Greeen Waitsfield VT 05673 United States;X-APPLE-RADIUS=500;X-TITLE=106 Mad River Greeen:geo:-72.839037,44.1844899
END:VEVENT
BEGIN:VEVENT
DTSTART;TZID=America/New_York:20240117T100000
DTEND;TZID=America/New_York:20240117T230000
DTSTAMP:20260423T171236
CREATED:20240111T125409Z
LAST-MODIFIED:20240117T143827Z
UID:10005856-1705485600-1705532400@mrvvillage.com
SUMMARY:Musical Munchkins Holiday winter classes for Toddlers & Preschoolers
DESCRIPTION:Our winter session weaves a tapestry of Holiday and winter songs movement games\, puppets\, flannel board stories\, songbooks\, instruments: Jingle Bells\, glockenspiels\, xylophones\, Triangles\, Woods\, lollipop drums\, and of course our Gathering drums that will keep your little ones singing\, playing\, dancing and having a great time while learning so much. After music class\, you can enjoy art activities and browse Inklings Children’s Book Store’s beautiful selection of books for toddlers and preschoolers.
URL:https://mrvvillage.com/event/musical-munchkins-holiday-winter-classes-for-toddlers-preschoolers-2/
LOCATION:Inklings Children’s Books\, 106 Mad River Greeen\, Waitsfield\, VT\, 05673\, United States
CATEGORIES:Arts & Entertainment,Community,Family Friendly
ATTACH;FMTTYPE=image/jpeg:https://mrvvillage.com/wp-content/uploads/2023/11/292615646_457756686356599_8227499784858362724_n-mKKh9w.tmp_.jpg
ORGANIZER;CN="Musical%20Munchkins%20with%20Andrea":MAILTO:musicalmunchkinswithandrea@gmail.com
GEO:44.1844899;-72.839037
X-APPLE-STRUCTURED-LOCATION;VALUE=URI;X-ADDRESS=Inklings Children’s Books 106 Mad River Greeen Waitsfield VT 05673 United States;X-APPLE-RADIUS=500;X-TITLE=106 Mad River Greeen:geo:-72.839037,44.1844899
END:VEVENT
BEGIN:VEVENT
DTSTART;TZID=UTC:20240117T170000
DTEND;TZID=UTC:20240117T210000
DTSTAMP:20260423T171236
CREATED:20231218T194002Z
LAST-MODIFIED:20240117T143827Z
UID:10005720-1705510800-1705525200@mrvvillage.com
SUMMARY:MRB Pub Music Series: Al’s Pals
DESCRIPTION:Join us for live music\, food & drinks from 5:00-9:00pm. Music featuring Al’s Pals
URL:https://mrvvillage.com/event/mrb-pub-music-series-als-pals-7/
LOCATION:Mad River Barn
CATEGORIES:Dining,Family Friendly,Live Music,Public Welcome
ATTACH;FMTTYPE=image/png:https://mrvvillage.com/wp-content/uploads/2023/12/PalsParty-3E9eEp.tmp_-z7HjPH.tmp_.png
GEO:44.195472;-72.8915611
END:VEVENT
BEGIN:VEVENT
DTSTART;TZID=America/New_York:20240117T180000
DTEND;TZID=America/New_York:20240117T210000
DTSTAMP:20260423T171236
CREATED:20240111T125413Z
LAST-MODIFIED:20240117T143827Z
UID:10005858-1705514400-1705525200@mrvvillage.com
SUMMARY:Live Music with “Cooper”
DESCRIPTION:Join us in Tracks to hear local favorite Bob “Cooper” Recupero as he entertains on his guitar with covers by artists ranging from Hank Williams and John Prine to Lyle Lovett and Bob Dylan. Enjoy with a local craft draft or a full 3-course tavern dinner (or both)!
URL:https://mrvvillage.com/event/live-music-with-cooper/
LOCATION:Tracks\, 275 Main Street\, Warren\, VT\, 05674\, United States
CATEGORIES:Arts & Entertainment,Community,Family Friendly,Live Music
ORGANIZER;CN="The%20Pitcher%20Inn":MAILTO:info@pitcherinn.com
GEO:44.1147044;-72.8555594
X-APPLE-STRUCTURED-LOCATION;VALUE=URI;X-ADDRESS=Tracks 275 Main Street Warren VT 05674 United States;X-APPLE-RADIUS=500;X-TITLE=275 Main Street:geo:-72.8555594,44.1147044
END:VEVENT
BEGIN:VEVENT
DTSTART;TZID=America/New_York:20240118T090000
DTEND;TZID=America/New_York:20240118T220000
DTSTAMP:20260423T171236
CREATED:20240112T130908Z
LAST-MODIFIED:20240118T145323Z
UID:10005861-1705568400-1705615200@mrvvillage.com
SUMMARY:Holiday Winter Baby music classes for 4mos- 14 mos (non walkers)
DESCRIPTION:Musical Munchkins Baby music class. Babies are musical in the womb\, so it’s never too early to begin your musical education with your baby. You will learn delightful musical ways to play with your baby\, make friends\, and nurture your baby’s sensory development and natural musicianship. Babies love the gentle bouncing\, instrument plays with shakers\, drums\, bells\, glockenspiels\, prop play\, peek-a-boo games\, tickling rhymes\, baby massages\, and dancing included in our specialized 45-minute class. Please bring a small blanket for your baby to lie down on.\nincludes uploaded digital music of songs we will be singing in class.\nFor information\, fees & registration go to \, www.musicalmunchkins.net
URL:https://mrvvillage.com/event/holiday-winter-baby-music-classes-for-4mos-14-mos-non-walkers-2/
LOCATION:Inklings Children’s Books\, 106 Mad River Greeen\, Waitsfield\, VT\, 05673\, United States
CATEGORIES:Arts & Entertainment,Community,Family Friendly
ATTACH;FMTTYPE=image/jpeg:https://mrvvillage.com/wp-content/uploads/2023/11/292615646_457756686356599_8227499784858362724_n-mKKh9w.tmp_.jpg
ORGANIZER;CN="Musical%20Munchkins%20with%20Andrea":MAILTO:musicalmunchkinswithandrea@gmail.com
GEO:44.1844899;-72.839037
X-APPLE-STRUCTURED-LOCATION;VALUE=URI;X-ADDRESS=Inklings Children’s Books 106 Mad River Greeen Waitsfield VT 05673 United States;X-APPLE-RADIUS=500;X-TITLE=106 Mad River Greeen:geo:-72.839037,44.1844899
END:VEVENT
BEGIN:VEVENT
DTSTART;TZID=America/New_York:20240120T100000
DTEND;TZID=America/New_York:20240120T110000
DTSTAMP:20260423T171236
CREATED:20240107T115438Z
LAST-MODIFIED:20240120T152320Z
UID:10005830-1705744800-1705748400@mrvvillage.com
SUMMARY:Author Reading at Inklings Children’s Books!
DESCRIPTION:Inklings is so excited to welcome author Cedar Pruitt on Saturday\, January 20th at 10am! \nFIRE FLIGHT: A WILDFIRE ESCAPE explores an owl’s real-life flight out of a California wildfire and right into a surprise that made headlines around the world. \nCedar will have owl photos\, owl sounds\, and owl activities following the reading!! \nCEDAR PRUITT also works as a diversity\, equity and inclusion (DEI) facilitator. She advocates for marginalized voices\, as well as parks and urban green spaces. Her happiest place is in the woods with her family.
URL:https://mrvvillage.com/event/author-reading-at-inklings-childrens-books-2/
LOCATION:Inklings Children’s Books\, 106 Mad River Greeen\, Waitsfield\, VT\, 05673\, United States
CATEGORIES:Community,Family Friendly
ATTACH;FMTTYPE=image/jpeg:https://mrvvillage.com/wp-content/uploads/2024/01/CedarPruittVisit-copy-zdrUDe.tmp_.jpg
ORGANIZER;CN="Inklings%20Children%26%238217%3Bs%20Books":MAILTO:inklingschildrensbooks@gmail.com
GEO:44.1844899;-72.839037
X-APPLE-STRUCTURED-LOCATION;VALUE=URI;X-ADDRESS=Inklings Children’s Books 106 Mad River Greeen Waitsfield VT 05673 United States;X-APPLE-RADIUS=500;X-TITLE=106 Mad River Greeen:geo:-72.839037,44.1844899
END:VEVENT
BEGIN:VEVENT
DTSTART;TZID=America/New_York:20240120T150000
DTEND;TZID=America/New_York:20240120T160000
DTSTAMP:20260423T171236
CREATED:20231123T145609Z
LAST-MODIFIED:20240120T152320Z
UID:10005602-1705762800-1705766400@mrvvillage.com
SUMMARY:High Energy Juggling with Jason Tardy
DESCRIPTION:You may have seen juggling\, but you haven’t truly experienced it until you’ve seen the explosive\, inventive\, high-energy juggling of Jason Tardy. His show is a combination of many years of relentless practice\, and virtually no social life whatsoever. His hilarious show includes innovative choreographed juggling to music\, fitting his body through a tennis racket\, bowling ball juggling\, balancing a ladder on his face\, standing on a yoga ball\, and if you trust him enough; fire eating and fire breathing!
URL:https://mrvvillage.com/event/high-energy-juggling-with-jason-tardy-2/
LOCATION:Gate House Lodge\, Lincoln Peak
CATEGORIES:Family Friendly,Sugarbush
ATTACH;FMTTYPE=image/jpeg:https://mrvvillage.com/wp-content/uploads/2023/11/juggling-with-jason-tardy-XCMUyR.tmp_.jpg
GEO:44.1272818;-72.9284492
X-APPLE-STRUCTURED-LOCATION;VALUE=URI;X-ADDRESS=Gate House Lodge Lincoln Peak;X-APPLE-RADIUS=500;X-TITLE=Lincoln Peak:geo:-72.9284492,44.1272818
END:VEVENT
BEGIN:VEVENT
DTSTART;TZID=America/New_York:20240121T000000
DTEND;TZID=America/New_York:20240121T235959
DTSTAMP:20260423T171236
CREATED:20240104T233944Z
LAST-MODIFIED:20240121T153822Z
UID:10005819-1705795200-1705881599@mrvvillage.com
SUMMARY:Karate School Open House and  Free Trial Classes
DESCRIPTION:Central Vermont Martial Arts\, a Karate school offering classes on Wednesdays in Moretown\, is having an Open House on Sunday\, January 21\, 2024. \nThe event is  free\, and includes five free classes that anyone in the community is welcome to attend – even if you’ll never become a regular student. \n1045 – 1115: Young warriors aged 6-11 can experience martial arts in our specially tailored Trial Class for Kids. It’s a  blend of fun and discipline. \n1130 – 1230: Adults (12+)\, it’s your turn to step onto the mat. Our Adult Trial Class offers a way to dive into the art and discover your potential. \n1230 – 115: Join us for a Potluck Lunch. Meet current students\, ask questions\, and enjoy a variety of dishes brought by fellow attendees. \n115 – 145: Another chance for kids to shine in our Trial Class for Kids.  Kids are free to attend one or both. \n200 – 300: We’re back with a second Trial Class for Adults. Whether you’re here for round two or just joining\, all are welcome. \n315 – 445: Cap off the day with our Self-Defense Class for Adults (recommended for 16+). Learn practical skills to empower and protect yourself. \nArrive at least 5 minutes early for any classes you wish to join. This day is more than just classes; it’s an opportunity to be part of a community. \nFor More Information:\nFacebook Event: https://www.facebook.com/events/269150799141631\nWebsite Page: https://www.centralvermontmartialarts.com/open-house
URL:https://mrvvillage.com/event/karate-school-open-house-and-free-trial-classes/
LOCATION:Moretown Town Hall\, 1147 Rte 100B\, Moretown\, VT\, 05660
CATEGORIES:Family Friendly,Public Welcome,Sports & Recreation
ATTACH;FMTTYPE=image/png:https://mrvvillage.com/wp-content/uploads/2024/01/Event-Flyer-E8NHsG.tmp_.png
ORGANIZER;CN="Central%20Vermont%20Martial%20Arts":MAILTO:jeremylesniak@gmail.com
GEO:44.2693866;-72.7462061
X-APPLE-STRUCTURED-LOCATION;VALUE=URI;X-ADDRESS=Moretown Town Hall 1147 Rte 100B Moretown VT 05660;X-APPLE-RADIUS=500;X-TITLE=1147 Rte 100B:geo:-72.7462061,44.2693866
END:VEVENT
END:VCALENDAR