BEGIN:VCALENDAR
VERSION:2.0
PRODID:-//The Mad River Valley Village - ECPv6.0.13//NONSGML v1.0//EN
CALSCALE:GREGORIAN
METHOD:PUBLISH
X-ORIGINAL-URL:https://mrvvillage.com
X-WR-CALDESC:Events for The Mad River Valley Village
REFRESH-INTERVAL;VALUE=DURATION:PT1H
X-Robots-Tag:noindex
X-PUBLISHED-TTL:PT1H
BEGIN:VTIMEZONE
TZID:UTC
BEGIN:STANDARD
TZOFFSETFROM:+0000
TZOFFSETTO:+0000
TZNAME:UTC
DTSTART:20240101T000000
END:STANDARD
TZID:America/New_York
BEGIN:DAYLIGHT
TZOFFSETFROM:-0500
TZOFFSETTO:-0400
TZNAME:EDT
DTSTART:20240310T070000
END:DAYLIGHT
BEGIN:STANDARD
TZOFFSETFROM:-0400
TZOFFSETTO:-0500
TZNAME:EST
DTSTART:20241103T060000
END:STANDARD
END:VTIMEZONE
BEGIN:VEVENT
DTSTART;TZID=UTC:20240320T170000
DTEND;TZID=UTC:20240320T210000
DTSTAMP:20260423T234548
CREATED:20240219T205526Z
LAST-MODIFIED:20240320T130811Z
UID:10005942-1710954000-1710968400@mrvvillage.com
SUMMARY:MRB Pub Music Series: Ragged Company
DESCRIPTION:Join us for live music\, food & drinks from 5:00-9:00pm. Music featuring Ragged Company
URL:https://mrvvillage.com/event/mrb-pub-music-series-ragged-company-3/
LOCATION:Mad River Barn
CATEGORIES:Dining,Family Friendly,Live Music,Public Welcome
ATTACH;FMTTYPE=image/png:https://mrvvillage.com/wp-content/uploads/2023/12/Ragged-Trio-Chz5Z4.tmp_-99Zjhz.tmp_.png
GEO:44.195472;-72.8915611
END:VEVENT
BEGIN:VEVENT
DTSTART;TZID=America/New_York:20240322T170000
DTEND;TZID=America/New_York:20240322T190000
DTSTAMP:20260423T234548
CREATED:20240228T212515Z
LAST-MODIFIED:20250320T150130Z
UID:10005966-1711126800-1711134000@mrvvillage.com
SUMMARY:All You Can Eat Fish Fry
DESCRIPTION:Friday Lenten Fish Frys are back! Please join us at St. Leo’s Hall\, 109 South Main St. in Waterbury. Located behind St. Andrews Catholic Church. Fresh beer battered fish fillets\, french fries\, cole slaw\, beverages and dessert will be served. All you can eat! No need for reservations. Take out is available by calling 802-244-7734 after 3pm on the day of the dinner. Cost: $18 per person\, $8 children 6-12 or $40 for a family of 4. Everyone is welcome! Sponsored by Knights of Columbus Council 2085 Waterbury to benefit our charity fund.
URL:https://mrvvillage.com/event/all-you-can-eat-fish-fry-3/
LOCATION:St. Andrews Catholic Church\, 109 S Main Street\, Waterbury\, 05676\, United States
CATEGORIES:Community,Family Friendly,Food & Drink
ATTACH;FMTTYPE=image/webp:https://mrvvillage.com/wp-content/uploads/2024/02/hero_Fish_Fry_clipart-1-KRJW2y.tmp_.webp
ORGANIZER;CN="Knights%20of%20Columbus%20Council%202085%20Waterbury":MAILTO:longchampsteve@gmail.com
GEO:44.3321993;-72.7514276
X-APPLE-STRUCTURED-LOCATION;VALUE=URI;X-ADDRESS=St. Andrews Catholic Church 109 S Main Street Waterbury 05676 United States;X-APPLE-RADIUS=500;X-TITLE=109 S Main Street:geo:-72.7514276,44.3321993
END:VEVENT
BEGIN:VEVENT
DTSTART;TZID=America/New_York:20240323T110000
DTEND;TZID=America/New_York:20240323T140000
DTSTAMP:20260423T234548
CREATED:20240315T235407Z
LAST-MODIFIED:20240323T132322Z
UID:10006023-1711191600-1711202400@mrvvillage.com
SUMMARY:BAKE SALE
DESCRIPTION:Moretown Methodist Church United Women in Faith will host a bake sale Saturday March 23\, 2024\, from 11AM until 2PM at the church. Take some stress off your Easter meal planning. Free parking behind church
URL:https://mrvvillage.com/event/bake-sale/
LOCATION:Moretown United Methodist Church\, 962 Route 100B\, Moretown\, 05660
CATEGORIES:Community,Family Friendly
ORGANIZER;CN="Moretown%20United%20Methodist%20Church%20Women":MAILTO:valleymeadfarm@hotmail.com
GEO:44.2547303;-72.7544585
X-APPLE-STRUCTURED-LOCATION;VALUE=URI;X-ADDRESS=Moretown United Methodist Church 962 Route 100B Moretown 05660;X-APPLE-RADIUS=500;X-TITLE=962 Route 100B:geo:-72.7544585,44.2547303
END:VEVENT
BEGIN:VEVENT
DTSTART;TZID=America/New_York:20240324T110000
DTEND;TZID=America/New_York:20240324T140000
DTSTAMP:20260423T234548
CREATED:20240228T212529Z
LAST-MODIFIED:20240324T133810Z
UID:10005967-1711278000-1711288800@mrvvillage.com
SUMMARY:Sugar and Schmooze
DESCRIPTION:See an old-school sugar operation that the Crowley Family runs at Living Tree\, and share in the joy of fresh sap and syrup and the coming of spring. We’ll parade to wake up Mother Earth and honor the Jewish festival of Purim\, and we’ll also celebrate with the traditional Purim customs of creating gifts for others and performing skits (in the sugarbush—Living Tree-style). Hibernation season is over\, so let’s celebrate! People of all faiths and ages are welcome.
URL:https://mrvvillage.com/event/sugar-and-schmooze/
LOCATION:Living Tree Alliance\, 96 Living Tree Ln\, Moretown\, VT\, 05660\, United States
CATEGORIES:Community,Family Friendly
ATTACH;FMTTYPE=image/png:https://mrvvillage.com/wp-content/uploads/2024/02/1-B3wb7O.tmp_.png
ORGANIZER;CN="Living%20Tree%20Alliance":MAILTO:info@livingtreealliance.com
GEO:44.2472902;-72.7762636
X-APPLE-STRUCTURED-LOCATION;VALUE=URI;X-ADDRESS=Living Tree Alliance 96 Living Tree Ln Moretown VT 05660 United States;X-APPLE-RADIUS=500;X-TITLE=96 Living Tree Ln:geo:-72.7762636,44.2472902
END:VEVENT
END:VCALENDAR