BEGIN:VCALENDAR
VERSION:2.0
PRODID:-//The Mad River Valley Village - ECPv6.0.13//NONSGML v1.0//EN
CALSCALE:GREGORIAN
METHOD:PUBLISH
X-ORIGINAL-URL:https://mrvvillage.com
X-WR-CALDESC:Events for The Mad River Valley Village
REFRESH-INTERVAL;VALUE=DURATION:PT1H
X-Robots-Tag:noindex
X-PUBLISHED-TTL:PT1H
BEGIN:VTIMEZONE
TZID:UTC
BEGIN:STANDARD
TZOFFSETFROM:+0000
TZOFFSETTO:+0000
TZNAME:UTC
DTSTART:20240101T000000
END:STANDARD
TZID:America/New_York
BEGIN:DAYLIGHT
TZOFFSETFROM:-0500
TZOFFSETTO:-0400
TZNAME:EDT
DTSTART:20240310T070000
END:DAYLIGHT
BEGIN:STANDARD
TZOFFSETFROM:-0400
TZOFFSETTO:-0500
TZNAME:EST
DTSTART:20241103T060000
END:STANDARD
END:VTIMEZONE
BEGIN:VEVENT
DTSTART;TZID=UTC:20240327T170000
DTEND;TZID=UTC:20240327T210000
DTSTAMP:20260424T013435
CREATED:20240226T205542Z
LAST-MODIFIED:20240327T133811Z
UID:10005958-1711558800-1711573200@mrvvillage.com
SUMMARY:MRB Pub Music Series: Al’s Pals
DESCRIPTION:Join us for live music\, food & drinks from 5:00-9:00pm. Music featuring Al’s Pals
URL:https://mrvvillage.com/event/mrb-pub-music-series-als-pals-11/
LOCATION:Mad River Barn
CATEGORIES:Dining,Family Friendly,Live Music,Public Welcome
ATTACH;FMTTYPE=image/png:https://mrvvillage.com/wp-content/uploads/2023/12/PalsParty-3E9eEp.tmp_-z7HjPH.tmp_.png
GEO:44.195472;-72.8915611
END:VEVENT
BEGIN:VEVENT
DTSTART;TZID=America/New_York:20240330T100000
DTEND;TZID=America/New_York:20240330T110000
DTSTAMP:20260424T013435
CREATED:20240226T205528Z
LAST-MODIFIED:20240330T133815Z
UID:10005956-1711792800-1711796400@mrvvillage.com
SUMMARY:Mad River Valley Easter Egg Hunt – Mad River Park
DESCRIPTION:Mark your calendars for Saturday\, March 30th – rain\, shine (probably snow)\, it’s time for the annual Mad River Valley Easter Egg Hunt. Once again\, the event will take place at the Mad River Park located at 236 Airport Road in Waitsfield due to parking constraints at Waitsfield and Champlain Valley Telecom (WCVT) where the event has historically been held. The egg hunt will start promptly at 10:00 a.m. Refreshments will be served under the pavilion starting at 9:30 a.m. The egg hunt is open to children of all ages and is free of charge. \nWCVT is very excited to be partnering once again with the Mad River Valley Recreation District and thankful for the use of their fields. A reminder of the important Mad River Park rules for attendees: no dogs\, pack-in-pack-out all trash\, parking in the parking lot only or in designated areas per parking attendants at events. For more information\, please contact Lorraine Keener at 496-3391 or lkeener@corp.wcvt.com. \nWe look forward to seeing everyone at this year’s event.
URL:https://mrvvillage.com/event/mad-river-valley-easter-egg-hunt-saturday-march-23rd-mad-river-park/
LOCATION:Mad River Park\, Mad River Park\, Waitsfield\, 05673
CATEGORIES:Community,Family Friendly
ATTACH;FMTTYPE=image/jpeg:https://mrvvillage.com/wp-content/uploads/2024/02/egg-hunt-photo-QpzapQ.tmp_.jpg
ORGANIZER;CN="Waitsfield%20and%20Champlain%20Valley%20Telecom":MAILTO:lkeener@corp.wcvt.com
GEO:44.2275198;-72.7937629
X-APPLE-STRUCTURED-LOCATION;VALUE=URI;X-ADDRESS=Mad River Park Mad River Park Waitsfield 05673;X-APPLE-RADIUS=500;X-TITLE=Mad River Park:geo:-72.7937629,44.2275198
END:VEVENT
BEGIN:VEVENT
DTSTART;TZID=America/New_York:20240331T070000
DTEND;TZID=America/New_York:20240331T160000
DTSTAMP:20260424T013435
CREATED:20240101T102833Z
LAST-MODIFIED:20240331T133815Z
UID:10005812-1711868400-1711900800@mrvvillage.com
SUMMARY:Mt Ellen Closing Day Party
DESCRIPTION:Help us celebrate the closing day at Mt. Ellen on its 60th year!
URL:https://mrvvillage.com/event/mt-ellen-closing-day-party/
LOCATION:Sugarbush Resort\, 102 Forest Drive Warren\, VT 05674\, Warren\, 05674
CATEGORIES:Family Friendly,Food & Drink,Sugarbush
ATTACH;FMTTYPE=image/webp:https://mrvvillage.com/wp-content/uploads/2024/01/mt-ellen-sunset-scaled-HdM9eq.tmp_.webp
GEO:44.1272818;-72.9284492
X-APPLE-STRUCTURED-LOCATION;VALUE=URI;X-ADDRESS=Sugarbush Resort 102 Forest Drive Warren VT 05674 Warren 05674;X-APPLE-RADIUS=500;X-TITLE=102 Forest Drive Warren\, VT 05674:geo:-72.9284492,44.1272818
END:VEVENT
BEGIN:VEVENT
DTSTART;TZID=America/New_York:20240331T100000
DTEND;TZID=America/New_York:20240331T140000
DTSTAMP:20260424T013435
CREATED:20240228T212546Z
LAST-MODIFIED:20240331T133815Z
UID:10005969-1711879200-1711893600@mrvvillage.com
SUMMARY:Spring Brunch
DESCRIPTION:Join us for a bountiful spring brunch buffet. Our buffet has something for everyone: French toast\, blintzes\, scrambled eggs\, roasted lamb and baked ham from 5th Quarter Butcher\, Roasted chicken from Misty Knoll Farm\, smoked salmon\, potato pancakes\, fresh breads\, salads\, bread pudding\, donuts and more…. Coffee\, tea and juice included. Alcoholic beverages available at additional cost. \nReservations required.\nCall us at 802-496-7555 for reservations
URL:https://mrvvillage.com/event/spring-brunch/
LOCATION:1824 House\, 2150 Main St.\, Waitsfield\, VT\, 05673
CATEGORIES:Dining,Family Friendly,Food & Drink
ORGANIZER;CN="1824%20House":MAILTO:stay@1824house.com
GEO:44.1926386;-72.7798479
X-APPLE-STRUCTURED-LOCATION;VALUE=URI;X-ADDRESS=1824 House 2150 Main St. Waitsfield VT 05673;X-APPLE-RADIUS=500;X-TITLE=2150 Main St.:geo:-72.7798479,44.1926386
END:VEVENT
END:VCALENDAR