BEGIN:VCALENDAR
VERSION:2.0
PRODID:-//The Mad River Valley Village - ECPv6.0.13//NONSGML v1.0//EN
CALSCALE:GREGORIAN
METHOD:PUBLISH
X-ORIGINAL-URL:https://mrvvillage.com
X-WR-CALDESC:Events for The Mad River Valley Village
REFRESH-INTERVAL;VALUE=DURATION:PT1H
X-Robots-Tag:noindex
X-PUBLISHED-TTL:PT1H
BEGIN:VTIMEZONE
TZID:UTC
BEGIN:STANDARD
TZOFFSETFROM:+0000
TZOFFSETTO:+0000
TZNAME:UTC
DTSTART:20240101T000000
END:STANDARD
TZID:America/New_York
BEGIN:DAYLIGHT
TZOFFSETFROM:-0500
TZOFFSETTO:-0400
TZNAME:EDT
DTSTART:20240310T070000
END:DAYLIGHT
BEGIN:STANDARD
TZOFFSETFROM:-0400
TZOFFSETTO:-0500
TZNAME:EST
DTSTART:20241103T060000
END:STANDARD
END:VTIMEZONE
BEGIN:VEVENT
DTSTART;TZID=UTC:20240516T170000
DTEND;TZID=UTC:20240516T210000
DTSTAMP:20260424T032115
CREATED:20240512T043817Z
LAST-MODIFIED:20240516T162310Z
UID:10006147-1715878800-1715893200@mrvvillage.com
SUMMARY:Stoke Ramen Pop-Up
DESCRIPTION:Get Stoked…Stoke Ramen is Back!  \nJoin us in the Pub Every Thursday in May from 5pm – 9pm to Enjoy all of your Stoke Favorites!
URL:https://mrvvillage.com/event/stoke-ramen-pop-up/
LOCATION:Mad River Barn
CATEGORIES:Dining,Family Friendly,Public Welcome
GEO:44.195472;-72.8915611
END:VEVENT
BEGIN:VEVENT
DTSTART;TZID=UTC:20240517T170000
DTEND;TZID=UTC:20240517T210000
DTSTAMP:20260424T032115
CREATED:20240512T043818Z
LAST-MODIFIED:20240517T163813Z
UID:10006148-1715965200-1715979600@mrvvillage.com
SUMMARY:LIVE MUSIC Running In Circles & Wood Fired Friday
DESCRIPTION:Get Fired Up! \nThis week’s line up includes Live Music by Running in Circles with Wood Fired Pizza & other Italian delights!
URL:https://mrvvillage.com/event/live-music-running-in-circles-wood-fired-friday/
LOCATION:Mad River Barn
CATEGORIES:Dining,Family Friendly,Live Music,Public Welcome
GEO:44.195472;-72.8915611
END:VEVENT
BEGIN:VEVENT
DTSTART;TZID=America/New_York:20240518T110000
DTEND;TZID=America/New_York:20240518T120000
DTSTAMP:20260424T032115
CREATED:20240511T043816Z
LAST-MODIFIED:20240518T163809Z
UID:10006145-1716030000-1716033600@mrvvillage.com
SUMMARY:3D Drawing for Kids: Tricks for Drawing with Depth
DESCRIPTION:Have you ever wanted to draw your pet and have them look 3D? Or make a drawn ball look truly round? Artists have a toolkit of tricks for giving their work depth on a flat page and in this workshop\, we’ll try them out for ourselves. Come learn all the secrets to make your art look three dimensional in this one hour Saturday workshop. \nFor kids in grades 3 and up. Taught by teaching artist and science writer Rachel Mirus. Materials will be provided. \nTuition assistance is available to help make this programming available to all.
URL:https://mrvvillage.com/event/3d-drawing-for-kids-tricks-for-drawing-with-depth/
LOCATION:Camp Meade\, 961 ROUTE 2\, middlesex\, 05602
CATEGORIES:Arts & Entertainment,Family Friendly
ATTACH;FMTTYPE=image/jpeg:https://mrvvillage.com/wp-content/uploads/2024/05/Pigeons-clean-r8aosQ.tmp_.jpg
ORGANIZER;CN="Camp%20Meade":MAILTO:info@campmeade.today
GEO:44.2412437;-72.5366148
X-APPLE-STRUCTURED-LOCATION;VALUE=URI;X-ADDRESS=Camp Meade 961 ROUTE 2 middlesex 05602;X-APPLE-RADIUS=500;X-TITLE=961 ROUTE 2:geo:-72.5366148,44.2412437
END:VEVENT
BEGIN:VEVENT
DTSTART;TZID=UTC:20240518T170000
DTEND;TZID=UTC:20240518T210000
DTSTAMP:20260424T032115
CREATED:20240512T043830Z
LAST-MODIFIED:20240518T163809Z
UID:10006149-1716051600-1716066000@mrvvillage.com
SUMMARY:Mad River Riders Season Kick-Off
DESCRIPTION:Join Us For Mad River Riders 2024 Season Kickoff Party \nCome join us at the Mad River Barn on Saturday\, May 18th at 5pm to kick off the 2024 season. Enjoy mingling with other biking enthusiasts\, light apps\, and a short presentation on our trail enhancement and programming plans for the 2024 season. \nPub Open to the Public from 5 – 9pm with Food & Beverage available for purchase.
URL:https://mrvvillage.com/event/mad-river-riders-season-kick-off/
LOCATION:Mad River Barn
CATEGORIES:Dining,Family Friendly,Public Welcome
GEO:44.195472;-72.8915611
END:VEVENT
BEGIN:VEVENT
DTSTART;TZID=America/New_York:20240519T100000
DTEND;TZID=America/New_York:20240519T110000
DTSTAMP:20260424T032115
CREATED:20240426T032339Z
LAST-MODIFIED:20240519T163808Z
UID:10006087-1716112800-1716116400@mrvvillage.com
SUMMARY:Author Kate Hosford Visits Inklings!
DESCRIPTION:Inklings is so excited to welcome author – and Waitsfield native – Kate Hosford on Sunday\, May 19th at 10am for a reading of her brand new book\, YOU’LL ALWAYS BE MY CHICKADEE. \nThis beautiful picture book weaves together the wonders of nature and a parent’s devotion in one glorious day of outdoor exploration. It’s an unforgettable ode to the bond between caregiver and child. \nFollowing the reading\, Kate will lead children through a very special Chickadee craft! \nKATE HOSFORD grew up in Waitsfield\, Vermont\, and attended Amherst College. In 2011\, Kate completed her MFA in Writing for Children & Young Adults at Vermont College of Fine Arts. Kate is the author of six picture books and two poetry collections\, garnering awards such as an American Library Association Notable Book and a New York Times Best Illustrated Book. She currently lives in Brooklyn with her family.
URL:https://mrvvillage.com/event/author-kate-hosford-visits-inklings/
LOCATION:Inklings Children’s Books\, 106 Mad River Greeen\, Waitsfield\, VT\, 05673\, United States
CATEGORIES:Arts & Entertainment,Community,Family Friendly,Special Events
ATTACH;FMTTYPE=image/jpeg:https://mrvvillage.com/wp-content/uploads/2024/04/KateHosfordVisit-copy-CA7jRf.tmp_.jpg
ORGANIZER;CN="Inklings%20Children%26%238217%3Bs%20Books":MAILTO:inklingschildrensbooks@gmail.com
GEO:44.1844899;-72.839037
X-APPLE-STRUCTURED-LOCATION;VALUE=URI;X-ADDRESS=Inklings Children’s Books 106 Mad River Greeen Waitsfield VT 05673 United States;X-APPLE-RADIUS=500;X-TITLE=106 Mad River Greeen:geo:-72.839037,44.1844899
END:VEVENT
END:VCALENDAR