BEGIN:VCALENDAR
VERSION:2.0
PRODID:-//The Mad River Valley Village - ECPv6.0.13//NONSGML v1.0//EN
CALSCALE:GREGORIAN
METHOD:PUBLISH
X-WR-CALNAME:The Mad River Valley Village
X-ORIGINAL-URL:https://mrvvillage.com
X-WR-CALDESC:Events for The Mad River Valley Village
REFRESH-INTERVAL;VALUE=DURATION:PT1H
X-Robots-Tag:noindex
X-PUBLISHED-TTL:PT1H
BEGIN:VTIMEZONE
TZID:America/New_York
BEGIN:DAYLIGHT
TZOFFSETFROM:-0500
TZOFFSETTO:-0400
TZNAME:EDT
DTSTART:20240310T070000
END:DAYLIGHT
BEGIN:STANDARD
TZOFFSETFROM:-0400
TZOFFSETTO:-0500
TZNAME:EST
DTSTART:20241103T060000
END:STANDARD
END:VTIMEZONE
BEGIN:VEVENT
DTSTART;TZID=America/New_York:20240807T160000
DTEND;TZID=America/New_York:20240807T180000
DTSTAMP:20260424T120235
CREATED:20240702T224113Z
LAST-MODIFIED:20240807T152311Z
UID:10006447-1723046400-1723053600@mrvvillage.com
SUMMARY:Family Nature Hunt
DESCRIPTION:Renowned naturalist and author of 15 books\, Clare Walker Leslie\, leads a fun and informative session that helps us see and record the wild world all around us. You’ll be amazed at how many critters and plants make their home near the beautifully renovated Corner School one-room schoolhouse and how their lives are connected to our own!
URL:https://mrvvillage.com/event/family-nature-hunt-3/
LOCATION:Corner School Resource Center of Granville Vermont\, 75 Post Office Hill 75 Post Office Hill\, Granville\, Vermont\, 05747\, United States
CATEGORIES:Community,Family Friendly
ATTACH;FMTTYPE=image/jpeg:https://mrvvillage.com/wp-content/uploads/2024/07/IMG_08401-imsxQ4.tmp_.jpg
ORGANIZER;CN="Corner%20School%20Resource%20Center":MAILTO:k8izwrite@gmail.com
GEO:43.9859901;-72.8465845
X-APPLE-STRUCTURED-LOCATION;VALUE=URI;X-ADDRESS=Corner School Resource Center of Granville Vermont 75 Post Office Hill 75 Post Office Hill Granville Vermont 05747 United States;X-APPLE-RADIUS=500;X-TITLE=75 Post Office Hill 75 Post Office Hill:geo:-72.8465845,43.9859901
END:VEVENT
BEGIN:VEVENT
DTSTART;TZID=America/New_York:20240807T160000
DTEND;TZID=America/New_York:20240807T200000
DTSTAMP:20260424T120235
CREATED:20240509T042450Z
LAST-MODIFIED:20240702T092525Z
UID:10006140-1723046400-1723060800@mrvvillage.com
SUMMARY:Family Nature Hunt
DESCRIPTION:Renowned naturalist and author of 15 books\, Clare Walker Leslie\, leads a fun and informative session that helps us see and record the wild world all around us. You’ll be amazed at how many critters and plants make their home near the beautifully renovated Corner School one-room schoolhouse and how their lives are connected to our own!
URL:https://mrvvillage.com/event/family-nature-hunt-2/
LOCATION:Corner School Resource Center of Granville Vermont\, 75 Post Office Hill 75 Post Office Hill\, Granville\, Vermont\, 05747\, United States
CATEGORIES:Arts & Entertainment,Community,Family Friendly,Special Events
ATTACH;FMTTYPE=image/jpeg:https://mrvvillage.com/wp-content/uploads/2024/05/IMG_0840-Ctf5DA.tmp_.jpg
ORGANIZER;CN="Corner%20School%20Resource%20Center":MAILTO:k8izwrite@gmail.com
GEO:43.9859901;-72.8465845
X-APPLE-STRUCTURED-LOCATION;VALUE=URI;X-ADDRESS=Corner School Resource Center of Granville Vermont 75 Post Office Hill 75 Post Office Hill Granville Vermont 05747 United States;X-APPLE-RADIUS=500;X-TITLE=75 Post Office Hill 75 Post Office Hill:geo:-72.8465845,43.9859901
END:VEVENT
END:VCALENDAR