BEGIN:VCALENDAR
VERSION:2.0
PRODID:-//The Mad River Valley Village - ECPv6.0.13//NONSGML v1.0//EN
CALSCALE:GREGORIAN
METHOD:PUBLISH
X-ORIGINAL-URL:https://mrvvillage.com
X-WR-CALDESC:Events for The Mad River Valley Village
REFRESH-INTERVAL;VALUE=DURATION:PT1H
X-Robots-Tag:noindex
X-PUBLISHED-TTL:PT1H
BEGIN:VTIMEZONE
TZID:America/New_York
BEGIN:DAYLIGHT
TZOFFSETFROM:-0500
TZOFFSETTO:-0400
TZNAME:EDT
DTSTART:20240310T070000
END:DAYLIGHT
BEGIN:STANDARD
TZOFFSETFROM:-0400
TZOFFSETTO:-0500
TZNAME:EST
DTSTART:20241103T060000
END:STANDARD
TZID:UTC
BEGIN:STANDARD
TZOFFSETFROM:+0000
TZOFFSETTO:+0000
TZNAME:UTC
DTSTART:20240101T000000
END:STANDARD
END:VTIMEZONE
BEGIN:VEVENT
DTSTART;TZID=America/New_York:20240822T170000
DTEND;TZID=America/New_York:20240822T190000
DTSTAMP:20260424T231359
CREATED:20240813T155354Z
LAST-MODIFIED:20240815T163853Z
UID:10006631-1724346000-1724353200@mrvvillage.com
SUMMARY:Thank You Moretown Road Crew and Town Community Potluck
DESCRIPTION:All community members are invited to come together at the Moretown Town Hall for a potluck in appreciation of the road crew and town office staff who have given many extra hours during the flooding events last month and over the past year. Please consider bringing a dish to share\, along with your own plates\, cups and utensils. Visit Moretown Library’s website to RSVP or email moretownlibrary@gmail.com directly. We hope to see you there for good food and conversation with friends and neighbors.
URL:https://mrvvillage.com/event/thank-you-moretown-road-crew-and-town-community-potluck/
LOCATION:Moretown Town Hall and Library\, 1147 Route 100B\, Moretown\, 05660
CATEGORIES:Community,Family Friendly
ATTACH;FMTTYPE=image/png:https://mrvvillage.com/wp-content/uploads/2024/08/Thank-You-Potluck-FMP1I7.tmp_.png
ORGANIZER;CN="Moretown%20Library":MAILTO:moretownlibrary@gmail.com
GEO:44.2476272;-72.7639304
X-APPLE-STRUCTURED-LOCATION;VALUE=URI;X-ADDRESS=Moretown Town Hall and Library 1147 Route 100B Moretown 05660;X-APPLE-RADIUS=500;X-TITLE=1147 Route 100B:geo:-72.7639304,44.2476272
END:VEVENT
BEGIN:VEVENT
DTSTART;TZID=America/New_York:20240822T170000
DTEND;TZID=America/New_York:20240822T190000
DTSTAMP:20260424T231359
CREATED:20240816T163909Z
LAST-MODIFIED:20240819T170815Z
UID:10006669-1724346000-1724353200@mrvvillage.com
SUMMARY:Thank You Moretown Road Crew and Town Community Potluck
DESCRIPTION:All community members are invited to come together at the Moretown Town Hall for a potluck in appreciation of the road crew and town office staff who have given many extra hours during the flooding events last month and over the past year. Please consider bringing a dish to share\, along with your own plates\, cups and utensils. Visit Moretown Library’s website to RSVP or email moretownlibrary@gmail.com directly. We hope to see you there for good food and conversation with friends and neighbors.
URL:https://mrvvillage.com/event/thank-you-moretown-road-crew-and-town-community-potluck-2/
LOCATION:Moretown Town Hall and Library\, 1147 Route 100B\, Moretown\, 05660
CATEGORIES:Community,Family Friendly
ATTACH;FMTTYPE=image/png:https://mrvvillage.com/wp-content/uploads/2024/08/Thank-You-Potluck-xae67v.tmp_.png
ORGANIZER;CN="Moretown%20Library":MAILTO:moretownlibrary@gmail.com
GEO:44.2476272;-72.7639304
X-APPLE-STRUCTURED-LOCATION;VALUE=URI;X-ADDRESS=Moretown Town Hall and Library 1147 Route 100B Moretown 05660;X-APPLE-RADIUS=500;X-TITLE=1147 Route 100B:geo:-72.7639304,44.2476272
END:VEVENT
BEGIN:VEVENT
DTSTART;TZID=America/New_York:20240822T170000
DTEND;TZID=America/New_York:20240822T190000
DTSTAMP:20260424T231359
CREATED:20240819T173823Z
LAST-MODIFIED:20240822T182314Z
UID:10006783-1724346000-1724353200@mrvvillage.com
SUMMARY:Thank You Moretown Road Crew and Town Community Potluck
DESCRIPTION:All community members are invited to come together at the Moretown Town Hall for a potluck in appreciation of the road crew and town office staff who have given many extra hours during the flooding events last month and over the past year. Please consider bringing a dish to share\, along with your own plates\, cups and utensils. Visit Moretown Library’s website to RSVP or email moretownlibrary@gmail.com directly. We hope to see you there for good food and conversation with friends and neighbors.
URL:https://mrvvillage.com/event/thank-you-moretown-road-crew-and-town-community-potluck-3/
LOCATION:Moretown Town Hall and Library\, 1147 Route 100B\, Moretown\, 05660
CATEGORIES:Community,Family Friendly
ATTACH;FMTTYPE=image/png:https://mrvvillage.com/wp-content/uploads/2024/08/Thank-You-Potluck-xIb557.tmp_.png
ORGANIZER;CN="Moretown%20Library":MAILTO:moretownlibrary@gmail.com
GEO:44.2476272;-72.7639304
X-APPLE-STRUCTURED-LOCATION;VALUE=URI;X-ADDRESS=Moretown Town Hall and Library 1147 Route 100B Moretown 05660;X-APPLE-RADIUS=500;X-TITLE=1147 Route 100B:geo:-72.7639304,44.2476272
END:VEVENT
BEGIN:VEVENT
DTSTART;TZID=UTC:20240822T170000
DTEND;TZID=UTC:20240822T210000
DTSTAMP:20260424T231359
CREATED:20240802T140935Z
LAST-MODIFIED:20240815T163853Z
UID:10006571-1724346000-1724360400@mrvvillage.com
SUMMARY:Pub Night with Live music by Running In Circles 5pm – 9pm
DESCRIPTION:Join us for Pub night with Live Music by Running In Circles and all your favorite pub fare! 5pm – 9pm
URL:https://mrvvillage.com/event/pub-night-with-live-music-by-running-in-circles-2/
LOCATION:Mad River Barn
CATEGORIES:Dining,Family Friendly,Live Music,Public Welcome
GEO:44.195472;-72.8915611
END:VEVENT
BEGIN:VEVENT
DTSTART;TZID=UTC:20240822T170000
DTEND;TZID=UTC:20240822T210000
DTSTAMP:20260424T231359
CREATED:20240816T163909Z
LAST-MODIFIED:20240819T170815Z
UID:10006668-1724346000-1724360400@mrvvillage.com
SUMMARY:Pub Night with Live music by Running In Circles 5pm – 9pm
DESCRIPTION:Join us for Pub night with Live Music by Running In Circles and all your favorite pub fare! 5pm – 9pm
URL:https://mrvvillage.com/event/pub-night-with-live-music-by-running-in-circles-5pm-9pm/
LOCATION:Mad River Barn
CATEGORIES:Dining,Family Friendly,Live Music,Public Welcome
GEO:44.195472;-72.8915611
END:VEVENT
BEGIN:VEVENT
DTSTART;TZID=UTC:20240822T170000
DTEND;TZID=UTC:20240822T210000
DTSTAMP:20260424T231359
CREATED:20240819T173823Z
LAST-MODIFIED:20240822T182314Z
UID:10006782-1724346000-1724360400@mrvvillage.com
SUMMARY:Pub Night with Live music by Fun Dip 5pm – 9pm
DESCRIPTION:Join us for Pub night with Live Music by Fun Dip and all your favorite pub fare! 5pm – 9pm
URL:https://mrvvillage.com/event/pub-night-with-live-music-by-running-in-circles-5pm-9pm-2/
LOCATION:Mad River Barn
CATEGORIES:Dining,Family Friendly,Live Music,Public Welcome
GEO:44.195472;-72.8915611
END:VEVENT
BEGIN:VEVENT
DTSTART;TZID=America/New_York:20240823T150000
DTEND;TZID=America/New_York:20240824T180000
DTSTAMP:20260424T231359
CREATED:20240726T132452Z
LAST-MODIFIED:20240815T163853Z
UID:10006546-1724425200-1724522400@mrvvillage.com
SUMMARY:Mini-Mural Workshop
DESCRIPTION:A two day workshop for adults with Granville based muralist and textile artist Meg Reinhold.\nMeg draws inspiration from herbalism\, folklore and traditional textile practices. Her workshop combines insight into the design process\, the history of Vermont barn quilts\, and looking at plants through the eyes of a botanist-artist.\nGuided by Meg\, each participant paints a 2 foot x 2 foot mini-mural inspired by quilts and local flora. Everyone leaves with a decoratively painted plywood panel of their own design to install outdoors or inside their homes.\nQuilting\, gardening\, and arts enthusiasts\, this is the workshop for you! Space is limited so sign up today! 16 years old and up. All materials provided. Sponsored in part by Vermont Humanities\, the workshop is FREE though donations are always welcome.
URL:https://mrvvillage.com/event/mini-mural-workshop/
LOCATION:Corner School Resource Center of Granville Vermont\, 75 Post Office Hill 75 Post Office Hill\, Granville\, Vermont\, 05747\, United States
CATEGORIES:Arts & Entertainment,Community,Family Friendly
ATTACH;FMTTYPE=image/jpeg:https://mrvvillage.com/wp-content/uploads/2024/07/Sample-Mini-Murals-yHEBit.tmp_.jpg
ORGANIZER;CN="Corner%20School%20Resource%20Center":MAILTO:k8izwrite@gmail.com
GEO:43.9859901;-72.8465845
X-APPLE-STRUCTURED-LOCATION;VALUE=URI;X-ADDRESS=Corner School Resource Center of Granville Vermont 75 Post Office Hill 75 Post Office Hill Granville Vermont 05747 United States;X-APPLE-RADIUS=500;X-TITLE=75 Post Office Hill 75 Post Office Hill:geo:-72.8465845,43.9859901
END:VEVENT
BEGIN:VEVENT
DTSTART;TZID=America/New_York:20240823T150000
DTEND;TZID=America/New_York:20240824T180000
DTSTAMP:20260424T231359
CREATED:20240816T163911Z
LAST-MODIFIED:20240819T170828Z
UID:10006671-1724425200-1724522400@mrvvillage.com
SUMMARY:Mini-Mural Workshop
DESCRIPTION:A two day workshop for adults with Granville based muralist and textile artist Meg Reinhold.\nMeg draws inspiration from herbalism\, folklore and traditional textile practices. Her workshop combines insight into the design process\, the history of Vermont barn quilts\, and looking at plants through the eyes of a botanist-artist.\nGuided by Meg\, each participant paints a 2 foot x 2 foot mini-mural inspired by quilts and local flora. Everyone leaves with a decoratively painted plywood panel of their own design to install outdoors or inside their homes.\nQuilting\, gardening\, and arts enthusiasts\, this is the workshop for you! Space is limited so sign up today! 16 years old and up. All materials provided. Sponsored in part by Vermont Humanities\, the workshop is FREE though donations are always welcome.
URL:https://mrvvillage.com/event/mini-mural-workshop-2/
LOCATION:Corner School Resource Center of Granville Vermont\, 75 Post Office Hill 75 Post Office Hill\, Granville\, Vermont\, 05747\, United States
CATEGORIES:Arts & Entertainment,Community,Family Friendly
ATTACH;FMTTYPE=image/jpeg:https://mrvvillage.com/wp-content/uploads/2024/08/Sample-Mini-Murals-nOAndh.tmp_.jpg
ORGANIZER;CN="Corner%20School%20Resource%20Center":MAILTO:k8izwrite@gmail.com
GEO:43.9859901;-72.8465845
X-APPLE-STRUCTURED-LOCATION;VALUE=URI;X-ADDRESS=Corner School Resource Center of Granville Vermont 75 Post Office Hill 75 Post Office Hill Granville Vermont 05747 United States;X-APPLE-RADIUS=500;X-TITLE=75 Post Office Hill 75 Post Office Hill:geo:-72.8465845,43.9859901
END:VEVENT
BEGIN:VEVENT
DTSTART;TZID=America/New_York:20240823T150000
DTEND;TZID=America/New_York:20240824T180000
DTSTAMP:20260424T231359
CREATED:20240819T173837Z
LAST-MODIFIED:20240823T182311Z
UID:10006785-1724425200-1724522400@mrvvillage.com
SUMMARY:Mini-Mural Workshop
DESCRIPTION:A two day workshop for adults with Granville based muralist and textile artist Meg Reinhold.\nMeg draws inspiration from herbalism\, folklore and traditional textile practices. Her workshop combines insight into the design process\, the history of Vermont barn quilts\, and looking at plants through the eyes of a botanist-artist.\nGuided by Meg\, each participant paints a 2 foot x 2 foot mini-mural inspired by quilts and local flora. Everyone leaves with a decoratively painted plywood panel of their own design to install outdoors or inside their homes.\nQuilting\, gardening\, and arts enthusiasts\, this is the workshop for you! Space is limited so sign up today! 16 years old and up. All materials provided. Sponsored in part by Vermont Humanities\, the workshop is FREE though donations are always welcome.
URL:https://mrvvillage.com/event/mini-mural-workshop-3/
LOCATION:Corner School Resource Center of Granville Vermont\, 75 Post Office Hill 75 Post Office Hill\, Granville\, Vermont\, 05747\, United States
CATEGORIES:Arts & Entertainment,Community,Family Friendly
ATTACH;FMTTYPE=image/jpeg:https://mrvvillage.com/wp-content/uploads/2024/08/Sample-Mini-Murals-SuakH2.tmp_.jpg
ORGANIZER;CN="Corner%20School%20Resource%20Center":MAILTO:k8izwrite@gmail.com
GEO:43.9859901;-72.8465845
X-APPLE-STRUCTURED-LOCATION;VALUE=URI;X-ADDRESS=Corner School Resource Center of Granville Vermont 75 Post Office Hill 75 Post Office Hill Granville Vermont 05747 United States;X-APPLE-RADIUS=500;X-TITLE=75 Post Office Hill 75 Post Office Hill:geo:-72.8465845,43.9859901
END:VEVENT
BEGIN:VEVENT
DTSTART;TZID=America/New_York:20240825T110000
DTEND;TZID=America/New_York:20240825T140000
DTSTAMP:20260424T231359
CREATED:20240809T150929Z
LAST-MODIFIED:20240815T163907Z
UID:10006597-1724583600-1724594400@mrvvillage.com
SUMMARY:Mad River Valley Summer Carnival
DESCRIPTION:Come out to the Mad River Valley Summer Carnival for an afternoon of fabulous fun. Families will enjoy games\, food\, a bounce house\, face painting\, live animals and more! There’s even a dunk tank and raffle!! \nAdmission is FREE. All money raised from activity ticket sales goes to the Fayston\, Moretown\, Waitsfield\, and Warren Elementary Parent Organizations. \nSunday\, August 25th from 11am – 2pm at Mad River Green. Rain Date of September 1st.
URL:https://mrvvillage.com/event/mad-river-valley-summer-carnival/
LOCATION:Mad River Green\, 105 Mad River Green\, Waitsfield\, VT\, 05673\, United States
CATEGORIES:Arts & Entertainment,Family Friendly,Food & Drink
ATTACH;FMTTYPE=image/jpeg:https://mrvvillage.com/wp-content/uploads/2024/08/MRV-Carnival-Flyer-copy-llTS6C.tmp_.jpg
ORGANIZER;CN="Mad%20River%20Green%20Shops":MAILTO:sedona5028@gmail.com
GEO:44.183836;-72.8388576
X-APPLE-STRUCTURED-LOCATION;VALUE=URI;X-ADDRESS=Mad River Green 105 Mad River Green Waitsfield VT 05673 United States;X-APPLE-RADIUS=500;X-TITLE=105 Mad River Green:geo:-72.8388576,44.183836
END:VEVENT
BEGIN:VEVENT
DTSTART;TZID=America/New_York:20240825T110000
DTEND;TZID=America/New_York:20240825T140000
DTSTAMP:20260424T231359
CREATED:20240816T163932Z
LAST-MODIFIED:20240819T170840Z
UID:10006682-1724583600-1724594400@mrvvillage.com
SUMMARY:Mad River Valley Summer Carnival
DESCRIPTION:Come out to the Mad River Valley Summer Carnival for an afternoon of fabulous fun. Families will enjoy games\, food\, a bounce house\, face painting\, live animals and more! There’s even a dunk tank and raffle!! \nAdmission is FREE. All money raised from activity ticket sales goes to the Fayston\, Moretown\, Waitsfield\, and Warren Elementary Parent Organizations. \nSunday\, August 25th from 11am – 2pm at Mad River Green. Rain Date of September 1st.
URL:https://mrvvillage.com/event/mad-river-valley-summer-carnival-2/
LOCATION:Mad River Green\, 105 Mad River Green\, Waitsfield\, VT\, 05673\, United States
CATEGORIES:Arts & Entertainment,Family Friendly,Food & Drink
ATTACH;FMTTYPE=image/jpeg:https://mrvvillage.com/wp-content/uploads/2024/08/MRV-Carnival-Flyer-copy-r0cdv9.tmp_.jpg
ORGANIZER;CN="Mad%20River%20Green%20Shops":MAILTO:sedona5028@gmail.com
GEO:44.183836;-72.8388576
X-APPLE-STRUCTURED-LOCATION;VALUE=URI;X-ADDRESS=Mad River Green 105 Mad River Green Waitsfield VT 05673 United States;X-APPLE-RADIUS=500;X-TITLE=105 Mad River Green:geo:-72.8388576,44.183836
END:VEVENT
BEGIN:VEVENT
DTSTART;TZID=America/New_York:20240825T110000
DTEND;TZID=America/New_York:20240825T140000
DTSTAMP:20260424T231359
CREATED:20240819T173859Z
LAST-MODIFIED:20240825T183811Z
UID:10006796-1724583600-1724594400@mrvvillage.com
SUMMARY:Mad River Valley Summer Carnival
DESCRIPTION:Come out to the Mad River Valley Summer Carnival for an afternoon of fabulous fun. Families will enjoy games\, food\, a bounce house\, face painting\, live animals and more! There’s even a dunk tank and raffle!! \nAdmission is FREE. All money raised from activity ticket sales goes to the Fayston\, Moretown\, Waitsfield\, and Warren Elementary Parent Organizations. \nSunday\, August 25th from 11am – 2pm at Mad River Green. Rain Date of September 1st.
URL:https://mrvvillage.com/event/mad-river-valley-summer-carnival-3/
LOCATION:Mad River Green\, 105 Mad River Green\, Waitsfield\, VT\, 05673\, United States
CATEGORIES:Arts & Entertainment,Family Friendly,Food & Drink
ATTACH;FMTTYPE=image/jpeg:https://mrvvillage.com/wp-content/uploads/2024/08/MRV-Carnival-Flyer-copy-F65rKg.tmp_.jpg
ORGANIZER;CN="Mad%20River%20Green%20Shops":MAILTO:sedona5028@gmail.com
GEO:44.183836;-72.8388576
X-APPLE-STRUCTURED-LOCATION;VALUE=URI;X-ADDRESS=Mad River Green 105 Mad River Green Waitsfield VT 05673 United States;X-APPLE-RADIUS=500;X-TITLE=105 Mad River Green:geo:-72.8388576,44.183836
END:VEVENT
END:VCALENDAR