BEGIN:VCALENDAR
VERSION:2.0
PRODID:-//The Mad River Valley Village - ECPv6.0.13//NONSGML v1.0//EN
CALSCALE:GREGORIAN
METHOD:PUBLISH
X-ORIGINAL-URL:https://mrvvillage.com
X-WR-CALDESC:Events for The Mad River Valley Village
REFRESH-INTERVAL;VALUE=DURATION:PT1H
X-Robots-Tag:noindex
X-PUBLISHED-TTL:PT1H
BEGIN:VTIMEZONE
TZID:America/New_York
BEGIN:DAYLIGHT
TZOFFSETFROM:-0500
TZOFFSETTO:-0400
TZNAME:EDT
DTSTART:20240310T070000
END:DAYLIGHT
BEGIN:STANDARD
TZOFFSETFROM:-0400
TZOFFSETTO:-0500
TZNAME:EST
DTSTART:20241103T060000
END:STANDARD
END:VTIMEZONE
BEGIN:VEVENT
DTSTART;TZID=America/New_York:20240827T170000
DTEND;TZID=America/New_York:20240827T210000
DTSTAMP:20260424T122353
CREATED:20240827T172313Z
LAST-MODIFIED:20240827T185314Z
UID:10006898-1724778000-1724792400@mrvvillage.com
SUMMARY:Tuesdays on the Big Deck
DESCRIPTION:Join us Tuesdays on the Mt Ellen Big Deck from 5 to 9pm all summer long! Backyard BBQ\, live music and weekly cornhole tournaments with prizes and more. We will have weekly drink specials along with lawn games for the whole family. This is a rain or shine event!
URL:https://mrvvillage.com/event/tuesdays-on-the-big-deck/
LOCATION:Mt Ellen\, Mt Ellen
CATEGORIES:Family Friendly,Food & Drink,Sugarbush
GEO:44.1600589;-72.9292834
X-APPLE-STRUCTURED-LOCATION;VALUE=URI;X-ADDRESS=Mt Ellen Mt Ellen;X-APPLE-RADIUS=500;X-TITLE=Mt Ellen:geo:-72.9292834,44.1600589
END:VEVENT
BEGIN:VEVENT
DTSTART;TZID=America/New_York:20240830T100000
DTEND;TZID=America/New_York:20240830T160000
DTSTAMP:20260424T122353
CREATED:20240708T234124Z
LAST-MODIFIED:20240815T163921Z
UID:10006473-1725012000-1725033600@mrvvillage.com
SUMMARY:von Trapp Open Garden Days
DESCRIPTION:We welcome you to visit our private garden on our Open Garden Days.\nCome and enjoy the flowers\, the view\, and the frog fountain\, and chat with Sally and Tobi about all things horticultural. Our Open Garden Days are organized in collaboration with the MRV Rotary as a fundraiser for local non-profits.  \nEntry fee: $10.00 / adult\nChildren under 18 free \nPlease leave your pets at home! They are not permitted on the property and there is no shade in our parking lot. \n 
URL:https://mrvvillage.com/event/von-trapp-open-garden-days-7/
LOCATION:vonTrapp Greenhouse\, 208 Common Rd\, Waitsfield\, Vermont\, 05673
CATEGORIES:Arts & Entertainment,Community,Family Friendly
ATTACH;FMTTYPE=image/jpeg:https://mrvvillage.com/wp-content/uploads/2024/06/Garden-Tour-von-Trapp-TpzK4O.tmp_.jpg
GEO:44.1875573;-72.797201
X-APPLE-STRUCTURED-LOCATION;VALUE=URI;X-ADDRESS=vonTrapp Greenhouse 208 Common Rd Waitsfield Vermont 05673;X-APPLE-RADIUS=500;X-TITLE=208 Common Rd:geo:-72.797201,44.1875573
END:VEVENT
BEGIN:VEVENT
DTSTART;TZID=America/New_York:20240830T203000
DTEND;TZID=America/New_York:20240830T220000
DTSTAMP:20260424T122353
CREATED:20240827T172327Z
LAST-MODIFIED:20240830T192317Z
UID:10006900-1725049800-1725055200@mrvvillage.com
SUMMARY:Coca-Cola Family Movie Night: The Goonies
DESCRIPTION:Join us for FREE outdoor Family Movie Night on the blow-up screen next the Gate House Lodge at Lincoln Peak. Grab your friends\, bring your blanket or chairs\, we’ll provide the s’mores and popcorn. This is a shine only event. 
URL:https://mrvvillage.com/event/coca-cola-family-movie-night-the-goonies/
LOCATION:Lincoln Peak\, 102 Forest Drive\, Warren\, VT 05674\, USA
CATEGORIES:Family Friendly,Sugarbush
ATTACH;FMTTYPE=image/jpeg:https://mrvvillage.com/wp-content/uploads/2024/08/movie-night-T6MO8v.tmp_.jpg
GEO:44.1359019;-72.8944139
X-APPLE-STRUCTURED-LOCATION;VALUE=URI;X-ADDRESS=Lincoln Peak 102 Forest Drive Warren VT 05674 USA;X-APPLE-RADIUS=500;X-TITLE=102 Forest Drive\, Warren\, VT 05674\, USA:geo:-72.8944139,44.1359019
END:VEVENT
BEGIN:VEVENT
DTSTART;TZID=America/New_York:20240831T100000
DTEND;TZID=America/New_York:20240831T160000
DTSTAMP:20260424T122353
CREATED:20240708T234137Z
LAST-MODIFIED:20240815T163934Z
UID:10006474-1725098400-1725120000@mrvvillage.com
SUMMARY:von Trapp Open Garden Days
DESCRIPTION:We welcome you to visit our private garden on our Open Garden Days.\nCome and enjoy the flowers\, the view\, and the frog fountain\, and chat with Sally and Tobi about all things horticultural. Our Open Garden Days are organized in collaboration with the MRV Rotary as a fundraiser for local non-profits.  \nEntry fee: $10.00 / adult\nChildren under 18 free \nPlease leave your pets at home! They are not permitted on the property and there is no shade in our parking lot. \n 
URL:https://mrvvillage.com/event/von-trapp-open-garden-days-8/
LOCATION:vonTrapp Greenhouse\, 208 Common Rd\, Waitsfield\, Vermont\, 05673
CATEGORIES:Arts & Entertainment,Community,Family Friendly
ATTACH;FMTTYPE=image/jpeg:https://mrvvillage.com/wp-content/uploads/2024/06/Garden-Tour-von-Trapp-TpzK4O.tmp_.jpg
GEO:44.1875573;-72.797201
X-APPLE-STRUCTURED-LOCATION;VALUE=URI;X-ADDRESS=vonTrapp Greenhouse 208 Common Rd Waitsfield Vermont 05673;X-APPLE-RADIUS=500;X-TITLE=208 Common Rd:geo:-72.797201,44.1875573
END:VEVENT
BEGIN:VEVENT
DTSTART;TZID=America/New_York:20240831T100000
DTEND;TZID=America/New_York:20240831T170000
DTSTAMP:20260424T122353
CREATED:20240827T172328Z
LAST-MODIFIED:20240831T192319Z
UID:10006901-1725098400-1725123600@mrvvillage.com
SUMMARY:The 53rd Annual Mad River Valley Craft Fair
DESCRIPTION:It’s not your Grandmother’s Craft Fair! Picture yourself in the beautiful Green Mountains listening to live music while you browse through a juried Fair of one-of-a-kind pieces – unique gifts\, keepsakes for your home\, or special touches to add to your wardrobe. Join us on Labor Day weekend for the 53rd Fair\, with 80+ juried artists\, 4 bands\, food court & winery\, door prizes\, and for the kids\, free face painting and the interactive\, hands-on Dinoman Science Show at noon each day\, which appeals to kids and adults alike. $5 entry fee per adult (proceeds support the Valley Players Community Theater); kids 12 & under enter for free; free parking. Held rain or shine\, no pets\, please! More info at madrivercraftfair.com.
URL:https://mrvvillage.com/event/the-53rd-annual-mad-river-valley-craft-fair/
LOCATION:Kenyon’s Field\, 3337 Main St.\, Waitsfield\, 05673
CATEGORIES:Arts & Entertainment,Community,Family Friendly
ATTACH;FMTTYPE=image/jpeg:https://mrvvillage.com/wp-content/uploads/2024/08/2024_MRCFPoster-6k7WZE.tmp_.jpg
GEO:44.20203;-72.8113874
X-APPLE-STRUCTURED-LOCATION;VALUE=URI;X-ADDRESS=Kenyon’s Field 3337 Main St. Waitsfield 05673;X-APPLE-RADIUS=500;X-TITLE=3337 Main St.:geo:-72.8113874,44.20203
END:VEVENT
BEGIN:VEVENT
DTSTART;TZID=America/New_York:20240831T100000
DTEND;TZID=America/New_York:20240902T170000
DTSTAMP:20260424T122353
CREATED:20240827T172329Z
LAST-MODIFIED:20240831T192319Z
UID:10006902-1725098400-1725296400@mrvvillage.com
SUMMARY:Labor Day Weekend at Sugarbush
DESCRIPTION:Make the most out of your long weekend by spending Labor Day with us here at Sugarbush Resort. Enjoy fun for the whole family\, including scenic lift rides\, disc\ngolf\, and other mountain activities. Dine with us at Rumble’s Bistro & Bar surrounded by views of Lincoln Peak and beyond\, or head to the Sugarbush Resort Golf Club and grab a bite to eat at Hogan’s Pub\, home of the best outdoor deck in the Valley. Make it a Long Weekend. When you book a Friday and Saturday night this summer or fall\, we’ll throw in a free Thursday or Sunday night on us. Make the most of the long weekend.
URL:https://mrvvillage.com/event/labor-day-weekend-at-sugarbush-4/
LOCATION:Sugarbush Resort\, 102 Forest Drive Warren\, VT 05674\, Warren\, 05674
CATEGORIES:Family Friendly,Food & Drink,Sugarbush
GEO:44.1272818;-72.9284492
X-APPLE-STRUCTURED-LOCATION;VALUE=URI;X-ADDRESS=Sugarbush Resort 102 Forest Drive Warren VT 05674 Warren 05674;X-APPLE-RADIUS=500;X-TITLE=102 Forest Drive Warren\, VT 05674:geo:-72.9284492,44.1272818
END:VEVENT
BEGIN:VEVENT
DTSTART;TZID=America/New_York:20240901T000000
DTEND;TZID=America/New_York:20240901T235959
DTSTAMP:20260424T122353
CREATED:20240819T173938Z
LAST-MODIFIED:20240901T192313Z
UID:10006821-1725148800-1725235199@mrvvillage.com
SUMMARY:The MRV Rotary’s Great Duck Race
DESCRIPTION:The Mad River Valley Rotary Club is back with more quacktastic fun with the Great Duck Race of 2024! \nThe Great Duck Race happens Sunday\, September 1st at Lareau Park Swimming Hole (6051 Vermont Rte 100\, Waitsfield) from 2-4pm. We’ll have fun kids activities and more with the first duck race starting at 3pm. \nTickets are on sale now to “adopt” a duck to race for a chance to win cash prizes of up to $1000! Each duck is $5 or to increase your chances of winning\, consider checking out the bundle packages. Ticket Sales are kicking off 6/28 in front of Mehuron’s from 3-5pm (Every Friday) and at the Waitsfield Farmer’s Market on Saturday’s from 9-1pm. You can also purchase online at https://mrvrotary.rallyup.com/duckrace2024/ \nAnd if one duck race isn’t enough\, we’ve added the Mad Duck 100 for those who really want to roll the duck dice. The Mad Duck 100 will be limited to 100 ducks and tickets are $100/each. The prize for this race is a whopping $1500! That’s a lot of ducking money! \nWhen you “adopt” a duck for either race\, you are supporting the Mad River Valley Rotary Club as well as the many programs\, events and community projects they support. These include The Warren 4th of July Parade\, the Mad River Valley Dog Park\, Rise Against Hunger\, Neck of the Woods\, Habitat for Humanity\, grants and scholarships for local students and many\, many more! Learn more about the MRV Rotary charitable giving programs at mrvrotary.org.
URL:https://mrvvillage.com/event/the-mrv-rotarys-great-duck-race-3/
LOCATION:Lareau Park\, 6051 Vermont Rte 100\, Waitesfield\, VT\, 05673
CATEGORIES:Community,Family Friendly,Public Welcome
ATTACH;FMTTYPE=image/jpeg:https://mrvvillage.com/wp-content/uploads/2024/08/Duck-Race-Header-KPRaqf.tmp_.jpg
GEO:44.1754604;-72.8332866
X-APPLE-STRUCTURED-LOCATION;VALUE=URI;X-ADDRESS=Lareau Park 6051 Vermont Rte 100 Waitesfield VT 05673;X-APPLE-RADIUS=500;X-TITLE=6051 Vermont Rte 100:geo:-72.8332866,44.1754604
END:VEVENT
BEGIN:VEVENT
DTSTART;TZID=America/New_York:20240901T100000
DTEND;TZID=America/New_York:20240901T170000
DTSTAMP:20260424T122353
CREATED:20240827T172341Z
LAST-MODIFIED:20240901T192313Z
UID:10006903-1725184800-1725210000@mrvvillage.com
SUMMARY:The 53rd Annual Mad River Valley Craft Fair
DESCRIPTION:It’s not your Grandmother’s Craft Fair! Picture yourself in the beautiful Green Mountains listening to live music while you browse through a juried Fair of one-of-a-kind pieces – unique gifts\, keepsakes for your home\, or special touches to add to your wardrobe. Join us on Labor Day weekend for the 53rd Fair\, with 80+ juried artists\, 4 bands\, food court & winery\, door prizes\, and for the kids\, free face painting and the interactive\, hands-on Dinoman Science Show at noon each day\, which appeals to kids and adults alike. $5 entry fee per adult (proceeds support the Valley Players Community Theater); kids 12 & under enter for free; free parking. Held rain or shine\, no pets\, please! More info at madrivercraftfair.com.
URL:https://mrvvillage.com/event/the-53rd-annual-mad-river-valley-craft-fair-2/
LOCATION:Kenyon’s Field\, 3337 Main St.\, Waitsfield\, 05673
CATEGORIES:Arts & Entertainment,Community,Family Friendly
ATTACH;FMTTYPE=image/jpeg:https://mrvvillage.com/wp-content/uploads/2024/08/2024_MRCFPoster-6k7WZE.tmp_.jpg
GEO:44.20203;-72.8113874
X-APPLE-STRUCTURED-LOCATION;VALUE=URI;X-ADDRESS=Kenyon’s Field 3337 Main St. Waitsfield 05673;X-APPLE-RADIUS=500;X-TITLE=3337 Main St.:geo:-72.8113874,44.20203
END:VEVENT
END:VCALENDAR