BEGIN:VCALENDAR
VERSION:2.0
PRODID:-//The Mad River Valley Village - ECPv6.0.13//NONSGML v1.0//EN
CALSCALE:GREGORIAN
METHOD:PUBLISH
X-WR-CALNAME:The Mad River Valley Village
X-ORIGINAL-URL:https://mrvvillage.com
X-WR-CALDESC:Events for The Mad River Valley Village
REFRESH-INTERVAL;VALUE=DURATION:PT1H
X-Robots-Tag:noindex
X-PUBLISHED-TTL:PT1H
BEGIN:VTIMEZONE
TZID:America/New_York
BEGIN:DAYLIGHT
TZOFFSETFROM:-0500
TZOFFSETTO:-0400
TZNAME:EDT
DTSTART:20240310T070000
END:DAYLIGHT
BEGIN:STANDARD
TZOFFSETFROM:-0400
TZOFFSETTO:-0500
TZNAME:EST
DTSTART:20241103T060000
END:STANDARD
TZID:UTC
BEGIN:STANDARD
TZOFFSETFROM:+0000
TZOFFSETTO:+0000
TZNAME:UTC
DTSTART:20240101T000000
END:STANDARD
END:VTIMEZONE
BEGIN:VEVENT
DTSTART;TZID=America/New_York:20240831T100000
DTEND;TZID=America/New_York:20240902T170000
DTSTAMP:20260425T104516
CREATED:20240827T172329Z
LAST-MODIFIED:20240831T192319Z
UID:10006902-1725098400-1725296400@mrvvillage.com
SUMMARY:Labor Day Weekend at Sugarbush
DESCRIPTION:Make the most out of your long weekend by spending Labor Day with us here at Sugarbush Resort. Enjoy fun for the whole family\, including scenic lift rides\, disc\ngolf\, and other mountain activities. Dine with us at Rumble’s Bistro & Bar surrounded by views of Lincoln Peak and beyond\, or head to the Sugarbush Resort Golf Club and grab a bite to eat at Hogan’s Pub\, home of the best outdoor deck in the Valley. Make it a Long Weekend. When you book a Friday and Saturday night this summer or fall\, we’ll throw in a free Thursday or Sunday night on us. Make the most of the long weekend.
URL:https://mrvvillage.com/event/labor-day-weekend-at-sugarbush-4/
LOCATION:Sugarbush Resort\, 102 Forest Drive Warren\, VT 05674\, Warren\, 05674
CATEGORIES:Family Friendly,Food & Drink,Sugarbush
GEO:44.1272818;-72.9284492
X-APPLE-STRUCTURED-LOCATION;VALUE=URI;X-ADDRESS=Sugarbush Resort 102 Forest Drive Warren VT 05674 Warren 05674;X-APPLE-RADIUS=500;X-TITLE=102 Forest Drive Warren\, VT 05674:geo:-72.9284492,44.1272818
END:VEVENT
BEGIN:VEVENT
DTSTART;TZID=America/New_York:20240904T100000
DTEND;TZID=America/New_York:20240904T110000
DTSTAMP:20260425T104516
CREATED:20240827T172357Z
LAST-MODIFIED:20240904T200816Z
UID:10006907-1725444000-1725447600@mrvvillage.com
SUMMARY:FREE  FALL JAMBOREE MUSIC CLASS for GRAND OPENING IN MORETOWN ON THE FARM
DESCRIPTION:If you want to bring joy to your family-you won’t want to miss this sample class offering of songs\, instrumental play with drums and more\, song stories\, puppets\, props and so much fun accompanied by guitar with Miss Andrea of Musical Munchkins as she celebrates the fall season and upcoming holidays AND HER GRAND OPENING AT LIVING TREE COHOUSING ON THE FARM. \nFor 30 years\, Miss Andrea has been offering music classes and performances for babies\, toddlers\, and preschoolers in her own centers as well as daycares\, nursery schools\, Libraries\, Recreation centers\, and birthday parties: 5 years in Vermont and the last 25 years in New York. \nShe is thrilled TO OFFER a 12-week session which will begin on Wednesday\, Sept 11th in her home ground at Living Tree Cohousing on the farm as well as in Montpelier on Fridays & Sundays\, and Thursdays in Stowe.\nJoin her for the music\, and after class\, feel free to take a walk to see the chickens and the sheep\, a natural playground\, and the sugar house. \nLET US KNOW YOUR COMING- click on class schedule and go to MORETOWN OPEN HOUSE.
URL:https://mrvvillage.com/event/free-fall-jamboree-music-class-for-grand-opening-in-moretown-on-the-farm/
LOCATION:Living Tree Co-housing\, 96 Living Tree Lane\, Moretown\, Vermont\, 05660\, United States
CATEGORIES:Arts & Entertainment,Community,Family Friendly
ATTACH;FMTTYPE=image/jpeg:https://mrvvillage.com/wp-content/uploads/2024/08/MORETOWN-OPEN-HOUSE-Vpd5yf.tmp_.jpg
ORGANIZER;CN="Musical%20Munchkins%20with%20Andrea":MAILTO:musicalmunchkinswithandrea@gmail.com
GEO:44.2473993;-72.775753
X-APPLE-STRUCTURED-LOCATION;VALUE=URI;X-ADDRESS=Living Tree Co-housing 96 Living Tree Lane Moretown Vermont 05660 United States;X-APPLE-RADIUS=500;X-TITLE=96 Living Tree Lane:geo:-72.775753,44.2473993
END:VEVENT
BEGIN:VEVENT
DTSTART;TZID=America/New_York:20240905T130000
DTEND;TZID=America/New_York:20240905T170000
DTSTAMP:20260425T104516
CREATED:20240828T173858Z
LAST-MODIFIED:20240905T202316Z
UID:10006931-1725541200-1725555600@mrvvillage.com
SUMMARY:Wild Pink
DESCRIPTION:WILD PINK is a group show about the natural and cultural relationship of the ancient color PINK. There is certainly no dearth of pink in the natural world or in human culture. We accessorize\, cosmeticize\, gender-ize and interiorize to the point of being ‘tickled pink’. In the animal and floral world pink as hue and shade exists multifold. Whether to shock\, protest or code the millennials\, pink has survived the test of time. This show examines the fluid origins of PINK in ‘natural’ and/or ‘cultural’ contexts. This is open media\, interdisciplinary\, multimedia\, installation\, all contemporary crafts and design arts in two/three dimensions for the wall and floor. \nReception & Artist talks: Sept. 26th\, 5-7pm
URL:https://mrvvillage.com/event/wild-pink/
LOCATION:Festival Gallery at Valley Arts\, 5031 Main Street\,\, Waitsfield\, 05673
CATEGORIES:Arts & Entertainment,Community,Family Friendly
ATTACH;FMTTYPE=image/webp:https://mrvvillage.com/wp-content/uploads/2024/08/panolin-1920w.jpg-2-wtSfZS.tmp_.webp
ORGANIZER;CN="Mad%20River%20Valley%20Arts":MAILTO:director@madrivervalleyarts.org
GEO:44.1926386;-72.7798479
X-APPLE-STRUCTURED-LOCATION;VALUE=URI;X-ADDRESS=Festival Gallery at Valley Arts 5031 Main Street Waitsfield 05673;X-APPLE-RADIUS=500;X-TITLE=5031 Main Street\,:geo:-72.7798479,44.1926386
END:VEVENT
BEGIN:VEVENT
DTSTART;TZID=UTC:20240905T170000
DTEND;TZID=UTC:20240905T210000
DTSTAMP:20260425T104516
CREATED:20240819T173957Z
LAST-MODIFIED:20240905T202316Z
UID:10006829-1725555600-1725570000@mrvvillage.com
SUMMARY:Pub Night with Live Music by Straightjacket Slumber Party 5pm – 9pm
DESCRIPTION:Join us for live music and all your pub favorites!
URL:https://mrvvillage.com/event/pub-night-with-live-music-by-straightjacket-slumber-party-5pm-9pm-3/
LOCATION:Mad River Barn
CATEGORIES:Dining,Family Friendly,Live Music,Public Welcome
GEO:44.195472;-72.8915611
END:VEVENT
BEGIN:VEVENT
DTSTART;TZID=America/New_York:20240906T130000
DTEND;TZID=America/New_York:20240906T170000
DTSTAMP:20260425T104516
CREATED:20240828T173900Z
LAST-MODIFIED:20240906T203814Z
UID:10006932-1725627600-1725642000@mrvvillage.com
SUMMARY:Wild Pink
DESCRIPTION:WILD PINK is a group show about the natural and cultural relationship of the ancient color PINK. There is certainly no dearth of pink in the natural world or in human culture. We accessorize\, cosmeticize\, gender-ize and interiorize to the point of being ‘tickled pink’. In the animal and floral world pink as hue and shade exists multifold. Whether to shock\, protest or code the millennials\, pink has survived the test of time. This show examines the fluid origins of PINK in ‘natural’ and/or ‘cultural’ contexts. This is open media\, interdisciplinary\, multimedia\, installation\, all contemporary crafts and design arts in two/three dimensions for the wall and floor. \nReception & Artist talks: Sept. 26th\, 5-7pm
URL:https://mrvvillage.com/event/wild-pink-2/
LOCATION:Festival Gallery at Valley Arts\, 5031 Main Street\,\, Waitsfield\, 05673
CATEGORIES:Arts & Entertainment,Community,Family Friendly
ATTACH;FMTTYPE=image/webp:https://mrvvillage.com/wp-content/uploads/2024/08/panolin-1920w.jpg-2-wtSfZS.tmp_.webp
ORGANIZER;CN="Mad%20River%20Valley%20Arts":MAILTO:director@madrivervalleyarts.org
GEO:44.1926386;-72.7798479
X-APPLE-STRUCTURED-LOCATION;VALUE=URI;X-ADDRESS=Festival Gallery at Valley Arts 5031 Main Street Waitsfield 05673;X-APPLE-RADIUS=500;X-TITLE=5031 Main Street\,:geo:-72.7798479,44.1926386
END:VEVENT
BEGIN:VEVENT
DTSTART;TZID=America/New_York:20240907T000000
DTEND;TZID=America/New_York:20240907T235959
DTSTAMP:20260425T104516
CREATED:20240827T172400Z
LAST-MODIFIED:20240907T205318Z
UID:10006909-1725667200-1725753599@mrvvillage.com
SUMMARY:OUTPOUR ‘24 A DAYLONG MUSIC FEST TO HELP THOSE AFFECTED BY THIS SUMMER’S FLOOD
DESCRIPTION:Join us at Mt. Ellen on Saturday\, September 7th\, for a full day of food\, drink and live music to benefit Vermont flood relief efforts. 100% of ticket proceeds goes towards the Vermont Community Foundations VT Flood Response & Recovery Fund\, along with proceeds from the raffle. \nLive music featuring Abby Jenne\, Kind Bud\, Guitfiddle\, Ragged Company\, Running in Circles and The Grift. Doors at 11:00 AM with first notes at noon. Advanced tickets are $25; day-of $30. Limited tickets available. Kids 12 and under are free. \nThis is a shine only event; in the event of weather cancellation 100% of ticket proceeds will go to VT Flood Relief.
URL:https://mrvvillage.com/event/outpour-24-a-daylong-music-fest-to-help-those-affected-by-this-summers-flood/
LOCATION:Mount Ellen\, Mount Ellen
CATEGORIES:Arts & Entertainment,Community,Family Friendly,Food & Drink,Special Events,Sugarbush
ATTACH;FMTTYPE=image/png:https://mrvvillage.com/wp-content/uploads/2024/08/OUTPOUR_24-Poster-w-Logos-1.pdf-6-x-8-in-lkVfXL.tmp_.png
GEO:44.1600589;-72.9292834
X-APPLE-STRUCTURED-LOCATION;VALUE=URI;X-ADDRESS=Mount Ellen Mount Ellen;X-APPLE-RADIUS=500;X-TITLE=Mount Ellen:geo:-72.9292834,44.1600589
END:VEVENT
BEGIN:VEVENT
DTSTART;TZID=America/New_York:20240907T100000
DTEND;TZID=America/New_York:20240907T110000
DTSTAMP:20260425T104516
CREATED:20240906T192316Z
LAST-MODIFIED:20240907T205318Z
UID:10007004-1725703200-1725706800@mrvvillage.com
SUMMARY:Musical Munchkins with Miss Andrea Free Event
DESCRIPTION:Join Miss Andrea of Musical Munchkins for a Fall Jamboree music program geared for babies\, toddlers and preschoolers with singing\, movement\, props\, puppets\, drums and shakers. \nMiss Andrea was a preschool music teacher for 25 years in New York and 5 years in Vermont and now lives in the Mad River Valley where she offers her own music classes and performs at birthday parties\, library programs\, and concerts throughout Vermont. She also has an album out on Spotify and iTunes: Happy House with Miss Andrea & Friends.
URL:https://mrvvillage.com/event/musical-munchkins-with-miss-andrea-free-event/
LOCATION:Warren Public Library\, 413 Main Street\, Warren\, 05674
CATEGORIES:Arts & Entertainment,Community,Family Friendly
ATTACH;FMTTYPE=image/jpeg:https://mrvvillage.com/wp-content/uploads/2024/09/Musical-Munchkins-w-Miss-Andrea-IN481r.tmp_.jpg
ORGANIZER;CN="Warren%20Public%20Library":MAILTO:director@warrenlibrary.com
GEO:44.118347;-72.8576681
X-APPLE-STRUCTURED-LOCATION;VALUE=URI;X-ADDRESS=Warren Public Library 413 Main Street Warren 05674;X-APPLE-RADIUS=500;X-TITLE=413 Main Street:geo:-72.8576681,44.118347
END:VEVENT
BEGIN:VEVENT
DTSTART;TZID=America/New_York:20240907T130000
DTEND;TZID=America/New_York:20240907T170000
DTSTAMP:20260425T104516
CREATED:20240828T173913Z
LAST-MODIFIED:20240907T205318Z
UID:10006933-1725714000-1725728400@mrvvillage.com
SUMMARY:Wild Pink
DESCRIPTION:WILD PINK is a group show about the natural and cultural relationship of the ancient color PINK. There is certainly no dearth of pink in the natural world or in human culture. We accessorize\, cosmeticize\, gender-ize and interiorize to the point of being ‘tickled pink’. In the animal and floral world pink as hue and shade exists multifold. Whether to shock\, protest or code the millennials\, pink has survived the test of time. This show examines the fluid origins of PINK in ‘natural’ and/or ‘cultural’ contexts. This is open media\, interdisciplinary\, multimedia\, installation\, all contemporary crafts and design arts in two/three dimensions for the wall and floor. \nReception & Artist talks: Sept. 26th\, 5-7pm
URL:https://mrvvillage.com/event/wild-pink-3/
LOCATION:Festival Gallery at Valley Arts\, 5031 Main Street\,\, Waitsfield\, 05673
CATEGORIES:Arts & Entertainment,Community,Family Friendly
ATTACH;FMTTYPE=image/webp:https://mrvvillage.com/wp-content/uploads/2024/08/panolin-1920w.jpg-2-wtSfZS.tmp_.webp
ORGANIZER;CN="Mad%20River%20Valley%20Arts":MAILTO:director@madrivervalleyarts.org
GEO:44.1926386;-72.7798479
X-APPLE-STRUCTURED-LOCATION;VALUE=URI;X-ADDRESS=Festival Gallery at Valley Arts 5031 Main Street Waitsfield 05673;X-APPLE-RADIUS=500;X-TITLE=5031 Main Street\,:geo:-72.7798479,44.1926386
END:VEVENT
END:VCALENDAR