BEGIN:VCALENDAR
VERSION:2.0
PRODID:-//The Mad River Valley Village - ECPv6.0.13//NONSGML v1.0//EN
CALSCALE:GREGORIAN
METHOD:PUBLISH
X-ORIGINAL-URL:https://mrvvillage.com
X-WR-CALDESC:Events for The Mad River Valley Village
REFRESH-INTERVAL;VALUE=DURATION:PT1H
X-Robots-Tag:noindex
X-PUBLISHED-TTL:PT1H
BEGIN:VTIMEZONE
TZID:America/New_York
BEGIN:DAYLIGHT
TZOFFSETFROM:-0500
TZOFFSETTO:-0400
TZNAME:EDT
DTSTART:20240310T070000
END:DAYLIGHT
BEGIN:STANDARD
TZOFFSETFROM:-0400
TZOFFSETTO:-0500
TZNAME:EST
DTSTART:20241103T060000
END:STANDARD
TZID:UTC
BEGIN:STANDARD
TZOFFSETFROM:+0000
TZOFFSETTO:+0000
TZNAME:UTC
DTSTART:20240101T000000
END:STANDARD
END:VTIMEZONE
BEGIN:VEVENT
DTSTART;TZID=America/New_York:20241008T130000
DTEND;TZID=America/New_York:20241008T170000
DTSTAMP:20260425T091205
CREATED:20240828T174108Z
LAST-MODIFIED:20241006T122317Z
UID:10006959-1728392400-1728406800@mrvvillage.com
SUMMARY:Wild Pink
DESCRIPTION:WILD PINK is a group show about the natural and cultural relationship of the ancient color PINK. There is certainly no dearth of pink in the natural world or in human culture. We accessorize\, cosmeticize\, gender-ize and interiorize to the point of being ‘tickled pink’. In the animal and floral world pink as hue and shade exists multifold. Whether to shock\, protest or code the millennials\, pink has survived the test of time. This show examines the fluid origins of PINK in ‘natural’ and/or ‘cultural’ contexts. This is open media\, interdisciplinary\, multimedia\, installation\, all contemporary crafts and design arts in two/three dimensions for the wall and floor. \nReception & Artist talks: Sept. 26th\, 5-7pm
URL:https://mrvvillage.com/event/wild-pink-24/
LOCATION:Festival Gallery at Valley Arts\, 5031 Main Street\,\, Waitsfield\, 05673
CATEGORIES:Arts & Entertainment,Community,Family Friendly
ATTACH;FMTTYPE=image/webp:https://mrvvillage.com/wp-content/uploads/2024/08/panolin-1920w.jpg-2-wtSfZS.tmp_.webp
ORGANIZER;CN="Mad%20River%20Valley%20Arts":MAILTO:director@madrivervalleyarts.org
GEO:44.1926386;-72.7798479
X-APPLE-STRUCTURED-LOCATION;VALUE=URI;X-ADDRESS=Festival Gallery at Valley Arts 5031 Main Street Waitsfield 05673;X-APPLE-RADIUS=500;X-TITLE=5031 Main Street\,:geo:-72.7798479,44.1926386
END:VEVENT
BEGIN:VEVENT
DTSTART;TZID=America/New_York:20241009T130000
DTEND;TZID=America/New_York:20241009T170000
DTSTAMP:20260425T091205
CREATED:20240828T174108Z
LAST-MODIFIED:20241006T122330Z
UID:10006961-1728478800-1728493200@mrvvillage.com
SUMMARY:Wild Pink
DESCRIPTION:WILD PINK is a group show about the natural and cultural relationship of the ancient color PINK. There is certainly no dearth of pink in the natural world or in human culture. We accessorize\, cosmeticize\, gender-ize and interiorize to the point of being ‘tickled pink’. In the animal and floral world pink as hue and shade exists multifold. Whether to shock\, protest or code the millennials\, pink has survived the test of time. This show examines the fluid origins of PINK in ‘natural’ and/or ‘cultural’ contexts. This is open media\, interdisciplinary\, multimedia\, installation\, all contemporary crafts and design arts in two/three dimensions for the wall and floor. \nReception & Artist talks: Sept. 26th\, 5-7pm
URL:https://mrvvillage.com/event/wild-pink-25/
LOCATION:Festival Gallery at Valley Arts\, 5031 Main Street\,\, Waitsfield\, 05673
CATEGORIES:Arts & Entertainment,Community,Family Friendly
ATTACH;FMTTYPE=image/webp:https://mrvvillage.com/wp-content/uploads/2024/08/panolin-1920w.jpg-2-wtSfZS.tmp_.webp
ORGANIZER;CN="Mad%20River%20Valley%20Arts":MAILTO:director@madrivervalleyarts.org
GEO:44.1926386;-72.7798479
X-APPLE-STRUCTURED-LOCATION;VALUE=URI;X-ADDRESS=Festival Gallery at Valley Arts 5031 Main Street Waitsfield 05673;X-APPLE-RADIUS=500;X-TITLE=5031 Main Street\,:geo:-72.7798479,44.1926386
END:VEVENT
BEGIN:VEVENT
DTSTART;TZID=America/New_York:20241010T130000
DTEND;TZID=America/New_York:20241010T170000
DTSTAMP:20260425T091205
CREATED:20240828T174108Z
LAST-MODIFIED:20241006T122330Z
UID:10006962-1728565200-1728579600@mrvvillage.com
SUMMARY:Wild Pink
DESCRIPTION:WILD PINK is a group show about the natural and cultural relationship of the ancient color PINK. There is certainly no dearth of pink in the natural world or in human culture. We accessorize\, cosmeticize\, gender-ize and interiorize to the point of being ‘tickled pink’. In the animal and floral world pink as hue and shade exists multifold. Whether to shock\, protest or code the millennials\, pink has survived the test of time. This show examines the fluid origins of PINK in ‘natural’ and/or ‘cultural’ contexts. This is open media\, interdisciplinary\, multimedia\, installation\, all contemporary crafts and design arts in two/three dimensions for the wall and floor. \nReception & Artist talks: Sept. 26th\, 5-7pm
URL:https://mrvvillage.com/event/wild-pink-26/
LOCATION:Festival Gallery at Valley Arts\, 5031 Main Street\,\, Waitsfield\, 05673
CATEGORIES:Arts & Entertainment,Community,Family Friendly
ATTACH;FMTTYPE=image/webp:https://mrvvillage.com/wp-content/uploads/2024/08/panolin-1920w.jpg-2-wtSfZS.tmp_.webp
ORGANIZER;CN="Mad%20River%20Valley%20Arts":MAILTO:director@madrivervalleyarts.org
GEO:44.1926386;-72.7798479
X-APPLE-STRUCTURED-LOCATION;VALUE=URI;X-ADDRESS=Festival Gallery at Valley Arts 5031 Main Street Waitsfield 05673;X-APPLE-RADIUS=500;X-TITLE=5031 Main Street\,:geo:-72.7798479,44.1926386
END:VEVENT
BEGIN:VEVENT
DTSTART;TZID=UTC:20241010T170000
DTEND;TZID=UTC:20241010T210000
DTSTAMP:20260425T091205
CREATED:20240911T202533Z
LAST-MODIFIED:20241010T125318Z
UID:10007022-1728579600-1728594000@mrvvillage.com
SUMMARY:Pub Night with Live Music by Al’s Pals 5pm – 9pm
DESCRIPTION:Join us in the pub for Live Music with Al’s Pals and all your MRB pub fare favorites!
URL:https://mrvvillage.com/event/pub-night-with-live-music-by-als-pals-5pm-9pm-3/
LOCATION:Mad River Barn
CATEGORIES:Dining,Family Friendly,Live Music,Public Welcome
GEO:44.195472;-72.8915611
END:VEVENT
BEGIN:VEVENT
DTSTART;TZID=America/New_York:20241011T130000
DTEND;TZID=America/New_York:20241011T170000
DTSTAMP:20260425T091205
CREATED:20240828T174122Z
LAST-MODIFIED:20241006T122343Z
UID:10006963-1728651600-1728666000@mrvvillage.com
SUMMARY:Wild Pink
DESCRIPTION:WILD PINK is a group show about the natural and cultural relationship of the ancient color PINK. There is certainly no dearth of pink in the natural world or in human culture. We accessorize\, cosmeticize\, gender-ize and interiorize to the point of being ‘tickled pink’. In the animal and floral world pink as hue and shade exists multifold. Whether to shock\, protest or code the millennials\, pink has survived the test of time. This show examines the fluid origins of PINK in ‘natural’ and/or ‘cultural’ contexts. This is open media\, interdisciplinary\, multimedia\, installation\, all contemporary crafts and design arts in two/three dimensions for the wall and floor. \nReception & Artist talks: Sept. 26th\, 5-7pm
URL:https://mrvvillage.com/event/wild-pink-27/
LOCATION:Festival Gallery at Valley Arts\, 5031 Main Street\,\, Waitsfield\, 05673
CATEGORIES:Arts & Entertainment,Community,Family Friendly
ATTACH;FMTTYPE=image/webp:https://mrvvillage.com/wp-content/uploads/2024/08/panolin-1920w.jpg-2-wtSfZS.tmp_.webp
ORGANIZER;CN="Mad%20River%20Valley%20Arts":MAILTO:director@madrivervalleyarts.org
GEO:44.1926386;-72.7798479
X-APPLE-STRUCTURED-LOCATION;VALUE=URI;X-ADDRESS=Festival Gallery at Valley Arts 5031 Main Street Waitsfield 05673;X-APPLE-RADIUS=500;X-TITLE=5031 Main Street\,:geo:-72.7798479,44.1926386
END:VEVENT
BEGIN:VEVENT
DTSTART;TZID=America/New_York:20241011T160000
DTEND;TZID=America/New_York:20241011T210000
DTSTAMP:20260425T091205
CREATED:20240930T235415Z
LAST-MODIFIED:20241011T125314Z
UID:10007085-1728662400-1728680400@mrvvillage.com
SUMMARY:American Flatbread Benefit Bake for  Circle in Support of Domestic Violence Awareness Month
DESCRIPTION:American Flatbread Waitsfield is hosting a fundraiser/awareness event for Circle\, Washington County’s domestic violence shelter and services organization. They will be donating $5 for every pizza sold.
URL:https://mrvvillage.com/event/american-flatbread-pizza-bake-for-circle-in-honor-of-domestic-violence-awareness-month/
LOCATION:American Flatbread\, 46 Lareau Rd\, Waitsfield\, 05673\, United States
CATEGORIES:Community,Dining,Family Friendly,Food & Drink,Special Events
ATTACH;FMTTYPE=image/jpeg:https://mrvvillage.com/wp-content/uploads/2024/09/american-flatbread-O8Z8RX.tmp_.jpg
ORGANIZER;CN="Lareau%20Farm%20Inn":MAILTO:stay@lareaufarminn.com
GEO:44.173381;-72.835086
X-APPLE-STRUCTURED-LOCATION;VALUE=URI;X-ADDRESS=American Flatbread 46 Lareau Rd Waitsfield 05673 United States;X-APPLE-RADIUS=500;X-TITLE=46 Lareau Rd:geo:-72.835086,44.173381
END:VEVENT
BEGIN:VEVENT
DTSTART;TZID=America/New_York:20241012T000000
DTEND;TZID=America/New_York:20241012T235959
DTSTAMP:20260425T091205
CREATED:20240819T174111Z
LAST-MODIFIED:20241012T130814Z
UID:10006869-1728691200-1728777599@mrvvillage.com
SUMMARY:Community Weekend
DESCRIPTION:Join us for Community Day in conjunction with Oktoberfest! Learn more about the State of Our Mountain and from our community partners.
URL:https://mrvvillage.com/event/community-weekend-3/
LOCATION:Sugarbush Resort\, 102 Forest Drive Warren\, VT 05674\, Warren\, 05674
CATEGORIES:Family Friendly,Food & Drink,Sugarbush
ATTACH;FMTTYPE=image/jpeg:https://mrvvillage.com/wp-content/uploads/2024/08/aerial-foliage-1-vawaZc.tmp_.jpg
GEO:44.1272818;-72.9284492
X-APPLE-STRUCTURED-LOCATION;VALUE=URI;X-ADDRESS=Sugarbush Resort 102 Forest Drive Warren VT 05674 Warren 05674;X-APPLE-RADIUS=500;X-TITLE=102 Forest Drive Warren\, VT 05674:geo:-72.9284492,44.1272818
END:VEVENT
BEGIN:VEVENT
DTSTART;TZID=America/New_York:20241012T100000
DTEND;TZID=America/New_York:20241012T170000
DTSTAMP:20260425T091205
CREATED:20241001T235433Z
LAST-MODIFIED:20241012T130814Z
UID:10007096-1728727200-1728752400@mrvvillage.com
SUMMARY:Inklings Children’s Books Anniversary Party!
DESCRIPTION:Join Inklings Children’s Books in celebrating their first anniversary!! \nStarting at 10am\, Inklings is hosting an all-day celebration filled with drinks\, cupcakes\, story time\, craft making and more! \nWe can’t wait to see you. FREE and open to all!
URL:https://mrvvillage.com/event/inklings-childrens-books-anniversary-party/
LOCATION:Inklings Children’s Books\, 106 Mad River Greeen\, Waitsfield\, VT\, 05673\, United States
CATEGORIES:Arts & Entertainment,Community,Family Friendly
ATTACH;FMTTYPE=image/jpeg:https://mrvvillage.com/wp-content/uploads/2024/10/InklingsAnniversaryPostMRV-x0wPl4.tmp_.jpg
ORGANIZER;CN="Inklings%20Children%26%238217%3Bs%20Books":MAILTO:inklingschildrensbooks@gmail.com
GEO:44.1844899;-72.839037
X-APPLE-STRUCTURED-LOCATION;VALUE=URI;X-ADDRESS=Inklings Children’s Books 106 Mad River Greeen Waitsfield VT 05673 United States;X-APPLE-RADIUS=500;X-TITLE=106 Mad River Greeen:geo:-72.839037,44.1844899
END:VEVENT
BEGIN:VEVENT
DTSTART;TZID=America/New_York:20241012T130000
DTEND;TZID=America/New_York:20241012T170000
DTSTAMP:20260425T091205
CREATED:20240828T174122Z
LAST-MODIFIED:20241006T122356Z
UID:10006964-1728738000-1728752400@mrvvillage.com
SUMMARY:Wild Pink
DESCRIPTION:WILD PINK is a group show about the natural and cultural relationship of the ancient color PINK. There is certainly no dearth of pink in the natural world or in human culture. We accessorize\, cosmeticize\, gender-ize and interiorize to the point of being ‘tickled pink’. In the animal and floral world pink as hue and shade exists multifold. Whether to shock\, protest or code the millennials\, pink has survived the test of time. This show examines the fluid origins of PINK in ‘natural’ and/or ‘cultural’ contexts. This is open media\, interdisciplinary\, multimedia\, installation\, all contemporary crafts and design arts in two/three dimensions for the wall and floor. \nReception & Artist talks: Sept. 26th\, 5-7pm
URL:https://mrvvillage.com/event/wild-pink-28/
LOCATION:Festival Gallery at Valley Arts\, 5031 Main Street\,\, Waitsfield\, 05673
CATEGORIES:Arts & Entertainment,Community,Family Friendly
ATTACH;FMTTYPE=image/webp:https://mrvvillage.com/wp-content/uploads/2024/08/panolin-1920w.jpg-2-wtSfZS.tmp_.webp
ORGANIZER;CN="Mad%20River%20Valley%20Arts":MAILTO:director@madrivervalleyarts.org
GEO:44.1926386;-72.7798479
X-APPLE-STRUCTURED-LOCATION;VALUE=URI;X-ADDRESS=Festival Gallery at Valley Arts 5031 Main Street Waitsfield 05673;X-APPLE-RADIUS=500;X-TITLE=5031 Main Street\,:geo:-72.7798479,44.1926386
END:VEVENT
END:VCALENDAR