BEGIN:VCALENDAR
VERSION:2.0
PRODID:-//The Mad River Valley Village - ECPv6.0.13//NONSGML v1.0//EN
CALSCALE:GREGORIAN
METHOD:PUBLISH
X-WR-CALNAME:The Mad River Valley Village
X-ORIGINAL-URL:https://mrvvillage.com
X-WR-CALDESC:Events for The Mad River Valley Village
REFRESH-INTERVAL;VALUE=DURATION:PT1H
X-Robots-Tag:noindex
X-PUBLISHED-TTL:PT1H
BEGIN:VTIMEZONE
TZID:America/New_York
BEGIN:DAYLIGHT
TZOFFSETFROM:-0500
TZOFFSETTO:-0400
TZNAME:EDT
DTSTART:20250309T070000
END:DAYLIGHT
BEGIN:STANDARD
TZOFFSETFROM:-0400
TZOFFSETTO:-0500
TZNAME:EST
DTSTART:20251102T060000
END:STANDARD
END:VTIMEZONE
BEGIN:VEVENT
DTSTART;TZID=America/New_York:20251110T150000
DTEND;TZID=America/New_York:20251110T163000
DTSTAMP:20260422T180830
CREATED:20250812T144250Z
LAST-MODIFIED:20251110T183825Z
UID:10008832-1762786800-1762792200@mrvvillage.com
SUMMARY:Fall Art Class at Inklings\, Grades 4 – 6
DESCRIPTION:Mondays from 3:00 – 4:30pm. Starts October 20th. \nBeginning October 20th\, 4th – 6th graders will begin a six week course. Focusing on three different artists\, students will have the chance to explore\, in depth\, three very different types of creating – from 2 dimensional to three dimensional art. \nStudents will receive a book about each artist. The perfect way to expand your child’s creativity!! \nSIGN UP using the EVENT LINK
URL:https://mrvvillage.com/event/fall-art-class-at-inklings-grades-4-6-4/
LOCATION:Inklings Children’s Books\, 106 Mad River Greeen\, Waitsfield\, VT\, 05673\, United States
CATEGORIES:Arts & Entertainment,Family Friendly
ATTACH;FMTTYPE=image/jpeg:https://mrvvillage.com/wp-content/uploads/2025/07/Fall-Art-Class-Flyer-4-thru-6-MRV-89RkSP.jpg
ORGANIZER;CN="Inklings%20Children%26%238217%3Bs%20Books":MAILTO:inklingschildrensbooks@gmail.com
GEO:44.1844899;-72.839037
X-APPLE-STRUCTURED-LOCATION;VALUE=URI;X-ADDRESS=Inklings Children’s Books 106 Mad River Greeen Waitsfield VT 05673 United States;X-APPLE-RADIUS=500;X-TITLE=106 Mad River Greeen:geo:-72.839037,44.1844899
END:VEVENT
BEGIN:VEVENT
DTSTART;TZID=America/New_York:20251113T150000
DTEND;TZID=America/New_York:20251113T163000
DTSTAMP:20260422T180830
CREATED:20250815T152839Z
LAST-MODIFIED:20251113T190828Z
UID:10008873-1763046000-1763051400@mrvvillage.com
SUMMARY:Fall Art Class at Inklings\, Grades K – 3
DESCRIPTION:Thursdays from 3:00 – 4:30pm. Starts October 16th. \nEXPLORE PAINTING\, SCULPTURE\, & WORK WITH RECYCLED MATERIALS. Starting October 16th\, your young artists will begin a six week course. Each week children will receive their own book based on a featured artist. \nFollowing a read aloud\, children will jump into an art project based on the artist’s work. A perfect introduction to the wider world of creativity!! \nSIGN UP using the EVENT LINK
URL:https://mrvvillage.com/event/fall-art-class-at-inklings-grades-k-3-5/
LOCATION:Inklings Children’s Books\, 106 Mad River Greeen\, Waitsfield\, VT\, 05673\, United States
CATEGORIES:Arts & Entertainment,Family Friendly
ATTACH;FMTTYPE=image/jpeg:https://mrvvillage.com/wp-content/uploads/2025/07/Fall-Art-Class-Flyer-K-thru-3-MRV-JAvzdc.jpg
ORGANIZER;CN="Inklings%20Children%26%238217%3Bs%20Books":MAILTO:inklingschildrensbooks@gmail.com
GEO:44.1844899;-72.839037
X-APPLE-STRUCTURED-LOCATION;VALUE=URI;X-ADDRESS=Inklings Children’s Books 106 Mad River Greeen Waitsfield VT 05673 United States;X-APPLE-RADIUS=500;X-TITLE=106 Mad River Greeen:geo:-72.839037,44.1844899
END:VEVENT
BEGIN:VEVENT
DTSTART;TZID=America/New_York:20251113T150000
DTEND;TZID=America/New_York:20251218T163000
DTSTAMP:20260422T180830
CREATED:20251024T153937Z
LAST-MODIFIED:20251113T190828Z
UID:10009170-1763046000-1766075400@mrvvillage.com
SUMMARY:Story Book\, Art & Book Class at Inklings!
DESCRIPTION:Jump into your favorite picture books for six weeks of story inspired art!! Starting November 13th. \nEach week children will receive their own book; either a picture book classic or a brand new favorite. Following a read aloud\, children will jump into art projects based on the story. \nThursdays from 3:00 – 4:30pm. Starts November 13th.\nREC. GRADES: K – 3\nONLY 11 SEATS AVAILABLE PER CLASS.\nPrice: $240 ($40 per class). Includes books and materials.
URL:https://mrvvillage.com/event/story-book-art-book-class-at-inklings/
LOCATION:Inklings Children’s Books\, 106 Mad River Greeen\, Waitsfield\, VT\, 05673\, United States
CATEGORIES:Family Friendly
ATTACH;FMTTYPE=image/jpeg:https://mrvvillage.com/wp-content/uploads/2025/10/Story-Book-Art-Class-Flyer-MRV-cTiel5.jpg
ORGANIZER;CN="Inklings%20Children%26%238217%3Bs%20Books":MAILTO:inklingschildrensbooks@gmail.com
GEO:44.1844899;-72.839037
X-APPLE-STRUCTURED-LOCATION;VALUE=URI;X-ADDRESS=Inklings Children’s Books 106 Mad River Greeen Waitsfield VT 05673 United States;X-APPLE-RADIUS=500;X-TITLE=106 Mad River Greeen:geo:-72.839037,44.1844899
END:VEVENT
BEGIN:VEVENT
DTSTART;TZID=America/New_York:20251114T100000
DTEND;TZID=America/New_York:20251114T110000
DTSTAMP:20260422T180830
CREATED:20251021T072440Z
LAST-MODIFIED:20251114T192323Z
UID:10009131-1763114400-1763118000@mrvvillage.com
SUMMARY:Toddler Time\, Creative Shapes Art Class at Inklings!
DESCRIPTION:It’s Toddler Time\, Creative Shapes Art Class at Inklings Children’s Books! Friday mornings from 10am – 11am. \nCaregivers and their little ones are invited to explore shapes in a whole new way\, and develop those fine motor skills; all while having some creative fun! \nActivities will include painting with balloons\, creating shapes with different materials\, and color matching. \nBegins Friday\, Nov. 7th and goes for 6 weeks.\nAges: 18mo – 4yrs.\nPrice: $85 (all six classes) Drop-in Price: $15/per class
URL:https://mrvvillage.com/event/toddler-time-creative-shapes-art-class-at-inklings-2/
LOCATION:Inklings Children’s Books\, 106 Mad River Greeen\, Waitsfield\, VT\, 05673\, United States
CATEGORIES:Family Friendly
ATTACH;FMTTYPE=image/jpeg:https://mrvvillage.com/wp-content/uploads/2025/10/Creative-Shapes-Flyer-MRV-OKWKDM.jpg
ORGANIZER;CN="Inklings%20Children%26%238217%3Bs%20Books":MAILTO:inklingschildrensbooks@gmail.com
GEO:44.1844899;-72.839037
X-APPLE-STRUCTURED-LOCATION;VALUE=URI;X-ADDRESS=Inklings Children’s Books 106 Mad River Greeen Waitsfield VT 05673 United States;X-APPLE-RADIUS=500;X-TITLE=106 Mad River Greeen:geo:-72.839037,44.1844899
END:VEVENT
BEGIN:VEVENT
DTSTART;TZID=America/New_York:20251115T100000
DTEND;TZID=America/New_York:20251115T160000
DTSTAMP:20260422T180830
CREATED:20250930T235556Z
LAST-MODIFIED:20251115T193825Z
UID:10009054-1763200800-1763222400@mrvvillage.com
SUMMARY:Playpalooza
DESCRIPTION:Join us on Saturday November 15 from our annual Playpalooza Holiday Kickoff. Free activities will be happening both inside and outside the store so come on over the Mad River Gren to play! Pull a carrot for your secret discount and free gift with purchase while supplies last. Activites from 10-4 \, teh store open 9:30 to 5. Come have fun\, play and shop local this year!
URL:https://mrvvillage.com/event/playpalooza/
LOCATION:The Colection
CATEGORIES:Arts & Entertainment,Community,Family Friendly
ATTACH;FMTTYPE=image/jpeg:https://mrvvillage.com/wp-content/uploads/2025/09/Collection-rotated-RoSSIM.jpg
ORGANIZER;CN="The%20Collection":MAILTO:collection@madriver.com
END:VEVENT
END:VCALENDAR