BEGIN:VCALENDAR
VERSION:2.0
PRODID:-//The Mad River Valley Village - ECPv6.0.13//NONSGML v1.0//EN
CALSCALE:GREGORIAN
METHOD:PUBLISH
X-WR-CALNAME:The Mad River Valley Village
X-ORIGINAL-URL:https://mrvvillage.com
X-WR-CALDESC:Events for The Mad River Valley Village
REFRESH-INTERVAL;VALUE=DURATION:PT1H
X-Robots-Tag:noindex
X-PUBLISHED-TTL:PT1H
BEGIN:VTIMEZONE
TZID:America/New_York
BEGIN:DAYLIGHT
TZOFFSETFROM:-0500
TZOFFSETTO:-0400
TZNAME:EDT
DTSTART:20260308T070000
END:DAYLIGHT
BEGIN:STANDARD
TZOFFSETFROM:-0400
TZOFFSETTO:-0500
TZNAME:EST
DTSTART:20261101T060000
END:STANDARD
END:VTIMEZONE
BEGIN:VEVENT
DTSTART;TZID=America/New_York:20260521T170000
DTEND;TZID=America/New_York:20260521T210000
DTSTAMP:20260422T180842
CREATED:20260422T164014Z
LAST-MODIFIED:20260422T164014Z
UID:10010139-1779382800-1779397200@mrvvillage.com
SUMMARY:LIVE MUSIC & PUB NIGHT Featuring Ben Clark!
DESCRIPTION:Join us in the pub for all your favorite Mad River Barn menu items with live music from Ben Clark! Open for dinner from 5 pm – 9 pm. Live music from 6 – 8 every Thursday in the summer!
URL:https://mrvvillage.com/event/live-music-pub-night-featuring-ben-clark/
LOCATION:Mad River Barn
CATEGORIES:Dining,Family Friendly,Live Music,Public Welcome
ATTACH;FMTTYPE=image/png:https://mrvvillage.com/wp-content/uploads/2026/04/Ben-Clark-Thursdays-dFbHru-uht1xp.png
GEO:44.195472;-72.8915611
END:VEVENT
BEGIN:VEVENT
DTSTART;TZID=America/New_York:20260522T100000
DTEND;TZID=America/New_York:20260522T110000
DTSTAMP:20260422T180842
CREATED:20260221T094448Z
LAST-MODIFIED:20260422T164017Z
UID:10009923-1779444000-1779447600@mrvvillage.com
SUMMARY:Toddler Time\, Creative Shapes Art Class at Inklings!
DESCRIPTION:It’s Toddler Time\, Creative Shapes Art Class at Inklings Children’s Books! Friday mornings from 10am – 11am. \nCaregivers and their little ones are invited to explore shapes in a whole new way\, and develop those fine motor skills; all while having some creative fun! \nActivities will include painting with balloons\, creating shapes with different materials\, and color matching. \nBegins Friday\, Nov. 7th and goes for 6 weeks.\nAges: 18mo – 4yrs.\nPrice: $85 (all six classes) Drop-in Price: $15/per class
URL:https://mrvvillage.com/event/toddler-time-creative-shapes-art-class-at-inklings-30/
LOCATION:Inklings Children’s Books\, 106 Mad River Greeen\, Waitsfield\, VT\, 05673\, United States
CATEGORIES:Family Friendly
ATTACH;FMTTYPE=image/jpeg:https://mrvvillage.com/wp-content/uploads/2025/10/Creative-Shapes-Flyer-MRV-OKWKDM.jpg
ORGANIZER;CN="Inklings%20Children%26%238217%3Bs%20Books":MAILTO:inklingschildrensbooks@gmail.com
GEO:44.1844899;-72.839037
X-APPLE-STRUCTURED-LOCATION;VALUE=URI;X-ADDRESS=Inklings Children’s Books 106 Mad River Greeen Waitsfield VT 05673 United States;X-APPLE-RADIUS=500;X-TITLE=106 Mad River Greeen:geo:-72.839037,44.1844899
END:VEVENT
BEGIN:VEVENT
DTSTART;TZID=America/New_York:20260522T163000
DTEND;TZID=America/New_York:20260522T180000
DTSTAMP:20260422T180842
CREATED:20260407T204106Z
LAST-MODIFIED:20260420T224002Z
UID:10010087-1779467400-1779472800@mrvvillage.com
SUMMARY:Family Fridays!
DESCRIPTION:Kick off the weekend with Family Fridays! From 4:30–6:00 pm. \nAdults can unwind during cocktail hour while kids enjoy fun\, creative activities in the Red Room. Seasonal crafts provided by Inkling Bookstore! \nA little something for everyone to start the weekend right. Simple snacks for children will be provided. Ages 3 + \n 
URL:https://mrvvillage.com/event/family-fridays-26/
LOCATION:Big Picture Theater\, 44 Carroll Road\, Waitsfield\, 05673
CATEGORIES:Family Friendly,Food & Drink
ATTACH;FMTTYPE=image/png:https://mrvvillage.com/wp-content/uploads/2025/11/FamilyFridaysPoster-2-OA4OK9.png
ORGANIZER;CN="Big%20Picture%20Theater":MAILTO:beths@madriver.com
GEO:44.1874779;-72.8335286
X-APPLE-STRUCTURED-LOCATION;VALUE=URI;X-ADDRESS=Big Picture Theater 44 Carroll Road Waitsfield 05673;X-APPLE-RADIUS=500;X-TITLE=44 Carroll Road:geo:-72.8335286,44.1874779
END:VEVENT
END:VCALENDAR