BEGIN:VCALENDAR
VERSION:2.0
PRODID:-//The Mad River Valley Village - ECPv6.0.13//NONSGML v1.0//EN
CALSCALE:GREGORIAN
METHOD:PUBLISH
X-ORIGINAL-URL:https://mrvvillage.com
X-WR-CALDESC:Events for The Mad River Valley Village
REFRESH-INTERVAL;VALUE=DURATION:PT1H
X-Robots-Tag:noindex
X-PUBLISHED-TTL:PT1H
BEGIN:VTIMEZONE
TZID:America/New_York
BEGIN:DAYLIGHT
TZOFFSETFROM:-0500
TZOFFSETTO:-0400
TZNAME:EDT
DTSTART:20230312T070000
END:DAYLIGHT
BEGIN:STANDARD
TZOFFSETFROM:-0400
TZOFFSETTO:-0500
TZNAME:EST
DTSTART:20231105T060000
END:STANDARD
END:VTIMEZONE
BEGIN:VEVENT
DTSTART;TZID=America/New_York:20230628T170000
DTEND;TZID=America/New_York:20230628T193000
DTSTAMP:20260421T064023
CREATED:20230608T121007Z
LAST-MODIFIED:20230628T185314Z
UID:10004081-1687971600-1687980600@mrvvillage.com
SUMMARY:Wine and Cheese Tasting at Déco
DESCRIPTION:Déco Restaurant & Bar and The Local: Wine & Beer are teaming up to present a celebration of local natural wine and the new release of Vermont’s first Georgian-inspired qvevri wine! Join us at Déco Restaurant & Bar\, located within Hostel Tevere\, to sample some amazing wines from Vermont producers\, one Québec producer\, obscure European dessert wines and world renowned Belgian lambics. Two producers will be pouring their art in a bottle: David Keck\, Master Sommelier and Owner/Winemaker at Stella 14 Wines\, and Max Rose\, Owner/Winemaker at Chertok Wines. Phil Christian\, Sales Representative Extraordinaire\, from our distribution partner\, 802 Distributors\, will be pouring four bottles from Pinard et Filles\, located just a short drive north of the Vermont Border in Québec\, from an oxidative style white blend to riesling\, and a unique and experimental white and red blend. These wines are highly sought after throughout Québec and are featured on the wine list at Montréal’s famous Pullman Bar. Here in Vermont\, they are exclusively poured here at Déco. We will take you on a journey of the Belgian lambic\, a unique wine-like style of beer\, one that’s of interest to beer and wine enthusiasts a like. We will cap the night off with a specially selected 2003 vintage Barsac dessert wine alongside two other European dessert wines. \nCarefully curated hyper-local charcuterie boards and several specific dessert pairings will be available throughout the tasting. We will feature the full array of cheeses from von Trapp Farmstead and the entire cured meat selections from Babette’s Table. Mix\, mingle and taste wine together with Rachel\, Erica and Julie from von Trapp Farmstead and Babette’s Table. One ounce pours will be offered of each of the following: \nChertok Wines\, Eve\, Vermont\, 2022 \nChertok Wines\, Midrash\, Vermont\, 2021 \nChertok Wines\, Shekhina\, Vermont\, 2022 \nla garagista\, Loup d’Or\, Vermont\, 2020 \nStella 14 Wines\, Birches Pétillant Naturel\, Vermont\, 2020 \nStella14 Wines\, Initium Novum\, Québec\, 2020 \nPinard et Filles\, À Ciel Ouvert\, Québec\, 2020 \nPinard et Filles\, Calvaire\, Québec\, 2020 \nPinard et Filles\, Chardonneret\, Québec\, 2020 \nPinard et Filles\, Pornfelder\, Québec\, 2020 \n3 Fonteinen\, Oude Gueze\, Cuvée Armand et Gaston\, Belgium\, Season 2017/2018\, Blend 81 \n3 Fonteinen\, Oude Kriek\, Belgium\, Season 2018/2019\, Blend 32 \nGueuzerie Tilquin\, Oude Gueze\, Tilquin à l’Aciennne\, Belgium \nRoyal Tokaji\, 5 Puttonyos Aszú\, Hungary\, 2017 \nClos Guirouilh\, Jurançon\, France\, 2015 \nChâteau Saint-Marc\, Barsac\, France\, 2003 \nSchloss Eggenberg\, Samichlaus\, Austria (NV) \nLike these wines? Pre order forms will be available the night of the event\, including several of these wines and many other local wines and dessert wines available for purchase and pick up at The Local\, located next to Red Hen Bakery\, in Middlesex. \nTo purchase tickets\, visit the link below. For questions related to this event\, please call (802) 496-9222 Hostel Tevere or (802) 613-3794 The Local.
URL:https://mrvvillage.com/event/wine-and-cheese-tasting-at-deco/
LOCATION:Hostel Tevere\, 203 Powderhound Rd\, Warren\, VT\, 05674\, United States
CATEGORIES:Food & Drink
ATTACH;FMTTYPE=image/png:https://mrvvillage.com/wp-content/uploads/2023/06/Wine-Tasting-Event-Instagram-Post-Square-lmc01I.tmp_.png
ORGANIZER;CN="Hostel%20Tevere":MAILTO:hello@hosteltevere.com
GEO:44.1341751;-72.8481846
X-APPLE-STRUCTURED-LOCATION;VALUE=URI;X-ADDRESS=Hostel Tevere 203 Powderhound Rd Warren VT 05674 United States;X-APPLE-RADIUS=500;X-TITLE=203 Powderhound Rd:geo:-72.8481846,44.1341751
END:VEVENT
END:VCALENDAR