BEGIN:VCALENDAR
VERSION:2.0
PRODID:-//The Mad River Valley Village - ECPv6.0.13//NONSGML v1.0//EN
CALSCALE:GREGORIAN
METHOD:PUBLISH
X-WR-CALNAME:The Mad River Valley Village
X-ORIGINAL-URL:https://mrvvillage.com
X-WR-CALDESC:Events for The Mad River Valley Village
REFRESH-INTERVAL;VALUE=DURATION:PT1H
X-Robots-Tag:noindex
X-PUBLISHED-TTL:PT1H
BEGIN:VTIMEZONE
TZID:America/New_York
BEGIN:DAYLIGHT
TZOFFSETFROM:-0500
TZOFFSETTO:-0400
TZNAME:EDT
DTSTART:20230312T070000
END:DAYLIGHT
BEGIN:STANDARD
TZOFFSETFROM:-0400
TZOFFSETTO:-0500
TZNAME:EST
DTSTART:20231105T060000
END:STANDARD
END:VTIMEZONE
BEGIN:VEVENT
DTSTART;TZID=America/New_York:20230707T163000
DTEND;TZID=America/New_York:20230707T183000
DTSTAMP:20260421T063658
CREATED:20230408T132858Z
LAST-MODIFIED:20230413T234627Z
UID:10003500-1688747400-1688754600@mrvvillage.com
SUMMARY:Free Wine Tasting at The Local
DESCRIPTION:Mosey on in to try some of our rotating featured wines! We’ll give you the story of the wine you’re sampling and answer any questions you might have. It’s a great time to catch up with your neighbors & friends!
URL:https://mrvvillage.com/event/free-wine-tasting-at-the-local-15/
LOCATION:The Local: Wine & Beer\, 961 US Route 2\, Middlesex\, VT\, 05602\, United States
CATEGORIES:Food & Drink
ATTACH;FMTTYPE=image/jpeg:https://mrvvillage.com/wp-content/uploads/2023/04/PXL_20230330_211015210_2-p4aWab.tmp_.jpg
ORGANIZER;CN="The%20Local%3A%20Wine%20%26%23038%3B%20Beer":MAILTO:info@thelocalvt.com
GEO:44.2943225;-72.6828326
X-APPLE-STRUCTURED-LOCATION;VALUE=URI;X-ADDRESS=The Local: Wine & Beer 961 US Route 2 Middlesex VT 05602 United States;X-APPLE-RADIUS=500;X-TITLE=961 US Route 2:geo:-72.6828326,44.2943225
END:VEVENT
BEGIN:VEVENT
DTSTART;TZID=America/New_York:20230707T163000
DTEND;TZID=America/New_York:20230707T183000
DTSTAMP:20260421T063658
CREATED:20230605T235540Z
LAST-MODIFIED:20230707T210819Z
UID:10004060-1688747400-1688754600@mrvvillage.com
SUMMARY:The Local: Free Wine Tasting
DESCRIPTION:Mosey on in for our FREE weekly tasting every Friday evening from 4:30-6:30pm. We’re always opening four to six bottles of wine for everyone to try. It’s a great way to learn about what we’re offering in our shop\, catch up with your neighbors\, and meet new friends! \nHope to see you Friday! \n-Sam
URL:https://mrvvillage.com/event/the-local-free-wine-tasting-5/
LOCATION:The Local: Wine & Beer\, 961 US Route 2\, Middlesex\, VT\, 05602\, United States
CATEGORIES:Food & Drink
ATTACH;FMTTYPE=image/jpeg:https://mrvvillage.com/wp-content/uploads/2023/06/PXL_20230504_220511454.MOTION-01.COVER2_-WQMgyV.tmp_.jpg
ORGANIZER;CN="The%20Local%3A%20Wine%20%26%23038%3B%20Beer":MAILTO:info@thelocalvt.com
GEO:44.2943225;-72.6828326
X-APPLE-STRUCTURED-LOCATION;VALUE=URI;X-ADDRESS=The Local: Wine & Beer 961 US Route 2 Middlesex VT 05602 United States;X-APPLE-RADIUS=500;X-TITLE=961 US Route 2:geo:-72.6828326,44.2943225
END:VEVENT
END:VCALENDAR