BEGIN:VCALENDAR
VERSION:2.0
PRODID:-//The Mad River Valley Village - ECPv6.0.13//NONSGML v1.0//EN
CALSCALE:GREGORIAN
METHOD:PUBLISH
X-ORIGINAL-URL:https://mrvvillage.com
X-WR-CALDESC:Events for The Mad River Valley Village
REFRESH-INTERVAL;VALUE=DURATION:PT1H
X-Robots-Tag:noindex
X-PUBLISHED-TTL:PT1H
BEGIN:VTIMEZONE
TZID:America/New_York
BEGIN:DAYLIGHT
TZOFFSETFROM:-0500
TZOFFSETTO:-0400
TZNAME:EDT
DTSTART:20230312T070000
END:DAYLIGHT
BEGIN:STANDARD
TZOFFSETFROM:-0400
TZOFFSETTO:-0500
TZNAME:EST
DTSTART:20231105T060000
END:STANDARD
END:VTIMEZONE
BEGIN:VEVENT
DTSTART;TZID=America/New_York:20230720T162000
DTEND;TZID=America/New_York:20230720T190000
DTSTAMP:20260421T064023
CREATED:20230709T214014Z
LAST-MODIFIED:20230720T205359Z
UID:10004324-1689870000-1689879600@mrvvillage.com
SUMMARY:Kind Bud & Nug play Valley Meade Dispensary
DESCRIPTION:Kind Bud and Nug play a free concert on the deck above Valley Meade Dispensary with food trucks outside. . With a repertoire of over 780 tunes\, Kind Bud welcomes audience interaction and welcomes song requests.\nNug will be joining Kind Bud on percussion. Bring a chair or put on your dancing shoes for a good time. \n\nKind Bud is a guitarist and singer/songwriter from Vermont\, performing over 1\,000 shows across the United States. Throughout his career\, Bud has shared the stage with Oteil Burbridge (Dead & Company/Allman Brothers) David Gans\, Michael Falzarano and other members of the New Riders of the Purple Sage and for 12 years\, with his twin brother “Budd”\,as The Kind Buds. \nBud has performed at music festivals such as the Gathering of the Vibes and the Oregon Country Fair and at venues that include Sweetwater\, Fairfield Theatre Company\, and Mexicali Live. During the Grateful Dead Fare Thee Well Shows\, The Kind Buds performed 3 pre-shows at the Hyatt Regency Chicago. As a soloist\, Kind Bud is the poolside musician for Island Gigs\, a music destination resort in Jamaica and during the winter\, one might find Bud playing an apres ski event at Sugarbush\, Stowe\, Killington\, Jay Peak; Whaleback; Okeemo; Bromley Mountain.  Readers may have seen Nug performing on a full kit as the first drummer of Double You or leading the Blizzard Boogie this past winter at Sugarbush Resort. \nKind Bud currently has 2 albums available for listening.  “Peace\, Love & Music”\, recorded live June 21\, 2019 at the Stonehenge Music Festival and  “Jenuine Kind Bud” ~ songs to uplift humanity inspired by the poetry of Jen Ward. Both  can be heard on your favorite streaming music station. \nhttps://open.spotify.com/album/58EaJlik7dhfeiCBmu2kId… \nhttps://music.apple.com/us/album/jenuine/1638327582 \nhttps://music.amazon.com/albums/B0B7Z1VZSV… \nhttps://www.pandora.com/…/kind-bud/jenuine/ALwqvmjf9fjvrZJ
URL:https://mrvvillage.com/event/kind-bud-nug-play-valley-meade-dispensary/
LOCATION:Valley Meade Dispensary\, 8 Vermont Route 17\, Waitsfield\, VT\, 05673
CATEGORIES:Arts & Entertainment,Food & Drink,Live Music
ATTACH;FMTTYPE=image/jpeg:https://mrvvillage.com/wp-content/uploads/2023/07/BudNug-Zen3-aQkAQA.tmp_.jpg
GEO:44.1816618;-72.8405082
X-APPLE-STRUCTURED-LOCATION;VALUE=URI;X-ADDRESS=Valley Meade Dispensary 8 Vermont Route 17 Waitsfield VT 05673;X-APPLE-RADIUS=500;X-TITLE=8 Vermont Route 17:geo:-72.8405082,44.1816618
END:VEVENT
BEGIN:VEVENT
DTSTART;TZID=America/New_York:20230720T163000
DTEND;TZID=America/New_York:20230720T183000
DTSTAMP:20260421T064023
CREATED:20230421T133158Z
LAST-MODIFIED:20230521T035734Z
UID:10003688-1689870600-1689877800@mrvvillage.com
SUMMARY:Free Wine Tasting at The Local
DESCRIPTION:Mosey on in to try some of our rotating featured wines! We’ll give you the story of the wine you’re sampling and answer any questions you might have. It’s a great time to catch up with your neighbors & friends!
URL:https://mrvvillage.com/event/free-wine-tasting-at-the-local-28/
LOCATION:The Local: Wine & Beer\, 961 US Route 2\, Middlesex\, VT\, 05602\, United States
CATEGORIES:Food & Drink
ATTACH;FMTTYPE=image/jpeg:https://mrvvillage.com/wp-content/uploads/2023/04/PXL_20230330_211015210_2-p4aWab.tmp_.jpg
ORGANIZER;CN="The%20Local%3A%20Wine%20%26%23038%3B%20Beer":MAILTO:info@thelocalvt.com
GEO:44.2943225;-72.6828326
X-APPLE-STRUCTURED-LOCATION;VALUE=URI;X-ADDRESS=The Local: Wine & Beer 961 US Route 2 Middlesex VT 05602 United States;X-APPLE-RADIUS=500;X-TITLE=961 US Route 2:geo:-72.6828326,44.2943225
END:VEVENT
BEGIN:VEVENT
DTSTART;TZID=America/New_York:20230720T173000
DTEND;TZID=America/New_York:20230720T190000
DTSTAMP:20260421T064023
CREATED:20230618T094003Z
LAST-MODIFIED:20230720T205359Z
UID:10004130-1689874200-1689879600@mrvvillage.com
SUMMARY:Introduction to Herbal Medicine
DESCRIPTION:Click here for More Details \nWhen: Thursday 7/20 • 5:30-7p\nWhere: ShareMRV garden at Lareau Farm and Forest \nThe ShareMRV garden is located on the grounds of Lareau\nFarm and Forest\, at 46 Lareau Road in Waitsfield. Please\nbring a chair or a blanket to sit on if you’d like and water.\nFREE; no sign-up required.
URL:https://mrvvillage.com/event/introduction-to-herbal-medicine/
LOCATION:ShareMRV garden\, Lareau Farm and Forest Lareau Rd\, Waitsfield\, Vermont\, Waitsfield\, United States
CATEGORIES:Community,Food & Drink,Wellness
ATTACH;FMTTYPE=image/jpeg:https://mrvvillage.com/wp-content/uploads/2023/06/intro-to-herbal-med-zPjhjL.tmp_.jpg
ORGANIZER;CN="ShareMRV":MAILTO:sharemrv@gmail.com
GEO:44.1726976;-72.8341139
X-APPLE-STRUCTURED-LOCATION;VALUE=URI;X-ADDRESS=ShareMRV garden Lareau Farm and Forest Lareau Rd Waitsfield Vermont Waitsfield United States;X-APPLE-RADIUS=500;X-TITLE=Lareau Farm and Forest Lareau Rd:geo:-72.8341139,44.1726976
END:VEVENT
END:VCALENDAR