BEGIN:VCALENDAR
VERSION:2.0
PRODID:-//The Mad River Valley Village - ECPv6.0.13//NONSGML v1.0//EN
CALSCALE:GREGORIAN
METHOD:PUBLISH
X-WR-CALNAME:The Mad River Valley Village
X-ORIGINAL-URL:https://mrvvillage.com
X-WR-CALDESC:Events for The Mad River Valley Village
REFRESH-INTERVAL;VALUE=DURATION:PT1H
X-Robots-Tag:noindex
X-PUBLISHED-TTL:PT1H
BEGIN:VTIMEZONE
TZID:America/New_York
BEGIN:DAYLIGHT
TZOFFSETFROM:-0500
TZOFFSETTO:-0400
TZNAME:EDT
DTSTART:20230312T070000
END:DAYLIGHT
BEGIN:STANDARD
TZOFFSETFROM:-0400
TZOFFSETTO:-0500
TZNAME:EST
DTSTART:20231105T060000
END:STANDARD
END:VTIMEZONE
BEGIN:VEVENT
DTSTART;TZID=America/New_York:20230728T000000
DTEND;TZID=America/New_York:20230730T235959
DTSTAMP:20260421T063701
CREATED:20230630T192618Z
LAST-MODIFIED:20230728T120818Z
UID:10004232-1690502400-1690761599@mrvvillage.com
SUMMARY:Multi-generational campout Retreat
DESCRIPTION:Join us July 28–30 for a weekend to immerse in the natural world and connect with meaningful multigenerational community\, farm-fresh food\, river swims\, nature walks\, song\, meditation\, and more.\nEnjoy the beauty of connecting with the earth\, your food\, and rest as a form of cultural revitalization. There will be time to explore the woods and river and immerse in the beauty of summer in Vermont\, with family-friendly programming as well as contemplative time for adults; time to get your hands in the soil and to interact with the farm animals; and time to just be.\nWe are grateful to partner with a diverse array of teachers\, kohanot (Hebrew priestesses)\, rabbis\, musicians\, and leaders for an enriching weekend!\nLodging\nRustic camping sites provided in the farm field. If you prefer not to camp\, there are many local bed and breakfasts in the area—be sure to book ahead of time.\nFees\nOur family camp program—which includes Friday dinner\, Saturday lunch and dinner\, and Sunday breakfast—is offered on a sliding scale:\n$275–$450 per adult\n$95–$125 per child\nchildren under 3 free\nThere is an additional sliding-scale camping fee of $25–$40 per night.\nApplicable program fees are due in full by June 27; $75 deposits are nonrefundable and count towards full tuition
URL:https://mrvvillage.com/event/multi-generational-campout-retreat/
LOCATION:Living Tree Alliance\, 96 Living Tree Ln\, Moretown\, VT\, 05660\, United States
CATEGORIES:Family Friendly,Food & Drink,Special Events
ATTACH;FMTTYPE=image/png:https://mrvvillage.com/wp-content/uploads/2023/06/Community-Shabbat-Campout-Retreat-2-yTZxTx.tmp_.png
ORGANIZER;CN="Living%20Tree%20Alliance":MAILTO:info@livingtreealliance.com
GEO:44.2472902;-72.7762636
X-APPLE-STRUCTURED-LOCATION;VALUE=URI;X-ADDRESS=Living Tree Alliance 96 Living Tree Ln Moretown VT 05660 United States;X-APPLE-RADIUS=500;X-TITLE=96 Living Tree Ln:geo:-72.7762636,44.2472902
END:VEVENT
BEGIN:VEVENT
DTSTART;TZID=America/New_York:20230729T090000
DTEND;TZID=America/New_York:20230729T130000
DTSTAMP:20260421T063701
CREATED:20230430T154612Z
LAST-MODIFIED:20230614T132639Z
UID:10003752-1690621200-1690635600@mrvvillage.com
SUMMARY:Waitsfield Farmers Market
DESCRIPTION:Welcome to the Waitsfield Farmer’s Market.  We’re a unique collective of Vermont farmers\, makers\, bakers\, and shakers in the heart of the Mad River Valley. \nLocal produce\, plant starts\, fruit trees\, bushes\, maple\, honey\, flowers\, seedlings\, eggs\, meats\, cheeses\, fish\, crafts\, art\, clothes\, bread\, baked goods\, liquors\, and prepared foods all by Vermonters. \nEstablished in 1993\, the Waitsfield Farmer’s Market for decades has been a meeting place for those who appreciate Vermont farmers and artisans. Our market vendors are a carefully curated group of local Vermont businesses who provide the highest quality products to market. Every Saturday\, rain or shine\, May-October\, you’ll find us on the green! \nEvery Saturday\, Rain or Shine from 9 am to 1 pm\nMay 13th – October 14th\, 2023 \nOur market can be found on the Mad River Green in Waitsfield\, Vermont.
URL:https://mrvvillage.com/event/waitsfield-farmers-market-12/
LOCATION:Mad River Green\, 105 Mad River Green\, Waitsfield\, VT\, 05673\, United States
CATEGORIES:Arts & Entertainment,Community,Family Friendly,Food & Drink
ATTACH;FMTTYPE=image/png:https://mrvvillage.com/wp-content/uploads/2023/04/WFM_Brand_Logos-02-DmdRr1.tmp_.png
ORGANIZER;CN="Waitsfield%20Farmer%26%238217%3Bs%20Market":MAILTO:waitsfieldmarketmanager@gmail.com
GEO:44.183836;-72.8388576
X-APPLE-STRUCTURED-LOCATION;VALUE=URI;X-ADDRESS=Mad River Green 105 Mad River Green Waitsfield VT 05673 United States;X-APPLE-RADIUS=500;X-TITLE=105 Mad River Green:geo:-72.8388576,44.183836
END:VEVENT
END:VCALENDAR