BEGIN:VCALENDAR
VERSION:2.0
PRODID:-//The Mad River Valley Village - ECPv6.0.13//NONSGML v1.0//EN
CALSCALE:GREGORIAN
METHOD:PUBLISH
X-ORIGINAL-URL:https://mrvvillage.com
X-WR-CALDESC:Events for The Mad River Valley Village
REFRESH-INTERVAL;VALUE=DURATION:PT1H
X-Robots-Tag:noindex
X-PUBLISHED-TTL:PT1H
BEGIN:VTIMEZONE
TZID:America/New_York
BEGIN:DAYLIGHT
TZOFFSETFROM:-0500
TZOFFSETTO:-0400
TZNAME:EDT
DTSTART:20230312T070000
END:DAYLIGHT
BEGIN:STANDARD
TZOFFSETFROM:-0400
TZOFFSETTO:-0500
TZNAME:EST
DTSTART:20231105T060000
END:STANDARD
END:VTIMEZONE
BEGIN:VEVENT
DTSTART;TZID=America/New_York:20230802T180000
DTEND;TZID=America/New_York:20230802T203000
DTSTAMP:20260421T031819
CREATED:20230706T172702Z
LAST-MODIFIED:20230802T132319Z
UID:10004281-1690999200-1691008200@mrvvillage.com
SUMMARY:Mad River Glen Wednesday Night Live Music Series
DESCRIPTION:Come on up to Mad River Glen every Wednesday for live music and tasty vitals and libations at general Stark’s Pub!\nCheck out the line up! \n\n7/12 Medicine Tribe Trio\n7/19 Evan Jennison\n7/26 TBD\n8/2 TBD\n8/9 TBD\n8/16 Ragged Company\n8/23 Atom and the Orbits\n8/30 Danielle Keegan and friends\n9/6 Jaded Ravins\n9/13 Alex Budney and Friends\n9/20 Easy Street Duo\n9/27 She Was Right\n10/4 TBD
URL:https://mrvvillage.com/event/mad-river-glen-wednesday-night-live-music-series-4/
LOCATION:Mad River Glen\, 57 Schuss Pass Road\, Waitsfield\, 05673
CATEGORIES:Arts & Entertainment,Community,Family Friendly,Food & Drink
ATTACH;FMTTYPE=image/png:https://mrvvillage.com/wp-content/uploads/2022/12/mad-river-glen-ZDw5Dq.tmp_.png
ORGANIZER;CN="Mad%20River%20Glen":MAILTO:ski@madriverglen.com
GEO:44.2023162;-72.9182617
X-APPLE-STRUCTURED-LOCATION;VALUE=URI;X-ADDRESS=Mad River Glen 57 Schuss Pass Road Waitsfield 05673;X-APPLE-RADIUS=500;X-TITLE=57 Schuss Pass Road:geo:-72.9182617,44.2023162
END:VEVENT
END:VCALENDAR