BEGIN:VCALENDAR
VERSION:2.0
PRODID:-//The Mad River Valley Village - ECPv6.0.13//NONSGML v1.0//EN
CALSCALE:GREGORIAN
METHOD:PUBLISH
X-ORIGINAL-URL:https://mrvvillage.com
X-WR-CALDESC:Events for The Mad River Valley Village
REFRESH-INTERVAL;VALUE=DURATION:PT1H
X-Robots-Tag:noindex
X-PUBLISHED-TTL:PT1H
BEGIN:VTIMEZONE
TZID:America/New_York
BEGIN:DAYLIGHT
TZOFFSETFROM:-0500
TZOFFSETTO:-0400
TZNAME:EDT
DTSTART:20230312T070000
END:DAYLIGHT
BEGIN:STANDARD
TZOFFSETFROM:-0400
TZOFFSETTO:-0500
TZNAME:EST
DTSTART:20231105T060000
END:STANDARD
END:VTIMEZONE
BEGIN:VEVENT
DTSTART;TZID=America/New_York:20231118T110000
DTEND;TZID=America/New_York:20231118T140000
DTSTAMP:20260420T100345
CREATED:20231109T205349Z
LAST-MODIFIED:20231118T215313Z
UID:10005513-1700305200-1700316000@mrvvillage.com
SUMMARY:Thanksgiving Bake Sale
DESCRIPTION:Pre Thanksgiving Bake Sale\nSaturday November 18\, 2023 11AM – 2PM\nMoretown United Methodist Church 962 Route 100B\nFree Parking in lot behind church\nBenefits the mission of MUMC United Women in Faith\nLighten the load of Thanksgiving preparations and leave more time to enjoy your guests !\nThanks!
URL:https://mrvvillage.com/event/thanksgiving-bake-sale/
LOCATION:Moretown United Methodist Church\, 962 Route 100B\, Moretown\, 05660
CATEGORIES:Community,Food & Drink
ATTACH;FMTTYPE=image/jpeg:https://mrvvillage.com/wp-content/uploads/2023/11/126841593_4061183107230805_8339896359606315087_n-y95XhA.tmp_.jpg
ORGANIZER;CN="Moretown%20United%20Methodist%20Church%20Women":MAILTO:valleymeadfarm@hotmail.com
GEO:44.2547303;-72.7544585
X-APPLE-STRUCTURED-LOCATION;VALUE=URI;X-ADDRESS=Moretown United Methodist Church 962 Route 100B Moretown 05660;X-APPLE-RADIUS=500;X-TITLE=962 Route 100B:geo:-72.7544585,44.2547303
END:VEVENT
END:VCALENDAR