BEGIN:VCALENDAR
VERSION:2.0
PRODID:-//The Mad River Valley Village - ECPv6.0.13//NONSGML v1.0//EN
CALSCALE:GREGORIAN
METHOD:PUBLISH
X-ORIGINAL-URL:https://mrvvillage.com
X-WR-CALDESC:Events for The Mad River Valley Village
REFRESH-INTERVAL;VALUE=DURATION:PT1H
X-Robots-Tag:noindex
X-PUBLISHED-TTL:PT1H
BEGIN:VTIMEZONE
TZID:America/New_York
BEGIN:DAYLIGHT
TZOFFSETFROM:-0500
TZOFFSETTO:-0400
TZNAME:EDT
DTSTART:20230312T070000
END:DAYLIGHT
BEGIN:STANDARD
TZOFFSETFROM:-0400
TZOFFSETTO:-0500
TZNAME:EST
DTSTART:20231105T060000
END:STANDARD
END:VTIMEZONE
BEGIN:VEVENT
DTSTART;TZID=America/New_York:20231123T060000
DTEND;TZID=America/New_York:20231123T200000
DTSTAMP:20260422T204306
CREATED:20230825T191938Z
LAST-MODIFIED:20230918T122637Z
UID:10005031-1700719200-1700769600@mrvvillage.com
SUMMARY:Live Music Thursdays at The Filling Station
DESCRIPTION:Join us for The Filling Station’s Thursday night music series! Check out the line-up: \n  \n8/17 – Ali T \n8/24 –  Tom Bisson \n8/31 – The Rough Suspects – Acoustic Duo
URL:https://mrvvillage.com/event/live-music-thursdays-at-the-filling-station-15/
LOCATION:Filling Station\, Rt 2\, Middlesex\, Vermont\, 05068\, United States
CATEGORIES:Arts & Entertainment,Food & Drink
ATTACH;FMTTYPE=image/png:https://mrvvillage.com/wp-content/uploads/2023/08/Screen-Shot-2023-08-14-at-8.30.57-AM-ovEsEz.tmp_.png
ORGANIZER;CN="Filling%20Station":MAILTO:fillingstationvt@gmail.com
GEO:43.7761665;-72.5166728
X-APPLE-STRUCTURED-LOCATION;VALUE=URI;X-ADDRESS=Filling Station Rt 2 Middlesex Vermont 05068 United States;X-APPLE-RADIUS=500;X-TITLE=Rt 2:geo:-72.5166728,43.7761665
END:VEVENT
BEGIN:VEVENT
DTSTART;TZID=America/New_York:20231123T150000
DTEND;TZID=America/New_York:20231123T190000
DTSTAMP:20260422T204306
CREATED:20231123T145313Z
LAST-MODIFIED:20231123T223819Z
UID:10005552-1700751600-1700766000@mrvvillage.com
SUMMARY:Thanksgiving Turkey Dinner at Rumble’s Bistro & Bar
DESCRIPTION:Enjoy your holiday favorites at Rumble’s Bistro & Bar with a plated Thanksgiving Turkey Dinner. Seatings available at 3:00PM\, 5:00PM\, and 7:00PM. Reservations are required and can be made by calling Rumble’s 802-583-6800. Rumble’s menu will also be available and the bar will be available for walk-ins.Thanksgiving MenuMain Course Stuffed turkey – slow roasted turkey\, classic stuffingPumpkin butternut ravioli (veg) – sherry cream sauce\, pecans\, sage\, parmesanAtlantic salmon – carved whole side\, maple mustard glazeVegan (available by request) – marinated & grilled portabella mushroom\, roasted garlic hummus\, roasted red pepper\, charred onion\, balsamic reductionSides Dinner Rolls – Garlic butterGreen Salad – mixed vegetables\, maple balsamicGarlic mashed potato – creamy whipped potato\, garlicCranberry sauce – fresh cranberries\, maple syrupGreen bean casserole – cream of mushroom soup\, crispy shallotsButternut / sweet potato casserole – creamy whipped butternut\, streusel toppingSteamed broccolini – simply dressed with lemon\, olive oil and sea saltTraditional Stuffing – mirepoix\, sourdough breadGravy – turkey pan sauceDesserts Apple PiePumpkin PieCarrot CakeFlourless Chocolate Torte$75 per adult\, $35 for guests 12 and under
URL:https://mrvvillage.com/event/thanksgiving-turkey-dinner-at-rumbles-bistro-bar-2/
LOCATION:Sugarbush Resort\, 102 Forest Drive Warren\, VT 05674\, Warren\, 05674
CATEGORIES:Food & Drink,Sugarbush
ATTACH;FMTTYPE=image/webp:https://mrvvillage.com/wp-content/uploads/2023/11/2013-11-28-su-timbers-turkey-004-jpg-wKRkJr.tmp_.webp
GEO:44.1272818;-72.9284492
X-APPLE-STRUCTURED-LOCATION;VALUE=URI;X-ADDRESS=Sugarbush Resort 102 Forest Drive Warren VT 05674 Warren 05674;X-APPLE-RADIUS=500;X-TITLE=102 Forest Drive Warren\, VT 05674:geo:-72.9284492,44.1272818
END:VEVENT
BEGIN:VEVENT
DTSTART;TZID=America/New_York:20231123T150000
DTEND;TZID=America/New_York:20231123T210000
DTSTAMP:20260422T204306
CREATED:20231116T215338Z
LAST-MODIFIED:20231122T222312Z
UID:10005534-1700751600-1700773200@mrvvillage.com
SUMMARY:Thanksgiving Turkey Dinner at Rumble’s Bistro & Bar
DESCRIPTION:Enjoy your holiday favorites at Rumble’s Bistro & Bar with a plated Thanksgiving Turkey Dinner. Seatings available at 3:00PM\, 5:00PM\, and 7:00PM. Reservations are required and can be made by calling Rumble’s 802-583-6800. Rumble’s menu will also be available and the bar will be available for walk-ins. \nTHANKSGIVING MENU \nMAIN COURSE\nStuffed turkey – slow roasted turkey\, classic stuffing\nPumpkin butternut ravioli (veg) – sherry cream sauce\, pecans\, sage\, parmesan\nAtlantic salmon – carved whole side\, maple mustard glaze\nVegan (available by request) – marinated & grilled portabella mushroom\, roasted garlic hummus\, roasted red pepper\, charred onion\, balsamic reduction \nSIDES\nDinner Rolls – Garlic butter\nGreen Salad – mixed vegetables\, maple balsamic\nGarlic mashed potato – creamy whipped potato\, garlic\nCranberry sauce – fresh cranberries\, maple syrup\nGreen bean casserole – cream of mushroom soup\, crispy shallots\nButternut / sweet potato casserole – creamy whipped butternut\, streusel topping\nSteamed broccolini – simply dressed with lemon\, olive oil and sea salt\nTraditional Stuffing – mirepoix\, sourdough bread\nGravy – turkey pan sauce \nDESSERTS\nApple Pie\nPumpkin Pie\nCarrot Cake\nFlourless Chocolate Torte \n$75 per adult\, $35 for guests 12 and under
URL:https://mrvvillage.com/event/thanksgiving-turkey-dinner-at-rumbles-bistro-bar/
LOCATION:Rumble’s Kitchen\, 102 Forest Drive\, Warren\, 05674\, United States
CATEGORIES:Dining,Food & Drink,Sugarbush
ATTACH;FMTTYPE=image/jpeg:https://mrvvillage.com/wp-content/uploads/2023/11/2013-11-28-su-timbers-turkey-004-jpg-ECE39S.tmp_.jpg
GEO:44.1359019;-72.8944139
X-APPLE-STRUCTURED-LOCATION;VALUE=URI;X-ADDRESS=Rumble’s Kitchen 102 Forest Drive Warren 05674 United States;X-APPLE-RADIUS=500;X-TITLE=102 Forest Drive:geo:-72.8944139,44.1359019
END:VEVENT
END:VCALENDAR