BEGIN:VCALENDAR
VERSION:2.0
PRODID:-//The Mad River Valley Village - ECPv6.0.13//NONSGML v1.0//EN
CALSCALE:GREGORIAN
METHOD:PUBLISH
X-ORIGINAL-URL:https://mrvvillage.com
X-WR-CALDESC:Events for The Mad River Valley Village
REFRESH-INTERVAL;VALUE=DURATION:PT1H
X-Robots-Tag:noindex
X-PUBLISHED-TTL:PT1H
BEGIN:VTIMEZONE
TZID:America/New_York
BEGIN:DAYLIGHT
TZOFFSETFROM:-0500
TZOFFSETTO:-0400
TZNAME:EDT
DTSTART:20230312T070000
END:DAYLIGHT
BEGIN:STANDARD
TZOFFSETFROM:-0400
TZOFFSETTO:-0500
TZNAME:EST
DTSTART:20231105T060000
END:STANDARD
END:VTIMEZONE
BEGIN:VEVENT
DTSTART;TZID=America/New_York:20231125T110000
DTEND;TZID=America/New_York:20231125T140000
DTSTAMP:20260422T160116
CREATED:20231121T220827Z
LAST-MODIFIED:20231125T230833Z
UID:10005549-1700910000-1700920800@mrvvillage.com
SUMMARY:Sip\, Sample and Savor the Season!
DESCRIPTION:The Taste Place welcomes Mad River Distillers and Lawson’s Finest Liquids to sample this year’s Hopscotch releases! Stop in on Saturday\, November 25 from 11am – 2pm to taste the newest releases of the much anticipated single malt whiskeys from Mad River Distillers\, made in collaboration with Lawson’s Finest. This year’s limited release features the brewery’s Hopzilla\, Blond Ale and Double Sunshine offerings. Sip\, sample and savor this holiday season!
URL:https://mrvvillage.com/event/sip-sample-and-savor-the-season/
LOCATION:Mad River Taste Place\, 89 Mad River Green\, Waitsfield\, 05673
CATEGORIES:Community,Food & Drink
ATTACH;FMTTYPE=image/jpeg:https://mrvvillage.com/wp-content/uploads/2023/11/Gingerbread-Event-1-ikCpJ9.tmp_.jpg
ORGANIZER;CN="Mad%20River%20Taste":MAILTO:mary@madrivertaste.com
GEO:44.1842631;-72.8382863
X-APPLE-STRUCTURED-LOCATION;VALUE=URI;X-ADDRESS=Mad River Taste Place 89 Mad River Green Waitsfield 05673;X-APPLE-RADIUS=500;X-TITLE=89 Mad River Green:geo:-72.8382863,44.1842631
END:VEVENT
BEGIN:VEVENT
DTSTART;TZID=America/New_York:20231125T143000
DTEND;TZID=America/New_York:20231125T190000
DTSTAMP:20260422T160116
CREATED:20231123T145315Z
LAST-MODIFIED:20231125T230833Z
UID:10005553-1700922600-1700938800@mrvvillage.com
SUMMARY:Live Après Music
DESCRIPTION:Enjoy live music and a hoppin’ après scene throughout the resort. Live music will take place at the locations listed below:3:00 – 6:00 PM at Castlerock Pub with John Lackard Band
URL:https://mrvvillage.com/event/live-apres-music/
LOCATION:Sugarbush Resort\, 102 Forest Drive Warren\, VT 05674\, Warren\, 05674
CATEGORIES:Food & Drink,Sugarbush
ATTACH;FMTTYPE=image/jpeg:https://mrvvillage.com/wp-content/uploads/2023/11/live-music-7j3VI5.tmp_.jpg
GEO:44.1272818;-72.9284492
X-APPLE-STRUCTURED-LOCATION;VALUE=URI;X-ADDRESS=Sugarbush Resort 102 Forest Drive Warren VT 05674 Warren 05674;X-APPLE-RADIUS=500;X-TITLE=102 Forest Drive Warren\, VT 05674:geo:-72.9284492,44.1272818
END:VEVENT
END:VCALENDAR