BEGIN:VCALENDAR
VERSION:2.0
PRODID:-//The Mad River Valley Village - ECPv6.0.13//NONSGML v1.0//EN
CALSCALE:GREGORIAN
METHOD:PUBLISH
X-WR-CALNAME:The Mad River Valley Village
X-ORIGINAL-URL:https://mrvvillage.com
X-WR-CALDESC:Events for The Mad River Valley Village
REFRESH-INTERVAL;VALUE=DURATION:PT1H
X-Robots-Tag:noindex
X-PUBLISHED-TTL:PT1H
BEGIN:VTIMEZONE
TZID:America/New_York
BEGIN:DAYLIGHT
TZOFFSETFROM:-0500
TZOFFSETTO:-0400
TZNAME:EDT
DTSTART:20230312T070000
END:DAYLIGHT
BEGIN:STANDARD
TZOFFSETFROM:-0400
TZOFFSETTO:-0500
TZNAME:EST
DTSTART:20231105T060000
END:STANDARD
END:VTIMEZONE
BEGIN:VEVENT
DTSTART;TZID=America/New_York:20230601T163000
DTEND;TZID=America/New_York:20230601T183000
DTSTAMP:20260421T094738
CREATED:20230414T185807Z
LAST-MODIFIED:20230521T035432Z
UID:10003643-1685637000-1685644200@mrvvillage.com
SUMMARY:Free Wine Tasting at The Local
DESCRIPTION:Mosey on in to try some of our rotating featured wines! We’ll give you the story of the wine you’re sampling and answer any questions you might have. It’s a great time to catch up with your neighbors & friends!
URL:https://mrvvillage.com/event/free-wine-tasting-at-the-local-21/
LOCATION:The Local: Wine & Beer\, 961 US Route 2\, Middlesex\, VT\, 05602\, United States
CATEGORIES:Food & Drink
ATTACH;FMTTYPE=image/jpeg:https://mrvvillage.com/wp-content/uploads/2023/04/PXL_20230330_211015210_2-p4aWab.tmp_.jpg
ORGANIZER;CN="The%20Local%3A%20Wine%20%26%23038%3B%20Beer":MAILTO:info@thelocalvt.com
GEO:44.2943225;-72.6828326
X-APPLE-STRUCTURED-LOCATION;VALUE=URI;X-ADDRESS=The Local: Wine & Beer 961 US Route 2 Middlesex VT 05602 United States;X-APPLE-RADIUS=500;X-TITLE=961 US Route 2:geo:-72.6828326,44.2943225
END:VEVENT
BEGIN:VEVENT
DTSTART;TZID=America/New_York:20230602T163000
DTEND;TZID=America/New_York:20230602T183000
DTSTAMP:20260421T094738
CREATED:20230406T215819Z
LAST-MODIFIED:20230413T234325Z
UID:10003492-1685723400-1685730600@mrvvillage.com
SUMMARY:Free Wine Tasting at The Local
DESCRIPTION:Mosey on in to try some of our rotating featured wines! We’ll give you the story of the wine you’re sampling and answer any questions you might have. It’s a great time to catch up with your neighbors & friends!
URL:https://mrvvillage.com/event/free-wine-tasting-at-the-local-10/
LOCATION:The Local: Wine & Beer\, 961 US Route 2\, Middlesex\, VT\, 05602\, United States
CATEGORIES:Food & Drink
ATTACH;FMTTYPE=image/jpeg:https://mrvvillage.com/wp-content/uploads/2023/04/PXL_20230330_211015210_2-p4aWab.tmp_.jpg
ORGANIZER;CN="The%20Local%3A%20Wine%20%26%23038%3B%20Beer":MAILTO:info@thelocalvt.com
GEO:44.2943225;-72.6828326
X-APPLE-STRUCTURED-LOCATION;VALUE=URI;X-ADDRESS=The Local: Wine & Beer 961 US Route 2 Middlesex VT 05602 United States;X-APPLE-RADIUS=500;X-TITLE=961 US Route 2:geo:-72.6828326,44.2943225
END:VEVENT
BEGIN:VEVENT
DTSTART;TZID=America/New_York:20230603T090000
DTEND;TZID=America/New_York:20230603T130000
DTSTAMP:20260421T094738
CREATED:20230425T214208Z
LAST-MODIFIED:20230603T233813Z
UID:10003710-1685782800-1685797200@mrvvillage.com
SUMMARY:Waitsfield Farmers Market
DESCRIPTION:Welcome to the Waitsfield Farmer’s Market.  We’re a unique collective of Vermont farmers\, makers\, bakers\, and shakers in the heart of the Mad River Valley. \nLocal produce\, plant starts\, fruit trees\, bushes\, maple\, honey\, flowers\, seedlings\, eggs\, meats\, cheeses\, fish\, crafts\, art\, clothes\, bread\, baked goods\, liquors\, and prepared foods all by Vermonters. \nEstablished in 1993\, the Waitsfield Farmer’s Market for decades has been a meeting place for those who appreciate Vermont farmers and artisans. Our market vendors are a carefully curated group of local Vermont businesses who provide the highest quality products to market. Every Saturday\, rain or shine\, May-October\, you’ll find us on the green! \nEvery Saturday\, Rain or Shine from 9 am to 1 pm\nMay 13th – October 14th\, 2023 \nOur market can be found on the Mad River Green in Waitsfield\, Vermont.
URL:https://mrvvillage.com/event/waitsfield-farmers-market-4/
LOCATION:Mad River Green\, 105 Mad River Green\, Waitsfield\, VT\, 05673\, United States
CATEGORIES:Arts & Entertainment,Community,Family Friendly,Food & Drink
ATTACH;FMTTYPE=image/png:https://mrvvillage.com/wp-content/uploads/2023/04/WFM_Brand_Logos-02-DmdRr1.tmp_.png
ORGANIZER;CN="Waitsfield%20Farmer%26%238217%3Bs%20Market":MAILTO:waitsfieldmarketmanager@gmail.com
GEO:44.183836;-72.8388576
X-APPLE-STRUCTURED-LOCATION;VALUE=URI;X-ADDRESS=Mad River Green 105 Mad River Green Waitsfield VT 05673 United States;X-APPLE-RADIUS=500;X-TITLE=105 Mad River Green:geo:-72.8388576,44.183836
END:VEVENT
END:VCALENDAR