BEGIN:VCALENDAR
VERSION:2.0
PRODID:-//The Mad River Valley Village - ECPv6.0.13//NONSGML v1.0//EN
CALSCALE:GREGORIAN
METHOD:PUBLISH
X-ORIGINAL-URL:https://mrvvillage.com
X-WR-CALDESC:Events for The Mad River Valley Village
REFRESH-INTERVAL;VALUE=DURATION:PT1H
X-Robots-Tag:noindex
X-PUBLISHED-TTL:PT1H
BEGIN:VTIMEZONE
TZID:America/New_York
BEGIN:DAYLIGHT
TZOFFSETFROM:-0500
TZOFFSETTO:-0400
TZNAME:EDT
DTSTART:20230312T070000
END:DAYLIGHT
BEGIN:STANDARD
TZOFFSETFROM:-0400
TZOFFSETTO:-0500
TZNAME:EST
DTSTART:20231105T060000
END:STANDARD
END:VTIMEZONE
BEGIN:VEVENT
DTSTART;TZID=America/New_York:20230701T000000
DTEND;TZID=America/New_York:20230704T235959
DTSTAMP:20260421T093841
CREATED:20230621T143920Z
LAST-MODIFIED:20230701T193814Z
UID:10004157-1688169600-1688515199@mrvvillage.com
SUMMARY:4th of July Weekend at Sugarbush Resort
DESCRIPTION:Unanimously voted the #1 Fourth of July Parade by everyone on the planet\, the Warren Parade offers an ever-evolving\, engaging and (often/sometimes) humorous take on our independence. You’ll want to be in Warren Village before 10 AM on the 4th to grab a spot along the route\, but don’t wait until Tuesday to enjoy the festivities. We’ve got an entire weekend of fun for you with four days of live music\, lift rides\, swimming holes\, parties\, fireworks\, and even a snow gun waterfall. (You’ll have to come up to Lincoln Peak so see what that is.) Checkout the schedule below. \nParade Shuttle Bus Schedule: School buses will begin running from Lincoln Peak to Warren Village at 8am. Lincoln Peak pick up is at the bus stops in front of Clay Brook Hotel. Take the earlier buses as it gets more crowded as the clock nears 10am (parade kick off). The bus stop in Warren Village is at the top of Covered Bridge Road. Buses will run throughout the day between Lincoln Peak and Warren Village with the final return trip to Lincoln Peak at 4pm. Sorry\, no dogs\, except service dogs\, allowed on the buses. \nJoin PAWSitive Pantry at their annual 4th of July Pet Parade and show off your pet in their best costume. We will have fun games\, giveaways\, and prizes. There is a $10 registration donation which will be due before you attend the event. For those that can’t attend the event in person\, PAWSitive Pantry is partnering with GO GO Pet Photo and you can submit your best photo and our community will vote on the winning pictures. To register please reach out to stacy@pawsitivepantry.org or call 978-239-2090 for more information. Learn more…. \nSCHEDULE OF EVENTS\n \nJULY 1 SATURDAY \n10:00 AM-5:00pm Mountain Activities\, including Scenic Lift Rides\, Downhill Mountain Biking\, Disc Golf\, Euro Bungee\, Cornhole\, and Courtyard Games \n11:00 AM – 3:00 PM Sunflower Daydream (Plant Your Own Sunflower Seeds) – Lincoln Peak Courtyard \n11:00 AM – 3:00 PM Rubber Ducky Drop- Super Bravo Express Quad \n11:00 AM – 4:00 PM Tie Dye t-shirts on the lawn at the base of Gate House Express Quad \n11:00 AM – 3:00 PM Mini Golf \n1:00 PM – 3:00 PM Snow gun waterfall and water balloons on the grass behind Gate House Lodge \n2:00 PM – 4:00 PM Face Painting Lincoln Peak Courtyard \nLIve Music in the Lincoln Peak Courtyard \n12:00 PM-3:00 PM DJ Chris Logan \n3:00 PM-5:00 PM The Party Crashers \n5:00 PM-9:00 PM The Spiders\n \n \nJULY 2 SUNDAY \n10:00 AM- 5:00PM Mountain Activities\, including Scenic Lift Rides\, Downhill Mountain Biking\, Disc Golf\, Euro Bungee\, Cornhole\, and Courtyard Games \n11:00 AM – 3:00 PM Sunflower Daydream (Plant Your Own Sunflower Seeds) Lincoln Peak Courtyard \n11:00 AM – 3:00 PM Rubber Ducky Drop Super Bravo Express Quad \n11:00 AM – 4:00 PM Tie Dye t-shirts on the lawn at the base of Gate House Express Quad \n11:00 AM – 3:00 PM Mini Golf \n1:00 PM – 3:00 PM Snow gun waterfall and water balloons on the grass behind Gate House Lodge \n2:00 PM – 4:00 PM Face Painting Lincoln Peak Courtyard \nLIve Music in the Lincoln Peak Courtyard \n12:00 PM-3:00 PM DJ Chris Logan \n3:00 PM-6:00 PM band Kip and Coe \n6:00 PM-9:00 PM The Grift\n \n \nJULY 3 MONDAY \n10:00 AM- 5:00PM Mountain Activities\, including Scenic Lift Rides\, Downhill Mountain Biking\, Disc Golf\, Euro Bungee\, Cornhole\, and Courtyard Games \n11:00 AM – 3:00 PM Sunflower Daydream Lincoln Peak Courtyard \n11:00 AM – 3:00 PM Rubber Ducky Drop Super Bravo Express Quad \n11:00 AM – 4:00 PM Tie Dye t-shirts on the lawn at the base of Gate House Express Quad \n11:00 AM – 3:00 PM Mini Golf \n1:00 PM – 3:00 PM Snow gun waterfall and water balloons on the grass behind Gate House Lodge \n2:00 PM – 4:00 PM Face Painting \nLIve Music in the Lincoln Peak Courtyard \n12:00 PM – 2:00 PM DJ Chris Logan \n2:00 PM- 5:00PM Guitfiddle \n5:00PM-9:00PM Al’s Pals \n \nJULY 4 TUESDAY \n10:00 AM- 5:00PM Mountain Activities\, including Scenic Lift Rides\, Downhill Mountain Biking\, Disc Golf\, Euro Bungee\, Cornhole\, and Courtyard Games \n12:00 AM – 3:00 PM Sunflower Daydream Lincoln Peak Courtyard \n12:00 AM – 3:00 PM Rubber Ducky Drop Super Bravo Express Quad \n12:00 AM – 4:00 PM Tie Dye t-shirts on the lawn at the base of Gate House Express Quad \n12:00 AM – 3:00 PM Mini Golf \n1:00 PM – 3:00 PM Snow gun waterfall and water balloons on the grass behind Gate House Lodge \n2:00 PM – 4:00 PM Face Painting Lincoln Peak Courtyard \n2:00 PM – 3:00 PM Dog Parade and Gogo pet contest a benefit for PAWSITIVE PANTRY \nLIve Music in the Lincoln Peak Courtyard \n12:00 PM – 3:00 PM DJ Chris Logan \n3:00 M – 6:00 PM Quasi Kings \n6:00 PM – 9:00 PM The Detonators \n9:00 PM Fireworks
URL:https://mrvvillage.com/event/4th-of-july-weekend-at-sugarbush-resort/
LOCATION:Sugarbush Resort\, 102 Forest Drive Warren\, VT 05674\, Warren\, 05674
CATEGORIES:Arts & Entertainment,Community,Dining,Family Friendly,Food & Drink,Sugarbush
ATTACH;FMTTYPE=image/jpeg:https://mrvvillage.com/wp-content/uploads/2023/06/2019-07-04-JA-sugarbush-141-DaAtyO.tmp_.jpg
GEO:44.1272818;-72.9284492
X-APPLE-STRUCTURED-LOCATION;VALUE=URI;X-ADDRESS=Sugarbush Resort 102 Forest Drive Warren VT 05674 Warren 05674;X-APPLE-RADIUS=500;X-TITLE=102 Forest Drive Warren\, VT 05674:geo:-72.9284492,44.1272818
END:VEVENT
BEGIN:VEVENT
DTSTART;TZID=America/New_York:20230706T163000
DTEND;TZID=America/New_York:20230706T183000
DTSTAMP:20260421T093841
CREATED:20230414T190125Z
LAST-MODIFIED:20230521T035704Z
UID:10003648-1688661000-1688668200@mrvvillage.com
SUMMARY:Free Wine Tasting at The Local
DESCRIPTION:Mosey on in to try some of our rotating featured wines! We’ll give you the story of the wine you’re sampling and answer any questions you might have. It’s a great time to catch up with your neighbors & friends!
URL:https://mrvvillage.com/event/free-wine-tasting-at-the-local-26/
LOCATION:The Local: Wine & Beer\, 961 US Route 2\, Middlesex\, VT\, 05602\, United States
CATEGORIES:Food & Drink
ATTACH;FMTTYPE=image/jpeg:https://mrvvillage.com/wp-content/uploads/2023/04/PXL_20230330_211015210_2-p4aWab.tmp_.jpg
ORGANIZER;CN="The%20Local%3A%20Wine%20%26%23038%3B%20Beer":MAILTO:info@thelocalvt.com
GEO:44.2943225;-72.6828326
X-APPLE-STRUCTURED-LOCATION;VALUE=URI;X-ADDRESS=The Local: Wine & Beer 961 US Route 2 Middlesex VT 05602 United States;X-APPLE-RADIUS=500;X-TITLE=961 US Route 2:geo:-72.6828326,44.2943225
END:VEVENT
BEGIN:VEVENT
DTSTART;TZID=America/New_York:20230706T173000
DTEND;TZID=America/New_York:20230706T190000
DTSTAMP:20260421T093841
CREATED:20230618T094005Z
LAST-MODIFIED:20230619T093945Z
UID:10004131-1688664600-1688670000@mrvvillage.com
SUMMARY:More cooking with Marci!
DESCRIPTION:(more details coming soon!)
URL:https://mrvvillage.com/event/more-cooking-with-marci/
LOCATION:Lareau Farm\, 48 Lareau Road\, Waitsfield\, VT\, 05673\, United States
CATEGORIES:Community,Food & Drink
ATTACH;FMTTYPE=image/png:https://mrvvillage.com/wp-content/uploads/2023/06/Screen-Shot-2023-06-17-at-4.20.10-PM-LgpJgO.tmp_.png
ORGANIZER;CN="ShareMRV":MAILTO:sharemrv@gmail.com
GEO:44.172559;-72.833919
X-APPLE-STRUCTURED-LOCATION;VALUE=URI;X-ADDRESS=Lareau Farm 48 Lareau Road Waitsfield VT 05673 United States;X-APPLE-RADIUS=500;X-TITLE=48 Lareau Road:geo:-72.833919,44.172559
END:VEVENT
BEGIN:VEVENT
DTSTART;TZID=America/New_York:20230706T190000
DTEND;TZID=America/New_York:20230706T203000
DTSTAMP:20260421T093841
CREATED:20230613T131018Z
LAST-MODIFIED:20230706T205329Z
UID:10004094-1688670000-1688675400@mrvvillage.com
SUMMARY:Pub Trivia with the Mad River Libraries
DESCRIPTION:Bring a team to Deco Restaurant at Hostel Tevere to compete in four rounds of Beach Party-themed trivia hosted by the Mad River Libraries. Organizers suggest people contact the restaurant at 802-496-9222 to reserve a table. Warm weather is back and teams can join in from inside or outside on the deck.
URL:https://mrvvillage.com/event/pub-trivia-with-the-mad-river-libraries-2/
LOCATION:Hostel Tevere\, 203 Powderhound Rd\, Warren\, VT\, 05674\, United States
CATEGORIES:Community,Food & Drink
ATTACH;FMTTYPE=image/png:https://mrvvillage.com/wp-content/uploads/2023/06/July-2023-trivia-r6FGcr.tmp_.png
GEO:44.1341751;-72.8481846
X-APPLE-STRUCTURED-LOCATION;VALUE=URI;X-ADDRESS=Hostel Tevere 203 Powderhound Rd Warren VT 05674 United States;X-APPLE-RADIUS=500;X-TITLE=203 Powderhound Rd:geo:-72.8481846,44.1341751
END:VEVENT
BEGIN:VEVENT
DTSTART;TZID=America/New_York:20230707T163000
DTEND;TZID=America/New_York:20230707T183000
DTSTAMP:20260421T093841
CREATED:20230408T132858Z
LAST-MODIFIED:20230413T234627Z
UID:10003500-1688747400-1688754600@mrvvillage.com
SUMMARY:Free Wine Tasting at The Local
DESCRIPTION:Mosey on in to try some of our rotating featured wines! We’ll give you the story of the wine you’re sampling and answer any questions you might have. It’s a great time to catch up with your neighbors & friends!
URL:https://mrvvillage.com/event/free-wine-tasting-at-the-local-15/
LOCATION:The Local: Wine & Beer\, 961 US Route 2\, Middlesex\, VT\, 05602\, United States
CATEGORIES:Food & Drink
ATTACH;FMTTYPE=image/jpeg:https://mrvvillage.com/wp-content/uploads/2023/04/PXL_20230330_211015210_2-p4aWab.tmp_.jpg
ORGANIZER;CN="The%20Local%3A%20Wine%20%26%23038%3B%20Beer":MAILTO:info@thelocalvt.com
GEO:44.2943225;-72.6828326
X-APPLE-STRUCTURED-LOCATION;VALUE=URI;X-ADDRESS=The Local: Wine & Beer 961 US Route 2 Middlesex VT 05602 United States;X-APPLE-RADIUS=500;X-TITLE=961 US Route 2:geo:-72.6828326,44.2943225
END:VEVENT
BEGIN:VEVENT
DTSTART;TZID=America/New_York:20230707T163000
DTEND;TZID=America/New_York:20230707T183000
DTSTAMP:20260421T093841
CREATED:20230605T235540Z
LAST-MODIFIED:20230707T210819Z
UID:10004060-1688747400-1688754600@mrvvillage.com
SUMMARY:The Local: Free Wine Tasting
DESCRIPTION:Mosey on in for our FREE weekly tasting every Friday evening from 4:30-6:30pm. We’re always opening four to six bottles of wine for everyone to try. It’s a great way to learn about what we’re offering in our shop\, catch up with your neighbors\, and meet new friends! \nHope to see you Friday! \n-Sam
URL:https://mrvvillage.com/event/the-local-free-wine-tasting-5/
LOCATION:The Local: Wine & Beer\, 961 US Route 2\, Middlesex\, VT\, 05602\, United States
CATEGORIES:Food & Drink
ATTACH;FMTTYPE=image/jpeg:https://mrvvillage.com/wp-content/uploads/2023/06/PXL_20230504_220511454.MOTION-01.COVER2_-WQMgyV.tmp_.jpg
ORGANIZER;CN="The%20Local%3A%20Wine%20%26%23038%3B%20Beer":MAILTO:info@thelocalvt.com
GEO:44.2943225;-72.6828326
X-APPLE-STRUCTURED-LOCATION;VALUE=URI;X-ADDRESS=The Local: Wine & Beer 961 US Route 2 Middlesex VT 05602 United States;X-APPLE-RADIUS=500;X-TITLE=961 US Route 2:geo:-72.6828326,44.2943225
END:VEVENT
BEGIN:VEVENT
DTSTART;TZID=America/New_York:20230708T090000
DTEND;TZID=America/New_York:20230708T130000
DTSTAMP:20260421T093841
CREATED:20230425T214440Z
LAST-MODIFIED:20230614T132524Z
UID:10003715-1688806800-1688821200@mrvvillage.com
SUMMARY:Waitsfield Farmers Market
DESCRIPTION:Welcome to the Waitsfield Farmer’s Market.  We’re a unique collective of Vermont farmers\, makers\, bakers\, and shakers in the heart of the Mad River Valley. \nLocal produce\, plant starts\, fruit trees\, bushes\, maple\, honey\, flowers\, seedlings\, eggs\, meats\, cheeses\, fish\, crafts\, art\, clothes\, bread\, baked goods\, liquors\, and prepared foods all by Vermonters. \nEstablished in 1993\, the Waitsfield Farmer’s Market for decades has been a meeting place for those who appreciate Vermont farmers and artisans. Our market vendors are a carefully curated group of local Vermont businesses who provide the highest quality products to market. Every Saturday\, rain or shine\, May-October\, you’ll find us on the green! \nEvery Saturday\, Rain or Shine from 9 am to 1 pm\nMay 13th – October 14th\, 2023 \nOur market can be found on the Mad River Green in Waitsfield\, Vermont.
URL:https://mrvvillage.com/event/waitsfield-farmers-market-9/
LOCATION:Mad River Green\, 105 Mad River Green\, Waitsfield\, VT\, 05673\, United States
CATEGORIES:Arts & Entertainment,Community,Family Friendly,Food & Drink
ATTACH;FMTTYPE=image/png:https://mrvvillage.com/wp-content/uploads/2023/04/WFM_Brand_Logos-02-DmdRr1.tmp_.png
ORGANIZER;CN="Waitsfield%20Farmer%26%238217%3Bs%20Market":MAILTO:waitsfieldmarketmanager@gmail.com
GEO:44.183836;-72.8388576
X-APPLE-STRUCTURED-LOCATION;VALUE=URI;X-ADDRESS=Mad River Green 105 Mad River Green Waitsfield VT 05673 United States;X-APPLE-RADIUS=500;X-TITLE=105 Mad River Green:geo:-72.8388576,44.183836
END:VEVENT
BEGIN:VEVENT
DTSTART;TZID=America/New_York:20230708T110000
DTEND;TZID=America/New_York:20230708T130000
DTSTAMP:20260421T093841
CREATED:20230614T085526Z
LAST-MODIFIED:20230708T212411Z
UID:10004099-1688814000-1688821200@mrvvillage.com
SUMMARY:Recipe Demo + Cookbook Signing
DESCRIPTION:Join chef-author Tracey Medeiros for a recipe demo and book signing of “The Vermont Farm Table Cookbook: 10th Anniversary Edition” — celebrating more than 10 years of of Vermont Farm Table cooking with revised and updated content\, from orchards and pastures to the famed kitchens of Simon Pearce and the Silver Fork. Tracey will shop the Waitsfield Farmers Market for ingredients\, then host a recipe demo and book signing at the Mad River Taste Place. Event presented in partnership with Bridgeside Books.
URL:https://mrvvillage.com/event/recipe-demo-cookbook-signing/
LOCATION:Mad River Taste Place\, 89 Mad River Green\, Waitsfield\, 05673
CATEGORIES:Arts & Entertainment,Community,Food & Drink
ATTACH;FMTTYPE=image/png:https://mrvvillage.com/wp-content/uploads/2023/06/VT-Farm-Table-Cookbook_IG-Square-680PV2.tmp_.png
ORGANIZER;CN="Mad%20River%20Taste%20Place":MAILTO:info@madrivertaste.com
GEO:44.1842631;-72.8382863
X-APPLE-STRUCTURED-LOCATION;VALUE=URI;X-ADDRESS=Mad River Taste Place 89 Mad River Green Waitsfield 05673;X-APPLE-RADIUS=500;X-TITLE=89 Mad River Green:geo:-72.8382863,44.1842631
END:VEVENT
END:VCALENDAR