BEGIN:VCALENDAR
VERSION:2.0
PRODID:-//The Mad River Valley Village - ECPv6.0.13//NONSGML v1.0//EN
CALSCALE:GREGORIAN
METHOD:PUBLISH
X-WR-CALNAME:The Mad River Valley Village
X-ORIGINAL-URL:https://mrvvillage.com
X-WR-CALDESC:Events for The Mad River Valley Village
REFRESH-INTERVAL;VALUE=DURATION:PT1H
X-Robots-Tag:noindex
X-PUBLISHED-TTL:PT1H
BEGIN:VTIMEZONE
TZID:America/New_York
BEGIN:DAYLIGHT
TZOFFSETFROM:-0500
TZOFFSETTO:-0400
TZNAME:EDT
DTSTART:20230312T070000
END:DAYLIGHT
BEGIN:STANDARD
TZOFFSETFROM:-0400
TZOFFSETTO:-0500
TZNAME:EST
DTSTART:20231105T060000
END:STANDARD
END:VTIMEZONE
BEGIN:VEVENT
DTSTART;TZID=America/New_York:20230710T173000
DTEND;TZID=America/New_York:20230710T190000
DTSTAMP:20260421T093714
CREATED:20230630T192419Z
LAST-MODIFIED:20230710T215339Z
UID:10004229-1689010200-1689015600@mrvvillage.com
SUMMARY:The Local – Guided Wine Tasting with La Garagista
DESCRIPTION:At this guided wine tasting event\, Deidre Heekin\, owner and winemaker at La Garagista\, will present five of her most sought after wines. Heekin is a truly original winemaker who creates wines that celebrate Vermont’s unique agricultural character. She is passionate about holistic and regenerative agriculture\, exploring the botanical diversity of hybrid grapes and their various wine expressions\, simple and honest winemaking\, and the creative narratives of place. \nLight refreshments will be served. Seating is limited\, and tickets are required.
URL:https://mrvvillage.com/event/the-local-guided-wine-tasting-with-la-garagista/
LOCATION:The Local: Wine & Beer\, 961 US Route 2\, Middlesex\, VT\, 05602\, United States
CATEGORIES:Food & Drink
ATTACH;FMTTYPE=image/jpeg:https://mrvvillage.com/wp-content/uploads/2023/06/La-Garagista-at-The-Local-wMmEZD.tmp_.jpg
ORGANIZER;CN="The%20Local%3A%20Wine%20%26%23038%3B%20Beer":MAILTO:info@thelocalvt.com
GEO:44.2943225;-72.6828326
X-APPLE-STRUCTURED-LOCATION;VALUE=URI;X-ADDRESS=The Local: Wine & Beer 961 US Route 2 Middlesex VT 05602 United States;X-APPLE-RADIUS=500;X-TITLE=961 US Route 2:geo:-72.6828326,44.2943225
END:VEVENT
BEGIN:VEVENT
DTSTART;TZID=America/New_York:20230711T173000
DTEND;TZID=America/New_York:20230711T190000
DTSTAMP:20260421T093714
CREATED:20230618T094038Z
LAST-MODIFIED:20230711T220835Z
UID:10004132-1689096600-1689102000@mrvvillage.com
SUMMARY:Cooking with Marci
DESCRIPTION:(more details coming soon!)
URL:https://mrvvillage.com/event/cooking-with-marci/
LOCATION:ShareMRV garden\, Lareau Farm and Forest Lareau Rd\, Waitsfield\, Vermont\, Waitsfield\, United States
CATEGORIES:Community,Food & Drink
ATTACH;FMTTYPE=image/jpeg:https://mrvvillage.com/wp-content/uploads/2023/06/cooking-with-marci-1-rKrdgC.tmp_.jpg
ORGANIZER;CN="ShareMRV":MAILTO:sharemrv@gmail.com
GEO:44.1726976;-72.8341139
X-APPLE-STRUCTURED-LOCATION;VALUE=URI;X-ADDRESS=ShareMRV garden Lareau Farm and Forest Lareau Rd Waitsfield Vermont Waitsfield United States;X-APPLE-RADIUS=500;X-TITLE=Lareau Farm and Forest Lareau Rd:geo:-72.8341139,44.1726976
END:VEVENT
BEGIN:VEVENT
DTSTART;TZID=America/New_York:20230712T180000
DTEND;TZID=America/New_York:20230712T203000
DTSTAMP:20260421T093714
CREATED:20230706T172441Z
LAST-MODIFIED:20230712T222318Z
UID:10004275-1689184800-1689193800@mrvvillage.com
SUMMARY:Mad River Glen Wednesday Night Live Music Series
DESCRIPTION:Come on up to Mad River Glen every Wednesday for live music and tasty vitals and libations at general Stark’s Pub!\nCheck out the line up! \n\n7/12 Medicine Tribe Trio\n7/19 Evan Jennison\n7/26 TBD\n8/2 TBD\n8/9 TBD\n8/16 Ragged Company\n8/23 Atom and the Orbits\n8/30 Danielle Keegan and friends\n9/6 Jaded Ravins\n9/13 Alex Budney and Friends\n9/20 Easy Street Duo\n9/27 She Was Right\n10/4 TBD
URL:https://mrvvillage.com/event/mad-river-glen-wednesday-night-live-music-series/
LOCATION:Mad River Glen\, 57 Schuss Pass Road\, Waitsfield\, 05673
CATEGORIES:Arts & Entertainment,Community,Family Friendly,Food & Drink
ATTACH;FMTTYPE=image/png:https://mrvvillage.com/wp-content/uploads/2022/12/mad-river-glen-ZDw5Dq.tmp_.png
ORGANIZER;CN="Mad%20River%20Glen":MAILTO:ski@madriverglen.com
GEO:44.2023162;-72.9182617
X-APPLE-STRUCTURED-LOCATION;VALUE=URI;X-ADDRESS=Mad River Glen 57 Schuss Pass Road Waitsfield 05673;X-APPLE-RADIUS=500;X-TITLE=57 Schuss Pass Road:geo:-72.9182617,44.2023162
END:VEVENT
BEGIN:VEVENT
DTSTART;TZID=America/New_York:20230713T163000
DTEND;TZID=America/New_York:20230713T183000
DTSTAMP:20260421T093714
CREATED:20230414T190156Z
LAST-MODIFIED:20230521T035720Z
UID:10003651-1689265800-1689273000@mrvvillage.com
SUMMARY:Free Wine Tasting at The Local
DESCRIPTION:Mosey on in to try some of our rotating featured wines! We’ll give you the story of the wine you’re sampling and answer any questions you might have. It’s a great time to catch up with your neighbors & friends!
URL:https://mrvvillage.com/event/free-wine-tasting-at-the-local-27/
LOCATION:The Local: Wine & Beer\, 961 US Route 2\, Middlesex\, VT\, 05602\, United States
CATEGORIES:Food & Drink
ATTACH;FMTTYPE=image/jpeg:https://mrvvillage.com/wp-content/uploads/2023/04/PXL_20230330_211015210_2-p4aWab.tmp_.jpg
ORGANIZER;CN="The%20Local%3A%20Wine%20%26%23038%3B%20Beer":MAILTO:info@thelocalvt.com
GEO:44.2943225;-72.6828326
X-APPLE-STRUCTURED-LOCATION;VALUE=URI;X-ADDRESS=The Local: Wine & Beer 961 US Route 2 Middlesex VT 05602 United States;X-APPLE-RADIUS=500;X-TITLE=961 US Route 2:geo:-72.6828326,44.2943225
END:VEVENT
BEGIN:VEVENT
DTSTART;TZID=America/New_York:20230714T163000
DTEND;TZID=America/New_York:20230714T183000
DTSTAMP:20260421T093714
CREATED:20230605T235556Z
LAST-MODIFIED:20230709T213906Z
UID:10004061-1689352200-1689359400@mrvvillage.com
SUMMARY:The Local: Free Wine Tasting
DESCRIPTION:Mosey on in for our FREE weekly tasting every Friday evening from 4:30-6:30pm. We’re always opening four to six bottles of wine for everyone to try. It’s a great way to learn about what we’re offering in our shop\, catch up with your neighbors\, and meet new friends! \nHope to see you Friday! \n-Sam
URL:https://mrvvillage.com/event/the-local-free-wine-tasting-6/
LOCATION:The Local: Wine & Beer\, 961 US Route 2\, Middlesex\, VT\, 05602\, United States
CATEGORIES:Food & Drink
ATTACH;FMTTYPE=image/jpeg:https://mrvvillage.com/wp-content/uploads/2023/06/PXL_20230504_220511454.MOTION-01.COVER2_-WQMgyV.tmp_.jpg
ORGANIZER;CN="The%20Local%3A%20Wine%20%26%23038%3B%20Beer":MAILTO:info@thelocalvt.com
GEO:44.2943225;-72.6828326
X-APPLE-STRUCTURED-LOCATION;VALUE=URI;X-ADDRESS=The Local: Wine & Beer 961 US Route 2 Middlesex VT 05602 United States;X-APPLE-RADIUS=500;X-TITLE=961 US Route 2:geo:-72.6828326,44.2943225
END:VEVENT
BEGIN:VEVENT
DTSTART;TZID=America/New_York:20230714T163000
DTEND;TZID=America/New_York:20230714T183000
DTSTAMP:20260421T093714
CREATED:20230711T183838Z
LAST-MODIFIED:20230714T225328Z
UID:10004328-1689352200-1689359400@mrvvillage.com
SUMMARY:The Local: Free Wine Tasting
DESCRIPTION:Mosey on in for our FREE weekly tasting every Friday evening from 4:30-6:30pm. We’re always opening four to six bottles of wine for everyone to try. It’s a great way to learn about what we’re offering in our shop\, catch up with your neighbors\, and meet new friends! \nHope to see you Friday! \n-Sam
URL:https://mrvvillage.com/event/the-local-free-wine-tasting-19/
LOCATION:The Local: Wine & Beer\, 961 US Route 2\, Middlesex\, VT\, 05602\, United States
CATEGORIES:Food & Drink
ATTACH;FMTTYPE=image/png:https://mrvvillage.com/wp-content/uploads/2023/07/Screen-Shot-2023-07-11-at-1.45.02-PM-MboFgM.tmp_.png
ORGANIZER;CN="The%20Local%3A%20Wine%20%26%23038%3B%20Beer":MAILTO:info@thelocalvt.com
GEO:44.2943225;-72.6828326
X-APPLE-STRUCTURED-LOCATION;VALUE=URI;X-ADDRESS=The Local: Wine & Beer 961 US Route 2 Middlesex VT 05602 United States;X-APPLE-RADIUS=500;X-TITLE=961 US Route 2:geo:-72.6828326,44.2943225
END:VEVENT
BEGIN:VEVENT
DTSTART;TZID=America/New_York:20230714T170000
DTEND;TZID=America/New_York:20230714T200000
DTSTAMP:20260421T093714
CREATED:20230709T213907Z
LAST-MODIFIED:20230714T225329Z
UID:10004323-1689354000-1689364800@mrvvillage.com
SUMMARY:Kind Bud & Nug at Hogan’s Pub
DESCRIPTION:After a great day of golf\, or not\, enjoy Kind Bud\, drinks and food at Hogan’s Pub. Drawing from a repertoire of over 780 tunes\, Kind Bud is sure to play a favorite by request. Located at the Sugarbush Golf Course\, Hogan’s Pub offers breathtaking scenic views of the Sugarbush Golf Club and the slopes of Lincoln Peak. Nug will be joining Bud on percussion. \n\nKind Bud is a guitarist and singer/songwriter from Vermont\, performing over 1\,000 shows across the United States. Throughout his career\, Bud has shared the stage with Oteil Burbridge (Dead & Company/Allman Brothers) David Gans\, Michael Falzarano and other members of the New Riders of the Purple Sage and for 12 years\, with his twin brother “Budd”\,as The Kind Buds. \nBud has performed at music festivals such as the Gathering of the Vibes and the Oregon Country Fair and at venues that include Sweetwater\, Fairfield Theatre Company\, and Mexicali Live. During the Grateful Dead Fare Thee Well Shows\, The Kind Buds performed 3 pre-shows at the Hyatt Regency Chicago. As a soloist\, Kind Bud is the poolside musician for Island Gigs\, a music destination resort in Jamaica and during the winter\, one might find Bud playing an apres ski event at Sugarbush\, Stowe\, Killington\, Jay Peak; Whaleback; Okeemo; Bromley Mountain.  Readers may have seen Nug performing on a full kit as the first drummer of Double You or leading the Blizzard Boogie this past winter at Sugarbush Resort. \n\nKind Bud currently has 2 albums available for listening.  “Peace\, Love & Music”\, recorded live June 21\, 2019 at the Stonehenge Music Festival and  “Jenuine Kind Bud” ~ songs to uplift humanity inspired by the poetry of Jen Ward. Both  can be heard on your favorite streaming music station. \nhttps://open.spotify.com/album/58EaJlik7dhfeiCBmu2kId… \nhttps://music.apple.com/us/album/jenuine/1638327582 \nhttps://music.amazon.com/albums/B0B7Z1VZSV… \nhttps://www.pandora.com/…/kind-bud/jenuine/ALwqvmjf9fjvrZJ
URL:https://mrvvillage.com/event/kind-bud-nug-at-hogans-pub/
LOCATION:Sugarbush Resort Golf Club
CATEGORIES:Arts & Entertainment,Food & Drink,Sugarbush
ATTACH;FMTTYPE=image/jpeg:https://mrvvillage.com/wp-content/uploads/2023/07/BudNugphoto-2edBTE.tmp_.jpg
END:VEVENT
BEGIN:VEVENT
DTSTART;TZID=America/New_York:20230715T090000
DTEND;TZID=America/New_York:20230715T130000
DTSTAMP:20260421T093714
CREATED:20230425T214511Z
LAST-MODIFIED:20230614T132555Z
UID:10003716-1689411600-1689426000@mrvvillage.com
SUMMARY:Waitsfield Farmers Market
DESCRIPTION:Welcome to the Waitsfield Farmer’s Market.  We’re a unique collective of Vermont farmers\, makers\, bakers\, and shakers in the heart of the Mad River Valley. \nLocal produce\, plant starts\, fruit trees\, bushes\, maple\, honey\, flowers\, seedlings\, eggs\, meats\, cheeses\, fish\, crafts\, art\, clothes\, bread\, baked goods\, liquors\, and prepared foods all by Vermonters. \nEstablished in 1993\, the Waitsfield Farmer’s Market for decades has been a meeting place for those who appreciate Vermont farmers and artisans. Our market vendors are a carefully curated group of local Vermont businesses who provide the highest quality products to market. Every Saturday\, rain or shine\, May-October\, you’ll find us on the green! \nEvery Saturday\, Rain or Shine from 9 am to 1 pm\nMay 13th – October 14th\, 2023 \nOur market can be found on the Mad River Green in Waitsfield\, Vermont.
URL:https://mrvvillage.com/event/waitsfield-farmers-market-10/
LOCATION:Mad River Green\, 105 Mad River Green\, Waitsfield\, VT\, 05673\, United States
CATEGORIES:Arts & Entertainment,Community,Family Friendly,Food & Drink
ATTACH;FMTTYPE=image/png:https://mrvvillage.com/wp-content/uploads/2023/04/WFM_Brand_Logos-02-DmdRr1.tmp_.png
ORGANIZER;CN="Waitsfield%20Farmer%26%238217%3Bs%20Market":MAILTO:waitsfieldmarketmanager@gmail.com
GEO:44.183836;-72.8388576
X-APPLE-STRUCTURED-LOCATION;VALUE=URI;X-ADDRESS=Mad River Green 105 Mad River Green Waitsfield VT 05673 United States;X-APPLE-RADIUS=500;X-TITLE=105 Mad River Green:geo:-72.8388576,44.183836
END:VEVENT
END:VCALENDAR