BEGIN:VCALENDAR
VERSION:2.0
PRODID:-//The Mad River Valley Village - ECPv6.0.13//NONSGML v1.0//EN
CALSCALE:GREGORIAN
METHOD:PUBLISH
X-ORIGINAL-URL:https://mrvvillage.com
X-WR-CALDESC:Events for The Mad River Valley Village
REFRESH-INTERVAL;VALUE=DURATION:PT1H
X-Robots-Tag:noindex
X-PUBLISHED-TTL:PT1H
BEGIN:VTIMEZONE
TZID:America/New_York
BEGIN:DAYLIGHT
TZOFFSETFROM:-0500
TZOFFSETTO:-0400
TZNAME:EDT
DTSTART:20230312T070000
END:DAYLIGHT
BEGIN:STANDARD
TZOFFSETFROM:-0400
TZOFFSETTO:-0500
TZNAME:EST
DTSTART:20231105T060000
END:STANDARD
END:VTIMEZONE
BEGIN:VEVENT
DTSTART;TZID=America/New_York:20231102T060000
DTEND;TZID=America/New_York:20231102T200000
DTSTAMP:20260422T220335
CREATED:20230814T162919Z
LAST-MODIFIED:20230918T122611Z
UID:10004642-1698904800-1698955200@mrvvillage.com
SUMMARY:Live Music Thursdays at The Filling Station
DESCRIPTION:Join us for The Filling Station’s Thursday night music series! Check out the line-up: \n  \n8/17 – Ali T \n8/24 –  Tom Bisson \n8/31 – The Rough Suspects – Acoustic Duo
URL:https://mrvvillage.com/event/live-music-thursdays-at-the-filling-station-12/
LOCATION:Filling Station\, Rt 2\, Middlesex\, Vermont\, 05068\, United States
CATEGORIES:Arts & Entertainment,Food & Drink
ATTACH;FMTTYPE=image/png:https://mrvvillage.com/wp-content/uploads/2023/08/Screen-Shot-2023-08-14-at-8.30.57-AM-ovEsEz.tmp_.png
ORGANIZER;CN="Filling%20Station":MAILTO:fillingstationvt@gmail.com
GEO:43.7761665;-72.5166728
X-APPLE-STRUCTURED-LOCATION;VALUE=URI;X-ADDRESS=Filling Station Rt 2 Middlesex Vermont 05068 United States;X-APPLE-RADIUS=500;X-TITLE=Rt 2:geo:-72.5166728,43.7761665
END:VEVENT
BEGIN:VEVENT
DTSTART;TZID=America/New_York:20231102T190000
DTEND;TZID=America/New_York:20231102T200000
DTSTAMP:20260422T220335
CREATED:20231028T183941Z
LAST-MODIFIED:20231102T235311Z
UID:10005455-1698951600-1698955200@mrvvillage.com
SUMMARY:Mad River Valley Libraries Pub Trivia
DESCRIPTION:The Season of the Sticks Pub Trivia\nThe Mad River Valley Libraries crew has been hard at work concocting questions about science and nature\, arts and entertainment\, turkeys and current events. All are welcome to join us.
URL:https://mrvvillage.com/event/mad-river-valley-libraries-pub-trivia/
LOCATION:Hostel Tevere\, 203 Powderhound Rd\, Warren\, VT\, 05674\, United States
CATEGORIES:Community,Food & Drink
ATTACH;FMTTYPE=image/png:https://mrvvillage.com/wp-content/uploads/2023/10/Copy-of-November-2023-trivia-Facebook-Post-s8v4T6.tmp_.png
ORGANIZER;CN="Mad%20River%20Libraries":MAILTO:programs@warrenlibrary.com
GEO:44.1341751;-72.8481846
X-APPLE-STRUCTURED-LOCATION;VALUE=URI;X-ADDRESS=Hostel Tevere 203 Powderhound Rd Warren VT 05674 United States;X-APPLE-RADIUS=500;X-TITLE=203 Powderhound Rd:geo:-72.8481846,44.1341751
END:VEVENT
BEGIN:VEVENT
DTSTART;TZID=America/New_York:20231103T163000
DTEND;TZID=America/New_York:20231103T183000
DTSTAMP:20260422T220335
CREATED:20230805T024348Z
LAST-MODIFIED:20230814T162919Z
UID:10004551-1699029000-1699036200@mrvvillage.com
SUMMARY:The Local: Free Wine Tasting
DESCRIPTION:Mosey on in for our FREE weekly tasting every Friday evening from 4:30-6:30pm. We’re always opening four to six bottles of wine for everyone to try. It’s a great way to learn about what we’re offering in our shop\, catch up with your neighbors\, and meet new friends! \nHope to see you Friday! \n-Sam
URL:https://mrvvillage.com/event/the-local-free-wine-tasting-35/
LOCATION:The Local: Wine & Beer\, 961 US Route 2\, Middlesex\, VT\, 05602\, United States
CATEGORIES:Food & Drink
ATTACH;FMTTYPE=image/png:https://mrvvillage.com/wp-content/uploads/2023/07/Screen-Shot-2023-07-11-at-1.45.02-PM-MboFgM.tmp_.png
ORGANIZER;CN="The%20Local%3A%20Wine%20%26%23038%3B%20Beer":MAILTO:info@thelocalvt.com
GEO:44.2943225;-72.6828326
X-APPLE-STRUCTURED-LOCATION;VALUE=URI;X-ADDRESS=The Local: Wine & Beer 961 US Route 2 Middlesex VT 05602 United States;X-APPLE-RADIUS=500;X-TITLE=961 US Route 2:geo:-72.6828326,44.2943225
END:VEVENT
BEGIN:VEVENT
DTSTART;TZID=America/New_York:20231104T090000
DTEND;TZID=America/New_York:20231104T200000
DTSTAMP:20260422T220335
CREATED:20231018T202445Z
LAST-MODIFIED:20231104T195327Z
UID:10005411-1699088400-1699128000@mrvvillage.com
SUMMARY:Anniversary Party @ The Local: Wine & Beer
DESCRIPTION:To celebrate its one-year anniversary of being in business\, The Local: Wine & Beer is planning a full day of fun.\n9am-4pm – Bounce House\n11am & 1pm – Yoga & Sip ($5. RSVP required. 1-hour yoga with Yoga Lab Vermont followed by mimosa and croissant.)\n12-8pm – wine and beer by the glass service\n4-8pm – food by Josh of 5th Quarter\n4-8pm – music by DJ Chris Logan\n5-8pm – wine tasting with some of our favorite distributors & cheese by Jasper Hill Farm ($5. RSVP required.)
URL:https://mrvvillage.com/event/anniversary-party-the-local-wine-beer/
LOCATION:The Local: Wine & Beer\, 961 US Route 2\, Middlesex\, VT\, 05602\, United States
CATEGORIES:Dining,Food & Drink
ATTACH;FMTTYPE=image/png:https://mrvvillage.com/wp-content/uploads/2023/10/Artboard-1-vfBKnF.tmp_.png
ORGANIZER;CN="The%20Local%3A%20Wine%20%26%23038%3B%20Beer":MAILTO:info@thelocalvt.com
GEO:44.2943225;-72.6828326
X-APPLE-STRUCTURED-LOCATION;VALUE=URI;X-ADDRESS=The Local: Wine & Beer 961 US Route 2 Middlesex VT 05602 United States;X-APPLE-RADIUS=500;X-TITLE=961 US Route 2:geo:-72.6828326,44.2943225
END:VEVENT
BEGIN:VEVENT
DTSTART;TZID=America/New_York:20231104T190000
DTEND;TZID=America/New_York:20231104T210000
DTSTAMP:20260422T220335
CREATED:20231103T235500Z
LAST-MODIFIED:20231104T195328Z
UID:10005499-1699124400-1699131600@mrvvillage.com
SUMMARY:Mountaintop Film Festival
DESCRIPTION:Mountainfilm On Tour returns to the Big Picture Theater with films that explore themes connected to Mountainfilm’s mission of using the power of film\, art and ideas to inspire audiences to create a better world.  Food and drink will be available At the Big Picture Café. Runtime is approximately 2 hours.All ticket sale proceeds benefit The Waitsfield Children’s Center \n  \n  \n 
URL:https://mrvvillage.com/event/mountaintop-film-festival/
LOCATION:The Big Picture Theater & Cafe\, 48 Carroll Rd\, Waitsfield\, VT\, 05673\, United States
CATEGORIES:Arts & Entertainment,Community,Family Friendly,Food & Drink
ATTACH;FMTTYPE=image/jpeg:https://mrvvillage.com/wp-content/uploads/2023/11/8WO7hIYjEgopDraKcrXXSJbrx0ItKQ8H-s9DDLs.tmp_.jpg
GEO:44.1884285;-72.8328435
X-APPLE-STRUCTURED-LOCATION;VALUE=URI;X-ADDRESS=The Big Picture Theater & Cafe 48 Carroll Rd Waitsfield VT 05673 United States;X-APPLE-RADIUS=500;X-TITLE=48 Carroll Rd:geo:-72.8328435,44.1884285
END:VEVENT
END:VCALENDAR