BEGIN:VCALENDAR
VERSION:2.0
PRODID:-//The Mad River Valley Village - ECPv6.0.13//NONSGML v1.0//EN
CALSCALE:GREGORIAN
METHOD:PUBLISH
X-WR-CALNAME:The Mad River Valley Village
X-ORIGINAL-URL:https://mrvvillage.com
X-WR-CALDESC:Events for The Mad River Valley Village
REFRESH-INTERVAL;VALUE=DURATION:PT1H
X-Robots-Tag:noindex
X-PUBLISHED-TTL:PT1H
BEGIN:VTIMEZONE
TZID:America/New_York
BEGIN:DAYLIGHT
TZOFFSETFROM:-0500
TZOFFSETTO:-0400
TZNAME:EDT
DTSTART:20230312T070000
END:DAYLIGHT
BEGIN:STANDARD
TZOFFSETFROM:-0400
TZOFFSETTO:-0500
TZNAME:EST
DTSTART:20231105T060000
END:STANDARD
END:VTIMEZONE
BEGIN:VEVENT
DTSTART;TZID=America/New_York:20231130T060000
DTEND;TZID=America/New_York:20231130T200000
DTSTAMP:20260422T222228
CREATED:20230901T084910Z
LAST-MODIFIED:20230918T122637Z
UID:10005114-1701324000-1701374400@mrvvillage.com
SUMMARY:Live Music Thursdays at The Filling Station
DESCRIPTION:Join us for The Filling Station’s Thursday night music series! Check out the line-up: \n  \n8/17 – Ali T \n8/24 –  Tom Bisson \n8/31 – The Rough Suspects – Acoustic Duo
URL:https://mrvvillage.com/event/live-music-thursdays-at-the-filling-station-16/
LOCATION:Filling Station\, Rt 2\, Middlesex\, Vermont\, 05068\, United States
CATEGORIES:Arts & Entertainment,Food & Drink
ATTACH;FMTTYPE=image/png:https://mrvvillage.com/wp-content/uploads/2023/08/Screen-Shot-2023-08-14-at-8.30.57-AM-ovEsEz.tmp_.png
ORGANIZER;CN="Filling%20Station":MAILTO:fillingstationvt@gmail.com
GEO:43.7761665;-72.5166728
X-APPLE-STRUCTURED-LOCATION;VALUE=URI;X-ADDRESS=Filling Station Rt 2 Middlesex Vermont 05068 United States;X-APPLE-RADIUS=500;X-TITLE=Rt 2:geo:-72.5166728,43.7761665
END:VEVENT
BEGIN:VEVENT
DTSTART;TZID=America/New_York:20231130T180000
DTEND;TZID=America/New_York:20231130T200000
DTSTAMP:20260422T222228
CREATED:20231114T213856Z
LAST-MODIFIED:20231130T155316Z
UID:10005529-1701367200-1701374400@mrvvillage.com
SUMMARY:Open Mic Night
DESCRIPTION:As the days grow shorter and colder here in Vermont\, we often find ourselves retreating to our respective dens. How about an alternative? Gather with us at The Local for our first open mic night hosted by Sarah and Derek in the Tasting Room. \nAll levels of experience are welcome. Dig deep to find that inner songstress\, dancer\, poet\, or performer! There is so much talent in our little neck of the woods\, and we’re happy to give you a space to share it with others. \nPlease RSVP whether you are planning to perform\, spectate\, or spectate until you work up the courage to perform! We will have a special wine & beer by the glass menu as well as a limited food menu for the evening.
URL:https://mrvvillage.com/event/open-mic-night/
LOCATION:The Local: Wine & Beer\, 961 US Route 2\, Middlesex\, VT\, 05602\, United States
CATEGORIES:Arts & Entertainment,Community,Food & Drink
ATTACH;FMTTYPE=image/png:https://mrvvillage.com/wp-content/uploads/2023/11/Open-Mic-231130-fnDbQC.tmp_.png
ORGANIZER;CN="The%20Local%3A%20Wine%20%26%23038%3B%20Beer":MAILTO:info@thelocalvt.com
GEO:44.2943225;-72.6828326
X-APPLE-STRUCTURED-LOCATION;VALUE=URI;X-ADDRESS=The Local: Wine & Beer 961 US Route 2 Middlesex VT 05602 United States;X-APPLE-RADIUS=500;X-TITLE=961 US Route 2:geo:-72.6828326,44.2943225
END:VEVENT
BEGIN:VEVENT
DTSTART;TZID=America/New_York:20231130T180000
DTEND;TZID=America/New_York:20231130T210000
DTSTAMP:20260422T222228
CREATED:20231124T225332Z
LAST-MODIFIED:20231130T155316Z
UID:10005626-1701367200-1701378000@mrvvillage.com
SUMMARY:World Wine Dinner Series
DESCRIPTION:Five Pacific Northwest wines complementing a five-course dinner. Celebrate Oregon and Washington reds and whites while enjoying regional fare from the area’s unique terroir.
URL:https://mrvvillage.com/event/world-wine-dinner-series/
LOCATION:The Pitcher Inn\, 275 Main Street\, Warren\, 05674
CATEGORIES:Community,Family Friendly,Food & Drink
ORGANIZER;CN="The%20Pitcher%20Inn":MAILTO:info@pitcherinn.com
GEO:44.118347;-72.8576681
X-APPLE-STRUCTURED-LOCATION;VALUE=URI;X-ADDRESS=The Pitcher Inn 275 Main Street Warren 05674;X-APPLE-RADIUS=500;X-TITLE=275 Main Street:geo:-72.8576681,44.118347
END:VEVENT
BEGIN:VEVENT
DTSTART;TZID=America/New_York:20231202T173000
DTEND;TZID=America/New_York:20231202T220000
DTSTAMP:20260422T222228
CREATED:20231103T195435Z
LAST-MODIFIED:20231202T160818Z
UID:10005498-1701538200-1701554400@mrvvillage.com
SUMMARY:Murder Mystery Dinner at Lareau Farm Inn
DESCRIPTION:Come join us\, along with the Valley Players for a night of Murder at the Masquerade Ball\, Saturday December 2nd at 5:30pm // Lareau Farm Inn. \n“Welcome to Bloodworth Falls\, an isolated town full of scandal\, blackmail\, and deceit. The townsfolk bicker in the streets\, and many believe the local government to be corrupt. Nevertheless\, the mayor is welcoming you to this mysterious masquerade ball in the old Bloodwood Castle. Tickets to the evening are almost sold out and several townspeople received a special invite in an unmarked envelope\, without even ordering a ticket. Everyone is curious to find out why the mayor would put effort into doing something positive in this town of gloom\, but all are eagerly hunting for the perfect mask and plan to turn out in their finest attire. You are worried about what will happen on this night when toxic people gather at the castle. This is where your story begins.” \nAppetizers\, Dinner\, Dessert and Entertainment included $75 per person ( plus tax and gratuity which will be donated to the Valley Players) // Cash Bar\nFormal Attire and masks strongly encouraged!\nContact Helen@americanflatbread.com for more information and reservations.
URL:https://mrvvillage.com/event/murder-mystery-dinner-at-lareau-farm-inn/
LOCATION:Lareau Farm Inn\, 46 Lareau Rd.\, Waitsfield\, 05673
CATEGORIES:Arts & Entertainment,Community,Dining,Food & Drink
ATTACH;FMTTYPE=image/png:https://mrvvillage.com/wp-content/uploads/2023/11/Screen-Shot-2023-11-03-at-8.16.52-AM-zkhScu.tmp_.png
ORGANIZER;CN="Lareau%20Farm%20Inn":MAILTO:stay@lareaufarminn.com
GEO:44.172559;-72.833919
X-APPLE-STRUCTURED-LOCATION;VALUE=URI;X-ADDRESS=Lareau Farm Inn 46 Lareau Rd. Waitsfield 05673;X-APPLE-RADIUS=500;X-TITLE=46 Lareau Rd.:geo:-72.833919,44.172559
END:VEVENT
BEGIN:VEVENT
DTSTART;TZID=America/New_York:20231202T180000
DTEND;TZID=America/New_York:20231202T210000
DTSTAMP:20260422T222228
CREATED:20231031T233952Z
LAST-MODIFIED:20231202T160818Z
UID:10005477-1701540000-1701550800@mrvvillage.com
SUMMARY:Holiday Dining Experience at Tucker Hill
DESCRIPTION:A muti-course food and beverage experience featuring local cheeses with Mary Tuthill (ASCCP) of Mad River Taste Place\, local meats with Josh Turka of 5th Quarter Butchery and cocktails and wine selected by Stephen White\, WSET II. \nCost: $95 per person\, tax and gratuity additional\nReservations are needed\, please call 802-496-3983
URL:https://mrvvillage.com/event/holiday-dining-experience-at-tucker-hill/
LOCATION:Tucker Hill Inn\, 65 Marble Hill Road\, Waitsfield\, 05673
CATEGORIES:Community,Dining,Food & Drink
ATTACH;FMTTYPE=image/png:https://mrvvillage.com/wp-content/uploads/2023/10/tuckerhill-grey-lA4E3R.tmp_.png
ORGANIZER;CN="Tucker%20Hill%20Inn":MAILTO:stephen@tuckerhill.com
GEO:44.1816177;-72.8652725
X-APPLE-STRUCTURED-LOCATION;VALUE=URI;X-ADDRESS=Tucker Hill Inn 65 Marble Hill Road Waitsfield 05673;X-APPLE-RADIUS=500;X-TITLE=65 Marble Hill Road:geo:-72.8652725,44.1816177
END:VEVENT
END:VCALENDAR