BEGIN:VCALENDAR
VERSION:2.0
PRODID:-//The Mad River Valley Village - ECPv6.0.13//NONSGML v1.0//EN
CALSCALE:GREGORIAN
METHOD:PUBLISH
X-ORIGINAL-URL:https://mrvvillage.com
X-WR-CALDESC:Events for The Mad River Valley Village
REFRESH-INTERVAL;VALUE=DURATION:PT1H
X-Robots-Tag:noindex
X-PUBLISHED-TTL:PT1H
BEGIN:VTIMEZONE
TZID:America/New_York
BEGIN:DAYLIGHT
TZOFFSETFROM:-0500
TZOFFSETTO:-0400
TZNAME:EDT
DTSTART:20230312T070000
END:DAYLIGHT
BEGIN:STANDARD
TZOFFSETFROM:-0400
TZOFFSETTO:-0500
TZNAME:EST
DTSTART:20231105T060000
END:STANDARD
END:VTIMEZONE
BEGIN:VEVENT
DTSTART;TZID=America/New_York:20231207T060000
DTEND;TZID=America/New_York:20231207T200000
DTSTAMP:20260420T100346
CREATED:20230908T103229Z
LAST-MODIFIED:20230918T122650Z
UID:10005152-1701928800-1701979200@mrvvillage.com
SUMMARY:Live Music Thursdays at The Filling Station
DESCRIPTION:Join us for The Filling Station’s Thursday night music series! Check out the line-up: \n  \n8/17 – Ali T \n8/24 –  Tom Bisson \n8/31 – The Rough Suspects – Acoustic Duo
URL:https://mrvvillage.com/event/live-music-thursdays-at-the-filling-station-17/
LOCATION:Filling Station\, Rt 2\, Middlesex\, Vermont\, 05068\, United States
CATEGORIES:Arts & Entertainment,Food & Drink
ATTACH;FMTTYPE=image/png:https://mrvvillage.com/wp-content/uploads/2023/08/Screen-Shot-2023-08-14-at-8.30.57-AM-ovEsEz.tmp_.png
ORGANIZER;CN="Filling%20Station":MAILTO:fillingstationvt@gmail.com
GEO:43.7761665;-72.5166728
X-APPLE-STRUCTURED-LOCATION;VALUE=URI;X-ADDRESS=Filling Station Rt 2 Middlesex Vermont 05068 United States;X-APPLE-RADIUS=500;X-TITLE=Rt 2:geo:-72.5166728,43.7761665
END:VEVENT
BEGIN:VEVENT
DTSTART;TZID=America/New_York:20231208T180000
DTEND;TZID=America/New_York:20231208T193000
DTSTAMP:20260420T100346
CREATED:20231121T220859Z
LAST-MODIFIED:20231208T173819Z
UID:10005550-1702058400-1702063800@mrvvillage.com
SUMMARY:A Guided Champagne Tasting
DESCRIPTION:We’re in the season of celebration\, and for many of us\, our calendars are filling up with holiday festivities\, office parties\, and New Year’s Eve extravaganzas. Add The Local to your plans because we have a tasting event coming up that celebrates the joys of champagne. The Local’s own Sarah Nagle will be exploring five of her favorite champagnes. Says Sarah\, “Champagne is synonymous with celebration\, and I can’t think of a better way to kick off the holiday season than to pop some bottles! I picked these Champagnes because I want to steer people from the bigger brands towards the smaller\, higher-quality producers who actually farm their own land and grow their own grapes. Each Champagne I have selected is a slightly different style\, from Brut to Demi-Sec to vintage\, and I feel confident that everyone will leave having found something that they love.”
URL:https://mrvvillage.com/event/a-guided-champagne-tasting/
LOCATION:The Local: Wine & Beer\, 961 US Route 2\, Middlesex\, VT\, 05602\, United States
CATEGORIES:Community,Food & Drink
ATTACH;FMTTYPE=image/png:https://mrvvillage.com/wp-content/uploads/2023/11/Styles_of_Champagne-e9gKN9.tmp_.png
ORGANIZER;CN="The%20Local%3A%20Wine%20%26%23038%3B%20Beer":MAILTO:info@thelocalvt.com
GEO:44.2943225;-72.6828326
X-APPLE-STRUCTURED-LOCATION;VALUE=URI;X-ADDRESS=The Local: Wine & Beer 961 US Route 2 Middlesex VT 05602 United States;X-APPLE-RADIUS=500;X-TITLE=961 US Route 2:geo:-72.6828326,44.2943225
END:VEVENT
BEGIN:VEVENT
DTSTART;TZID=America/New_York:20231209T140000
DTEND;TZID=America/New_York:20231209T160000
DTSTAMP:20260420T100346
CREATED:20231116T215409Z
LAST-MODIFIED:20231209T175321Z
UID:10005535-1702130400-1702137600@mrvvillage.com
SUMMARY:Jolly Gingerbread Decorating 2023
DESCRIPTION:Celebrate the season with this sweet holiday tradition! Gather at the Barn at the 1824 House Inn with Taste Place General Manager and Culinary Institute-trained pastry chef Mary Tuthill for a family-friendly afternoon event filled with gingerbread decorating ideas. \nHenders Bake Shop gingerbread houses will be pre-assembled and ready for your festive flair.
URL:https://mrvvillage.com/event/jolly-gingerbread-decorating-2023/
LOCATION:1824 House\, 2150 Main St.\, Waitsfield\, VT\, 05673
CATEGORIES:Arts & Entertainment,Community,Family Friendly,Food & Drink
ATTACH;FMTTYPE=image/png:https://mrvvillage.com/wp-content/uploads/2023/11/IMG_6618-jcmvJa.tmp_.png
ORGANIZER;CN="Mad%20River%20Taste%20Place":MAILTO:info@madrivertaste.com
GEO:44.1926386;-72.7798479
X-APPLE-STRUCTURED-LOCATION;VALUE=URI;X-ADDRESS=1824 House 2150 Main St. Waitsfield VT 05673;X-APPLE-RADIUS=500;X-TITLE=2150 Main St.:geo:-72.7798479,44.1926386
END:VEVENT
BEGIN:VEVENT
DTSTART;TZID=America/New_York:20231209T140000
DTEND;TZID=America/New_York:20231209T160000
DTSTAMP:20260420T100346
CREATED:20231125T152351Z
LAST-MODIFIED:20231209T175321Z
UID:10005627-1702130400-1702137600@mrvvillage.com
SUMMARY:Warren Store Holiday Baking Class
DESCRIPTION:The lead baker at the Warren Store\, Jordan Holmes\, will share her holiday baking talents on December 9 with a small\, exclusive group (limit eight eager bakers) to learn how to bake the classic European holiday treat Buche de Noel. Yum! All guests will also receive an embroidered apron. For details and to reserve your spot\, call The Pitcher Inn at 802.496.6350 or book on the Tock app.
URL:https://mrvvillage.com/event/warren-store-holiday-baking-class/
LOCATION:Warren Store\, 284 Main Street\, Warren\, 05674
CATEGORIES:Community,Food & Drink
GEO:44.118347;-72.8576681
X-APPLE-STRUCTURED-LOCATION;VALUE=URI;X-ADDRESS=Warren Store 284 Main Street Warren 05674;X-APPLE-RADIUS=500;X-TITLE=284 Main Street:geo:-72.8576681,44.118347
END:VEVENT
BEGIN:VEVENT
DTSTART;TZID=America/New_York:20231210T083000
DTEND;TZID=America/New_York:20231210T111500
DTSTAMP:20260420T100346
CREATED:20231207T172346Z
LAST-MODIFIED:20231210T180831Z
UID:10005683-1702197000-1702206900@mrvvillage.com
SUMMARY:Community Holiday Breakfast Buffet
DESCRIPTION:There will be a Holiday Breakfast open to all community members Sunday\, December 10th from 8:30 to 11:15am at St. Leo’s Hall 109 South Main Street in Waterbury directly behind St. Andrew’s Church. \nAdmission is free\, donations will be accepted to benefit the Charity fund of Knights of Columbus Council 2985. \nA special Holiday VIP has been invited\, so bring the kids! \nThe council supports many local foodshelves and providers of services to those in need. Other projects are the Coats for Kids program\, support for the Kurn Hattin Homes for Children\, Scholarships for high school seniors and many more. \nContact: Steve Longchamp 802-343-9453
URL:https://mrvvillage.com/event/community-holiday-breakfast-buffet/
LOCATION:St. Leo’s Hall\, 109 S Main St\, Waterbury\, VT\, United States
CATEGORIES:Community,Family Friendly,Food & Drink,Public Welcome,Special Events
ORGANIZER;CN="Knights%20of%20Columbus%20Council%202085%20Waterbury":MAILTO:longchampsteve@gmail.com
GEO:44.3321993;-72.7514276
X-APPLE-STRUCTURED-LOCATION;VALUE=URI;X-ADDRESS=St. Leo’s Hall 109 S Main St Waterbury VT United States;X-APPLE-RADIUS=500;X-TITLE=109 S Main St:geo:-72.7514276,44.3321993
END:VEVENT
END:VCALENDAR