BEGIN:VCALENDAR
VERSION:2.0
PRODID:-//The Mad River Valley Village - ECPv6.0.13//NONSGML v1.0//EN
CALSCALE:GREGORIAN
METHOD:PUBLISH
X-WR-CALNAME:The Mad River Valley Village
X-ORIGINAL-URL:https://mrvvillage.com
X-WR-CALDESC:Events for The Mad River Valley Village
REFRESH-INTERVAL;VALUE=DURATION:PT1H
X-Robots-Tag:noindex
X-PUBLISHED-TTL:PT1H
BEGIN:VTIMEZONE
TZID:America/New_York
BEGIN:DAYLIGHT
TZOFFSETFROM:-0500
TZOFFSETTO:-0400
TZNAME:EDT
DTSTART:20230312T070000
END:DAYLIGHT
BEGIN:STANDARD
TZOFFSETFROM:-0400
TZOFFSETTO:-0500
TZNAME:EST
DTSTART:20231105T060000
END:STANDARD
END:VTIMEZONE
BEGIN:VEVENT
DTSTART;TZID=America/New_York:20231214T060000
DTEND;TZID=America/New_York:20231214T200000
DTSTAMP:20260422T204235
CREATED:20230915T121444Z
LAST-MODIFIED:20230918T122702Z
UID:10005235-1702533600-1702584000@mrvvillage.com
SUMMARY:Live Music Thursdays at The Filling Station
DESCRIPTION:Join us for The Filling Station’s Thursday night music series! Check out the line-up: \n  \n8/17 – Ali T \n8/24 –  Tom Bisson \n8/31 – The Rough Suspects – Acoustic Duo
URL:https://mrvvillage.com/event/live-music-thursdays-at-the-filling-station-18/
LOCATION:Filling Station\, Rt 2\, Middlesex\, Vermont\, 05068\, United States
CATEGORIES:Arts & Entertainment,Food & Drink
ATTACH;FMTTYPE=image/png:https://mrvvillage.com/wp-content/uploads/2023/08/Screen-Shot-2023-08-14-at-8.30.57-AM-ovEsEz.tmp_.png
ORGANIZER;CN="Filling%20Station":MAILTO:fillingstationvt@gmail.com
GEO:43.7761665;-72.5166728
X-APPLE-STRUCTURED-LOCATION;VALUE=URI;X-ADDRESS=Filling Station Rt 2 Middlesex Vermont 05068 United States;X-APPLE-RADIUS=500;X-TITLE=Rt 2:geo:-72.5166728,43.7761665
END:VEVENT
BEGIN:VEVENT
DTSTART;TZID=America/New_York:20231214T180000
DTEND;TZID=America/New_York:20231214T193000
DTSTAMP:20260422T204235
CREATED:20231121T220916Z
LAST-MODIFIED:20231214T190816Z
UID:10005551-1702576800-1702582200@mrvvillage.com
SUMMARY:A Guided Tasting: The Champagnes of Andre Clouét
DESCRIPTION:We’re in the season of celebration\, and for many of us\, our calendars are filling up with holiday festivities\, office parties\, and New Year’s Eve extravaganzas. Add The Local to your plans because we have a tasting event coming up that celebrates the joys of champagne. Chris Campbell of Village Wine Imports will be sharing five amazing and exclusive champagnes from producer Andre Clouét. We’ve tasted these champagnes – absolutely incredible. Chris’ ability to talk us through the personality of each champagne and how it’s made – truly engaging. These champagnes are produced in very limited quantities and exported to five continents\, so The Local is very proud to have secured some for our shop so we could to offer them to you.
URL:https://mrvvillage.com/event/a-guided-tasting-the-champagnes-of-andre-clouet/
LOCATION:The Local: Wine & Beer\, 961 US Route 2\, Middlesex\, VT\, 05602\, United States
CATEGORIES:Food & Drink
ATTACH;FMTTYPE=image/png:https://mrvvillage.com/wp-content/uploads/2023/11/Andre_Clouet_Champagnes-aEP9d6.tmp_.png
ORGANIZER;CN="The%20Local%3A%20Wine%20%26%23038%3B%20Beer":MAILTO:info@thelocalvt.com
GEO:44.2943225;-72.6828326
X-APPLE-STRUCTURED-LOCATION;VALUE=URI;X-ADDRESS=The Local: Wine & Beer 961 US Route 2 Middlesex VT 05602 United States;X-APPLE-RADIUS=500;X-TITLE=961 US Route 2:geo:-72.6828326,44.2943225
END:VEVENT
BEGIN:VEVENT
DTSTART;TZID=America/New_York:20231216T090000
DTEND;TZID=America/New_York:20231216T110000
DTSTAMP:20260422T204235
CREATED:20231123T145347Z
LAST-MODIFIED:20231216T192315Z
UID:10005555-1702717200-1702724400@mrvvillage.com
SUMMARY:Breakfast with Santa at Rumble’s
DESCRIPTION:Come see Santa and make your Christmas wish! This holiday tradition is filled with fun and a wonderful chance to see your little ones make magic with Santa. Parents can take photos of children while they are sitting on Santa’s lap! Rumble’s Bistro & Bar will be open for dining during and after the event.
URL:https://mrvvillage.com/event/breakfast-with-santa-at-rumbles/
LOCATION:Sugarbush Resort\, 102 Forest Drive Warren\, VT 05674\, Warren\, 05674
CATEGORIES:Family Friendly,Food & Drink,Sugarbush
ATTACH;FMTTYPE=image/jpeg:https://mrvvillage.com/wp-content/uploads/2023/11/breakfast-with-santa-1-ZLLqmC.tmp_.jpg
GEO:44.1272818;-72.9284492
X-APPLE-STRUCTURED-LOCATION;VALUE=URI;X-ADDRESS=Sugarbush Resort 102 Forest Drive Warren VT 05674 Warren 05674;X-APPLE-RADIUS=500;X-TITLE=102 Forest Drive Warren\, VT 05674:geo:-72.9284492,44.1272818
END:VEVENT
BEGIN:VEVENT
DTSTART;TZID=America/New_York:20231216T140000
DTEND;TZID=America/New_York:20231216T190000
DTSTAMP:20260422T204235
CREATED:20231123T145404Z
LAST-MODIFIED:20231216T192316Z
UID:10005558-1702735200-1702753200@mrvvillage.com
SUMMARY:Live Après Music
DESCRIPTION:Enjoy live music and a hoppin’ après scene throughout the resort. Live music will take place at the locations listed below:2:30 – 5:30 PM at the Wunderbar with Ragged Co.3:00 – 6:00 PM at Castlerock Pub with Guitfiddle4:00 – 7:00 PM at Rumble’s Bistro & Bar with Kind Bud
URL:https://mrvvillage.com/event/live-apres-music-2/
LOCATION:Sugarbush Resort\, 102 Forest Drive Warren\, VT 05674\, Warren\, 05674
CATEGORIES:Food & Drink,Sugarbush
ATTACH;FMTTYPE=image/jpeg:https://mrvvillage.com/wp-content/uploads/2023/11/live-music-7j3VI5.tmp_.jpg
GEO:44.1272818;-72.9284492
X-APPLE-STRUCTURED-LOCATION;VALUE=URI;X-ADDRESS=Sugarbush Resort 102 Forest Drive Warren VT 05674 Warren 05674;X-APPLE-RADIUS=500;X-TITLE=102 Forest Drive Warren\, VT 05674:geo:-72.9284492,44.1272818
END:VEVENT
END:VCALENDAR