BEGIN:VCALENDAR
VERSION:2.0
PRODID:-//The Mad River Valley Village - ECPv6.0.13//NONSGML v1.0//EN
CALSCALE:GREGORIAN
METHOD:PUBLISH
X-WR-CALNAME:The Mad River Valley Village
X-ORIGINAL-URL:https://mrvvillage.com
X-WR-CALDESC:Events for The Mad River Valley Village
REFRESH-INTERVAL;VALUE=DURATION:PT1H
X-Robots-Tag:noindex
X-PUBLISHED-TTL:PT1H
BEGIN:VTIMEZONE
TZID:America/New_York
BEGIN:DAYLIGHT
TZOFFSETFROM:-0500
TZOFFSETTO:-0400
TZNAME:EDT
DTSTART:20230312T070000
END:DAYLIGHT
BEGIN:STANDARD
TZOFFSETFROM:-0400
TZOFFSETTO:-0500
TZNAME:EST
DTSTART:20231105T060000
END:STANDARD
END:VTIMEZONE
BEGIN:VEVENT
DTSTART;TZID=America/New_York:20231225T000000
DTEND;TZID=America/New_York:20231225T235959
DTSTAMP:20260420T100743
CREATED:20231218T193842Z
LAST-MODIFIED:20231225T210832Z
UID:10005719-1703462400-1703548799@mrvvillage.com
SUMMARY:Trivia Night
DESCRIPTION:Show off how smart you are and win prizes while dining and imbibing!!
URL:https://mrvvillage.com/event/trivia-night-2/
LOCATION:Emily’s Bar & Bistro\, 5081 Main Street\, Waitsfield\, VT\, 056673
CATEGORIES:Arts & Entertainment,Community,Food & Drink
ATTACH;FMTTYPE=image/png:https://mrvvillage.com/wp-content/uploads/2023/12/IMG_1148-xpD5vR.tmp_.png
GEO:44.1926386;-72.7798479
X-APPLE-STRUCTURED-LOCATION;VALUE=URI;X-ADDRESS=Emily’s Bar & Bistro 5081 Main Street Waitsfield VT 056673;X-APPLE-RADIUS=500;X-TITLE=5081 Main Street:geo:-72.7798479,44.1926386
END:VEVENT
BEGIN:VEVENT
DTSTART;TZID=America/New_York:20231226T130000
DTEND;TZID=America/New_York:20231226T160000
DTSTAMP:20260420T100743
CREATED:20231123T145428Z
LAST-MODIFIED:20231226T212326Z
UID:10005568-1703595600-1703606400@mrvvillage.com
SUMMARY:Live Après Music
DESCRIPTION:Enjoy live music and a hoppin’ après scene throughout the resort. Live music will take place at the locations listed below:1:00 PM – 4:00 PM in the Lincoln Peak Courtyard with Chicky Stoltz
URL:https://mrvvillage.com/event/live-apres-music-5/
LOCATION:Sugarbush Resort\, 102 Forest Drive Warren\, VT 05674\, Warren\, 05674
CATEGORIES:Food & Drink,Sugarbush
ATTACH;FMTTYPE=image/jpeg:https://mrvvillage.com/wp-content/uploads/2023/11/live-music-7j3VI5.tmp_.jpg
GEO:44.1272818;-72.9284492
X-APPLE-STRUCTURED-LOCATION;VALUE=URI;X-ADDRESS=Sugarbush Resort 102 Forest Drive Warren VT 05674 Warren 05674;X-APPLE-RADIUS=500;X-TITLE=102 Forest Drive Warren\, VT 05674:geo:-72.9284492,44.1272818
END:VEVENT
BEGIN:VEVENT
DTSTART;TZID=America/New_York:20231227T130000
DTEND;TZID=America/New_York:20231227T160000
DTSTAMP:20260420T100743
CREATED:20231123T145428Z
LAST-MODIFIED:20231227T213821Z
UID:10005569-1703682000-1703692800@mrvvillage.com
SUMMARY:Live Après Music
DESCRIPTION:Enjoy live music and a hoppin’ après scene throughout the resort. Live music will take place at the locations listed below:1:00 PM – 4:00 PM in the Lincoln Peak Courtyard with Brendan Guidys
URL:https://mrvvillage.com/event/live-apres-music-6/
LOCATION:Sugarbush Resort\, 102 Forest Drive Warren\, VT 05674\, Warren\, 05674
CATEGORIES:Food & Drink,Sugarbush
ATTACH;FMTTYPE=image/jpeg:https://mrvvillage.com/wp-content/uploads/2023/11/live-music-7j3VI5.tmp_.jpg
GEO:44.1272818;-72.9284492
X-APPLE-STRUCTURED-LOCATION;VALUE=URI;X-ADDRESS=Sugarbush Resort 102 Forest Drive Warren VT 05674 Warren 05674;X-APPLE-RADIUS=500;X-TITLE=102 Forest Drive Warren\, VT 05674:geo:-72.9284492,44.1272818
END:VEVENT
BEGIN:VEVENT
DTSTART;TZID=America/New_York:20231228T130000
DTEND;TZID=America/New_York:20231228T160000
DTSTAMP:20260420T100743
CREATED:20231123T145448Z
LAST-MODIFIED:20231228T215325Z
UID:10005574-1703768400-1703779200@mrvvillage.com
SUMMARY:Live Après Music
DESCRIPTION:Enjoy live music and a hoppin’ après scene throughout the resort. Live music will take place at the locations listed below:1:00 PM – 4:00 PM in the Lincoln Peak Courtyard with Brendan Gilhuly3:00 PM – 6:00 PM at Green Mountain Lounge with Fabulous Wrecks
URL:https://mrvvillage.com/event/live-apres-music-7/
LOCATION:Sugarbush Resort\, 102 Forest Drive Warren\, VT 05674\, Warren\, 05674
CATEGORIES:Food & Drink,Sugarbush
ATTACH;FMTTYPE=image/jpeg:https://mrvvillage.com/wp-content/uploads/2023/11/live-music-7j3VI5.tmp_.jpg
GEO:44.1272818;-72.9284492
X-APPLE-STRUCTURED-LOCATION;VALUE=URI;X-ADDRESS=Sugarbush Resort 102 Forest Drive Warren VT 05674 Warren 05674;X-APPLE-RADIUS=500;X-TITLE=102 Forest Drive Warren\, VT 05674:geo:-72.9284492,44.1272818
END:VEVENT
BEGIN:VEVENT
DTSTART;TZID=America/New_York:20231228T170000
DTEND;TZID=America/New_York:20231228T200000
DTSTAMP:20260420T100743
CREATED:20231227T213822Z
LAST-MODIFIED:20231228T215325Z
UID:10005790-1703782800-1703793600@mrvvillage.com
SUMMARY:Live Music at Emily’s Bar & Bistro
DESCRIPTION:
URL:https://mrvvillage.com/event/live-music-at-emilys-bar-bistro/
LOCATION:Emily’s Bar & Bistro\, 5081 Main Street\, Waitsfield\, VT\, 056673
CATEGORIES:Arts & Entertainment,Food & Drink
ATTACH;FMTTYPE=image/jpeg:https://mrvvillage.com/wp-content/uploads/2023/12/image_123650291-HKB719.tmp_.jpg
GEO:44.1926386;-72.7798479
X-APPLE-STRUCTURED-LOCATION;VALUE=URI;X-ADDRESS=Emily’s Bar & Bistro 5081 Main Street Waitsfield VT 056673;X-APPLE-RADIUS=500;X-TITLE=5081 Main Street:geo:-72.7798479,44.1926386
END:VEVENT
BEGIN:VEVENT
DTSTART;TZID=America/New_York:20231229T150000
DTEND;TZID=America/New_York:20231229T180000
DTSTAMP:20260420T100743
CREATED:20231123T145450Z
LAST-MODIFIED:20231229T220820Z
UID:10005578-1703862000-1703872800@mrvvillage.com
SUMMARY:Live Après Music
DESCRIPTION:Enjoy live music and a hoppin’ après scene throughout the resort. Live music will take place at the locations listed below:3:00 – 6:00 PM at Castlerock Pub with Kip and Coe3:00 PM – 6:00 PM at Green Mountain Lounge with Brett Hughes and Friends
URL:https://mrvvillage.com/event/live-apres-music-8/
LOCATION:Sugarbush Resort\, 102 Forest Drive Warren\, VT 05674\, Warren\, 05674
CATEGORIES:Food & Drink,Sugarbush
ATTACH;FMTTYPE=image/jpeg:https://mrvvillage.com/wp-content/uploads/2023/11/live-music-7j3VI5.tmp_.jpg
GEO:44.1272818;-72.9284492
X-APPLE-STRUCTURED-LOCATION;VALUE=URI;X-ADDRESS=Sugarbush Resort 102 Forest Drive Warren VT 05674 Warren 05674;X-APPLE-RADIUS=500;X-TITLE=102 Forest Drive Warren\, VT 05674:geo:-72.9284492,44.1272818
END:VEVENT
BEGIN:VEVENT
DTSTART;TZID=America/New_York:20231230T150000
DTEND;TZID=America/New_York:20231230T190000
DTSTAMP:20260420T100743
CREATED:20231123T145507Z
LAST-MODIFIED:20231230T222327Z
UID:10005582-1703948400-1703962800@mrvvillage.com
SUMMARY:Live Après Music
DESCRIPTION:Enjoy live music and a hoppin’ après scene throughout the resort. Live music will take place at the locations listed below:2:30 – 5:30 PM at the Wunderbar with Rodney Putnam3:00 – 6:00 PM at Castlerock Pub with John Lackard Band3:00 PM – 6:00 PM at Green Mountain Lounge with Kind Bud4:00 – 7:00 PM at Rumble’s Bistro and Bar with David O Duo
URL:https://mrvvillage.com/event/live-apres-music-9/
LOCATION:Sugarbush Resort\, 102 Forest Drive Warren\, VT 05674\, Warren\, 05674
CATEGORIES:Food & Drink,Sugarbush
ATTACH;FMTTYPE=image/jpeg:https://mrvvillage.com/wp-content/uploads/2023/11/live-music-7j3VI5.tmp_.jpg
GEO:44.1272818;-72.9284492
X-APPLE-STRUCTURED-LOCATION;VALUE=URI;X-ADDRESS=Sugarbush Resort 102 Forest Drive Warren VT 05674 Warren 05674;X-APPLE-RADIUS=500;X-TITLE=102 Forest Drive Warren\, VT 05674:geo:-72.9284492,44.1272818
END:VEVENT
BEGIN:VEVENT
DTSTART;TZID=America/New_York:20231231T150000
DTEND;TZID=America/New_York:20231231T190000
DTSTAMP:20260420T100743
CREATED:20231123T145510Z
LAST-MODIFIED:20231231T223821Z
UID:10005585-1704034800-1704049200@mrvvillage.com
SUMMARY:Live Après Music
DESCRIPTION:Enjoy live music and a hoppin’ après scene throughout the resort. Live music will take place at the locations listed below:2:30 – 5:30 PM at the Wunderbar with Jimmy Goodwin3:00 – 6:00 PM at Castlerock Pub with Amerikana Blue3:00 PM – 6:00 PM at Green Mountain Lounge with Hoh down4:00 – 7:00 PM at Rumble’s Bistro and Bar with Wayne CanneyStick around for Late Night Music with the Detonators at Castlerock Pub!
URL:https://mrvvillage.com/event/live-apres-music-10/
LOCATION:Sugarbush Resort\, 102 Forest Drive Warren\, VT 05674\, Warren\, 05674
CATEGORIES:Food & Drink,Sugarbush
ATTACH;FMTTYPE=image/jpeg:https://mrvvillage.com/wp-content/uploads/2023/11/live-music-7j3VI5.tmp_.jpg
GEO:44.1272818;-72.9284492
X-APPLE-STRUCTURED-LOCATION;VALUE=URI;X-ADDRESS=Sugarbush Resort 102 Forest Drive Warren VT 05674 Warren 05674;X-APPLE-RADIUS=500;X-TITLE=102 Forest Drive Warren\, VT 05674:geo:-72.9284492,44.1272818
END:VEVENT
BEGIN:VEVENT
DTSTART;TZID=America/New_York:20231231T170000
DTEND;TZID=America/New_York:20231231T203000
DTSTAMP:20260420T100743
CREATED:20231212T183946Z
LAST-MODIFIED:20231231T223821Z
UID:10005701-1704042000-1704054600@mrvvillage.com
SUMMARY:New Years Eve Dinner
DESCRIPTION:A special 5 course dinner. Reservations required.
URL:https://mrvvillage.com/event/new-years-eve-dinner/
LOCATION:Tucker Hill Inn\, 65 Marble Hill Road\, Waitsfield\, 05673
CATEGORIES:Community,Dining,Food & Drink
ATTACH;FMTTYPE=image/png:https://mrvvillage.com/wp-content/uploads/2023/12/thi-logo-fvq8Fm.tmp_.png
ORGANIZER;CN="Tucker%20Hill%20Inn":MAILTO:stephen@tuckerhill.com
GEO:44.1816177;-72.8652725
X-APPLE-STRUCTURED-LOCATION;VALUE=URI;X-ADDRESS=Tucker Hill Inn 65 Marble Hill Road Waitsfield 05673;X-APPLE-RADIUS=500;X-TITLE=65 Marble Hill Road:geo:-72.8652725,44.1816177
END:VEVENT
END:VCALENDAR