BEGIN:VCALENDAR
VERSION:2.0
PRODID:-//The Mad River Valley Village - ECPv6.0.13//NONSGML v1.0//EN
CALSCALE:GREGORIAN
METHOD:PUBLISH
X-ORIGINAL-URL:https://mrvvillage.com
X-WR-CALDESC:Events for The Mad River Valley Village
REFRESH-INTERVAL;VALUE=DURATION:PT1H
X-Robots-Tag:noindex
X-PUBLISHED-TTL:PT1H
BEGIN:VTIMEZONE
TZID:UTC
BEGIN:STANDARD
TZOFFSETFROM:+0000
TZOFFSETTO:+0000
TZNAME:UTC
DTSTART:20230101T000000
END:STANDARD
TZID:America/New_York
BEGIN:DAYLIGHT
TZOFFSETFROM:-0500
TZOFFSETTO:-0400
TZNAME:EDT
DTSTART:20230312T070000
END:DAYLIGHT
BEGIN:STANDARD
TZOFFSETFROM:-0400
TZOFFSETTO:-0500
TZNAME:EST
DTSTART:20231105T060000
END:STANDARD
END:VTIMEZONE
BEGIN:VEVENT
DTSTART;TZID=UTC:20230706T170000
DTEND;TZID=UTC:20230706T210000
DTSTAMP:20260422T003827
CREATED:20230607T074052Z
LAST-MODIFIED:20230706T205329Z
UID:10004078-1688662800-1688677200@mrvvillage.com
SUMMARY:Pub Music Series: Dave O
DESCRIPTION:Join us for live music\, food & drinks from 5:00-9:00pm. Music featuring Dave O
URL:https://mrvvillage.com/event/pub-music-series-dave-o/
CATEGORIES:Dining,Family Friendly,Live Music,Public Welcome
ATTACH;FMTTYPE=image/jpeg:https://mrvvillage.com/wp-content/uploads/2023/06/EatLocalLOGOMRB-pdf-afCR6P.tmp_.jpg
END:VEVENT
BEGIN:VEVENT
DTSTART;TZID=America/New_York:20230707T180000
DTEND;TZID=America/New_York:20230707T210000
DTSTAMP:20260422T003827
CREATED:20230705T170843Z
LAST-MODIFIED:20230707T210820Z
UID:10004257-1688752800-1688763600@mrvvillage.com
SUMMARY:The Grift at the Inn at the Round Barn Farm
DESCRIPTION:Lawson’s Finest Liquids is sponsoring a FREE concert featuring Vermont’s favorite band; The Grift! Food and beverages will be available for purchase from The Round Barn. Bring the whole family! \n\n\n\n  \n1\n 
URL:https://mrvvillage.com/event/the-grift-at-the-inn-at-the-round-barn-farm/
LOCATION:The Inn at Round Barn Farm\, 1661 East Warren Road\, Waitsfield\, VT\, 05673\, United States
CATEGORIES:Community,Family Friendly,Live Music
ATTACH;FMTTYPE=image/jpeg:https://mrvvillage.com/wp-content/uploads/2022/12/The-Grift-scVSpK.tmp_.jpg
ORGANIZER;CN="Inn%20at%20the%20Round%20Barn%20Farm":MAILTO:alexandra@theroundbarn.com
GEO:44.1676984;-72.8112143
X-APPLE-STRUCTURED-LOCATION;VALUE=URI;X-ADDRESS=The Inn at Round Barn Farm 1661 East Warren Road Waitsfield VT 05673 United States;X-APPLE-RADIUS=500;X-TITLE=1661 East Warren Road:geo:-72.8112143,44.1676984
END:VEVENT
BEGIN:VEVENT
DTSTART;TZID=America/New_York:20230708T140000
DTEND;TZID=America/New_York:20230708T170000
DTSTAMP:20260422T003827
CREATED:20230705T170916Z
LAST-MODIFIED:20230708T212411Z
UID:10004258-1688824800-1688835600@mrvvillage.com
SUMMARY:PEACE OF MIND at FIREFOLK ARTS
DESCRIPTION:Art + Food Pop Up\, featuring AAPI / Asian Artists and Filipino Food\, Desserts\, + Herbal Mocktails
URL:https://mrvvillage.com/event/peace-of-mind-at-firefolk-arts/
LOCATION:Firefolk Arts\, 4424 Main Street\, Waitsfield\, Vermont\, 05673\, United States
CATEGORIES:Arts & Entertainment,Community,Family Friendly,Live Music
ATTACH;FMTTYPE=image/jpeg:https://mrvvillage.com/wp-content/uploads/2023/07/M7nNK87o-ccBMoM.tmp_.jpg
ORGANIZER;CN="Tina%20Picz":MAILTO:tinapicz@gmail.com
GEO:44.1897106;-72.825057
X-APPLE-STRUCTURED-LOCATION;VALUE=URI;X-ADDRESS=Firefolk Arts 4424 Main Street Waitsfield Vermont 05673 United States;X-APPLE-RADIUS=500;X-TITLE=4424 Main Street:geo:-72.825057,44.1897106
END:VEVENT
BEGIN:VEVENT
DTSTART;TZID=UTC:20230713T170000
DTEND;TZID=UTC:20230713T210000
DTSTAMP:20260422T003827
CREATED:20230614T085544Z
LAST-MODIFIED:20230713T223821Z
UID:10004100-1689267600-1689282000@mrvvillage.com
SUMMARY:Pub Music Series: Jaded Ravins
DESCRIPTION:Join us for live music\, food & drinks from 5:00-9:00pm. Music featuring Jaded Ravins
URL:https://mrvvillage.com/event/pub-music-series-jaded-ravins/
CATEGORIES:Dining,Family Friendly,Live Music,Public Welcome
END:VEVENT
BEGIN:VEVENT
DTSTART;TZID=America/New_York:20230720T162000
DTEND;TZID=America/New_York:20230720T190000
DTSTAMP:20260422T003827
CREATED:20230709T214014Z
LAST-MODIFIED:20230720T205359Z
UID:10004324-1689870000-1689879600@mrvvillage.com
SUMMARY:Kind Bud & Nug play Valley Meade Dispensary
DESCRIPTION:Kind Bud and Nug play a free concert on the deck above Valley Meade Dispensary with food trucks outside. . With a repertoire of over 780 tunes\, Kind Bud welcomes audience interaction and welcomes song requests.\nNug will be joining Kind Bud on percussion. Bring a chair or put on your dancing shoes for a good time. \n\nKind Bud is a guitarist and singer/songwriter from Vermont\, performing over 1\,000 shows across the United States. Throughout his career\, Bud has shared the stage with Oteil Burbridge (Dead & Company/Allman Brothers) David Gans\, Michael Falzarano and other members of the New Riders of the Purple Sage and for 12 years\, with his twin brother “Budd”\,as The Kind Buds. \nBud has performed at music festivals such as the Gathering of the Vibes and the Oregon Country Fair and at venues that include Sweetwater\, Fairfield Theatre Company\, and Mexicali Live. During the Grateful Dead Fare Thee Well Shows\, The Kind Buds performed 3 pre-shows at the Hyatt Regency Chicago. As a soloist\, Kind Bud is the poolside musician for Island Gigs\, a music destination resort in Jamaica and during the winter\, one might find Bud playing an apres ski event at Sugarbush\, Stowe\, Killington\, Jay Peak; Whaleback; Okeemo; Bromley Mountain.  Readers may have seen Nug performing on a full kit as the first drummer of Double You or leading the Blizzard Boogie this past winter at Sugarbush Resort. \nKind Bud currently has 2 albums available for listening.  “Peace\, Love & Music”\, recorded live June 21\, 2019 at the Stonehenge Music Festival and  “Jenuine Kind Bud” ~ songs to uplift humanity inspired by the poetry of Jen Ward. Both  can be heard on your favorite streaming music station. \nhttps://open.spotify.com/album/58EaJlik7dhfeiCBmu2kId… \nhttps://music.apple.com/us/album/jenuine/1638327582 \nhttps://music.amazon.com/albums/B0B7Z1VZSV… \nhttps://www.pandora.com/…/kind-bud/jenuine/ALwqvmjf9fjvrZJ
URL:https://mrvvillage.com/event/kind-bud-nug-play-valley-meade-dispensary/
LOCATION:Valley Meade Dispensary\, 8 Vermont Route 17\, Waitsfield\, VT\, 05673
CATEGORIES:Arts & Entertainment,Food & Drink,Live Music
ATTACH;FMTTYPE=image/jpeg:https://mrvvillage.com/wp-content/uploads/2023/07/BudNug-Zen3-aQkAQA.tmp_.jpg
GEO:44.1816618;-72.8405082
X-APPLE-STRUCTURED-LOCATION;VALUE=URI;X-ADDRESS=Valley Meade Dispensary 8 Vermont Route 17 Waitsfield VT 05673;X-APPLE-RADIUS=500;X-TITLE=8 Vermont Route 17:geo:-72.8405082,44.1816618
END:VEVENT
BEGIN:VEVENT
DTSTART;TZID=UTC:20230720T170000
DTEND;TZID=UTC:20230720T210000
DTSTAMP:20260422T003827
CREATED:20230621T101058Z
LAST-MODIFIED:20230720T205359Z
UID:10004155-1689872400-1689886800@mrvvillage.com
SUMMARY:MRB Pub Music Series: Granville Daze
DESCRIPTION:Join us for live music\, food & drinks from 5:00-9:00pm. Music featuring Granville Daze
URL:https://mrvvillage.com/event/pub-music-series-granville-daze-2/
CATEGORIES:Dining,Family Friendly,Live Music,Public Welcome
END:VEVENT
BEGIN:VEVENT
DTSTART;TZID=America/New_York:20230721T190000
DTEND;TZID=America/New_York:20230721T203000
DTSTAMP:20260422T003827
CREATED:20230707T174104Z
LAST-MODIFIED:20230721T210826Z
UID:10004321-1689966000-1689971400@mrvvillage.com
SUMMARY:Play Every Town #37: Warren
DESCRIPTION:Play Every Town comes to Warren! \nLast May composer-pianist David Feurzeig embarked on Play Every Town: 252 free concerts in each of Vermont’s 252 towns to combat climate change through the power of community and music. With this project David will become the first musician to perform in every Vermont municipality. He is traveling in his solar-charged electric vehicle throughout the state\, offering free concerts to bring attention to the interrelated issues of climate and community\, and to call into question the normality of long-distance touring and travel\, while bringing the joy of music to his audiences.
URL:https://mrvvillage.com/event/play-every-town-37-warren/
LOCATION:Warren United Church\, 339 Main St\, Warren\, VT\, 05674\, United States
CATEGORIES:Arts & Entertainment,Community,Live Music
ATTACH;FMTTYPE=image/png:https://mrvvillage.com/wp-content/uploads/2023/07/lo-qual-9do4zR.tmp_.png
ORGANIZER;CN="Play%20Every%20Town":MAILTO:playeverytown@gmail.com
GEO:44.1136307;-72.8552884
X-APPLE-STRUCTURED-LOCATION;VALUE=URI;X-ADDRESS=Warren United Church 339 Main St Warren VT 05674 United States;X-APPLE-RADIUS=500;X-TITLE=339 Main St:geo:-72.8552884,44.1136307
END:VEVENT
BEGIN:VEVENT
DTSTART;TZID=UTC:20230727T170000
DTEND;TZID=UTC:20230727T210000
DTSTAMP:20260422T003827
CREATED:20230627T184107Z
LAST-MODIFIED:20230727T010823Z
UID:10004219-1690477200-1690491600@mrvvillage.com
SUMMARY:MRB Pub Music Series: Jaded Ravins
DESCRIPTION:Join us for live music\, food & drinks from 5:00-9:00pm. Music featuring Jaded Ravins
URL:https://mrvvillage.com/event/pub-music-series-jaded-ravins-2/
CATEGORIES:Dining,Family Friendly,Live Music,Public Welcome
END:VEVENT
BEGIN:VEVENT
DTSTART;TZID=UTC:20230727T170000
DTEND;TZID=UTC:20230727T210000
DTSTAMP:20260422T003827
CREATED:20230627T184107Z
LAST-MODIFIED:20230727T010823Z
UID:10004220-1690477200-1690491600@mrvvillage.com
SUMMARY:Pub Music Series: Jaded Ravins
DESCRIPTION:Join us for live music\, food & drinks from 5:00-9:00pm. Music featuring Jaded Ravins
URL:https://mrvvillage.com/event/pub-music-series-jaded-ravins-3/
CATEGORIES:Dining,Family Friendly,Live Music,Public Welcome
END:VEVENT
END:VCALENDAR