BEGIN:VCALENDAR
VERSION:2.0
PRODID:-//The Mad River Valley Village - ECPv6.0.13//NONSGML v1.0//EN
CALSCALE:GREGORIAN
METHOD:PUBLISH
X-WR-CALNAME:The Mad River Valley Village
X-ORIGINAL-URL:https://mrvvillage.com
X-WR-CALDESC:Events for The Mad River Valley Village
REFRESH-INTERVAL;VALUE=DURATION:PT1H
X-Robots-Tag:noindex
X-PUBLISHED-TTL:PT1H
BEGIN:VTIMEZONE
TZID:America/New_York
BEGIN:DAYLIGHT
TZOFFSETFROM:-0500
TZOFFSETTO:-0400
TZNAME:EDT
DTSTART:20260308T070000
END:DAYLIGHT
BEGIN:STANDARD
TZOFFSETFROM:-0400
TZOFFSETTO:-0500
TZNAME:EST
DTSTART:20261101T060000
END:STANDARD
END:VTIMEZONE
BEGIN:VEVENT
DTSTART;TZID=America/New_York:20260103T200000
DTEND;TZID=America/New_York:20260103T233000
DTSTAMP:20260421T210910
CREATED:20251231T155344Z
LAST-MODIFIED:20260103T213828Z
UID:10009578-1767470400-1767483000@mrvvillage.com
SUMMARY:THE UNDERDOGS
DESCRIPTION:Vermont Swamp Jams\nFeaturing Pappy Biondo- Banjo and Guitar\, Spencer Lewis- Fiddle and Guitar\, Jimmy Goodwin- Electric Guitar\, Eric Graham Electric Bass.
URL:https://mrvvillage.com/event/the-underdogs/
LOCATION:Cousin’s Brewing Comopany\, Rt 100/Rt 17\, Waitsfield\, VT\, 05673\, United States
CATEGORIES:Food & Drink,Live Music
ORGANIZER;CN="Cousins%20Brewing":MAILTO:CousinsBrewing@gmail.com
GEO:44.1926386;-72.7798479
X-APPLE-STRUCTURED-LOCATION;VALUE=URI;X-ADDRESS=Cousin’s Brewing Comopany Rt 100/Rt 17 Waitsfield VT 05673 United States;X-APPLE-RADIUS=500;X-TITLE=Rt 100/Rt 17:geo:-72.7798479,44.1926386
END:VEVENT
BEGIN:VEVENT
DTSTART;TZID=America/New_York:20260107T170000
DTEND;TZID=America/New_York:20260107T210000
DTSTAMP:20260421T210910
CREATED:20251209T154016Z
LAST-MODIFIED:20260107T223832Z
UID:10009399-1767805200-1767819600@mrvvillage.com
SUMMARY:LIVE MUSIC & PUB NIGHT Featuring Jenny & The Betz!
DESCRIPTION:Join us in the pub for all your favorite Mad River Barn menu items with live music from Jenny & The Betz! Open 5 pm – 9 pm. Live music every Wednesday in the winter!
URL:https://mrvvillage.com/event/live-music-pub-night-featuring-jenny-the-betz/
LOCATION:Mad River Barn
CATEGORIES:Dining,Family Friendly,Live Music,Public Welcome
ATTACH;FMTTYPE=image/png:https://mrvvillage.com/wp-content/uploads/2025/12/JennyAndTheBetz-oUOKWR-lc7BT2.png
GEO:44.195472;-72.8915611
END:VEVENT
BEGIN:VEVENT
DTSTART;TZID=America/New_York:20260110T200000
DTEND;TZID=America/New_York:20260110T230000
DTSTAMP:20260421T210910
CREATED:20260105T170906Z
LAST-MODIFIED:20260110T232332Z
UID:10009603-1768075200-1768086000@mrvvillage.com
SUMMARY:Dead Sessions (Lite)
DESCRIPTION:Cousins Brewing brings Dead Sessions Lite back to Waitsfield for two big sets of Grateful tunes and Deadly Improv on the themes. \nFeaturing Seth Yacovone ripping the Jerry Garcia riffs. The Faster We Go the Rounder We Get!
URL:https://mrvvillage.com/event/dead-sessions-lite/
LOCATION:Localfolk Smokehouse\, 9 VT-17\, Waitsfield\, 05673\, United States
CATEGORIES:Food & Drink,Live Music
ORGANIZER;CN="Cousins%20Brewing":MAILTO:CousinsBrewing@gmail.com
GEO:44.1808939;-72.8406134
X-APPLE-STRUCTURED-LOCATION;VALUE=URI;X-ADDRESS=Localfolk Smokehouse 9 VT-17 Waitsfield 05673 United States;X-APPLE-RADIUS=500;X-TITLE=9 VT-17:geo:-72.8406134,44.1808939
END:VEVENT
BEGIN:VEVENT
DTSTART;TZID=America/New_York:20260114T170000
DTEND;TZID=America/New_York:20260114T210000
DTSTAMP:20260421T210910
CREATED:20251216T121014Z
LAST-MODIFIED:20260114T192338Z
UID:10009475-1768410000-1768424400@mrvvillage.com
SUMMARY:LIVE MUSIC & PUB NIGHT Featuring Al’s Pals!
DESCRIPTION:Join us in the pub for all your favorite Mad River Barn menu items with live music from Al’s Pals! Open 5 pm – 9 pm. Live music every Wednesday in the winter!
URL:https://mrvvillage.com/event/live-music-pub-night-featuring-als-pals-21/
LOCATION:Mad River Barn
CATEGORIES:Dining,Family Friendly,Live Music,Public Welcome
ATTACH;FMTTYPE=image/png:https://mrvvillage.com/wp-content/uploads/2025/12/AlsPals-17tjU1-8aSJF0.png
GEO:44.195472;-72.8915611
END:VEVENT
BEGIN:VEVENT
DTSTART;TZID=America/New_York:20260117T150000
DTEND;TZID=America/New_York:20260117T170000
DTSTAMP:20260421T210910
CREATED:20251222T184027Z
LAST-MODIFIED:20260117T200836Z
UID:10009541-1768662000-1768669200@mrvvillage.com
SUMMARY:DragonBoot Returns!
DESCRIPTION:Eleva is proud to present the return of the award-winning string quartet\, DragonBoot\, based at Juilliard for an unforgettable Winter afternoon. These extra-ordinarily talented women will make you experience string music like you’ve never heard before. \nSaturday\, January 17\, 2026\, 3:00 PM\nWaterbury Congregational Church\n8 North Main\, Waterbury\, VT \nPROGRAM:\nBeethoven: String Quartet Op. 135\nShulamit Rhan: Glitter Shards and Doom: That Which Happened\nJanáček: String Quartet No. 2 “Intimate Letters”
URL:https://mrvvillage.com/event/dragonboot-returns/
LOCATION:Waterbury Congregational Church\, 8 N Main St\, Waterbury\, VT
CATEGORIES:Live Music
GEO:44.3378343;-72.756229
X-APPLE-STRUCTURED-LOCATION;VALUE=URI;X-ADDRESS=Waterbury Congregational Church 8 N Main St Waterbury VT;X-APPLE-RADIUS=500;X-TITLE=8 N Main St:geo:-72.756229,44.3378343
END:VEVENT
BEGIN:VEVENT
DTSTART;TZID=America/New_York:20260117T190000
DTEND;TZID=America/New_York:20260117T210000
DTSTAMP:20260421T210910
CREATED:20260107T223956Z
LAST-MODIFIED:20260117T200852Z
UID:10009677-1768676400-1768683600@mrvvillage.com
SUMMARY:Harwood Auditorium Revitalization Project at the Big Picture; Featuring Reid Parsons
DESCRIPTION:Harwood Alum\, Reid Parsons\, will return to the Mad River Valley to headline a fundraising concert for the Harwood Auditorium Revitalization Project at the Big Picture on Saturday\, January 17th. The show will celebrate the legacy of high-quality music education at Harwood by featuring Parsons and including the current HUHS student band\, the Glam Cowboys\, as the opening act. \nThe show is part of a concert series presented throughout the Harwood district to support HARP\, the Harwood Auditorium Revitalization Project. HARP was created to raise funds for key improvements that will benefit students\, educators\, and the broader community. The HARP seeks to transform an aging facility into a vibrant\, safe\, and fully equipped space that reflects the talent and dedication of our students and community. Despite years of excellence in our Music and Theater programs\, the theater itself has not been substantially renovated since 1997 and no longer meets the needs of modern performances. \nHarwood Theater Director Scott Weigand felt Parsons was a perfect choice to perform since she reflects the longstanding high caliber of the HUHS Music Department. A 2011 Harwood alum\, Parsons was very involved in the Harwood Music department and was the lead in “Annie Get Your Gun” in 2009\, the first Harwood show Weigand directed. \nParsons is now a Burlington-based singer-songwriter whose music blends soul\, folk\, blues\, and jazz-infused Americana into something both grounded and expansive. Her debut full-length album\, “Back to Back”\, released in the spring of 2025\, showcases her signature style: expressive vocals\, layered arrangements\, and songs that are as emotionally resonant as they are sonically rich. Written\, arranged\, and produced by Parsons herself\, the record moves confidently between intimate ballads and full-band tracks with a deep sense of groove and feeling. \nOpening the show for Parsons will be the Glam Cowboys\, Harwood’s next generation of talent\, made up of active members of the Harwood Music and Theater Departments. The Glam Cowboys are an indie-pop/rock band featuring Eireann McDonough on lead vocals\, Tarin Askew on guitar and vocals\, Cora Potts on drums\, Cali Neville on bass\, and Eliza Whitehair on keys.\nKnown for their coordinated attire and live energy\, they perform a diverse collection of original music. They have performed at venues such as Zen Barn\, Higher Ground\, Firefolk Arts\, and recently in MRVTV’s In-Studio Live Music Series. \nTickets are available at:\nhttps://www.bigpicturetheater.info/event-details/harwood-auditorium-revitalization-project-presen ts-reid-parsons
URL:https://mrvvillage.com/event/harwood-auditorium-revitalization-project-at-the-big-picture-featuring-reid-parsons/
LOCATION:Big Picture Theater\, 44 Carroll Road\, Waitsfield\, 05673
CATEGORIES:Arts & Entertainment,Community,Live Music
ATTACH;FMTTYPE=image/jpeg:https://mrvvillage.com/wp-content/uploads/2026/01/The-Harwood-Auditorium-Revitalization-Project-Presents-1-2-XE3eZx.jpg
GEO:44.1874779;-72.8335286
X-APPLE-STRUCTURED-LOCATION;VALUE=URI;X-ADDRESS=Big Picture Theater 44 Carroll Road Waitsfield 05673;X-APPLE-RADIUS=500;X-TITLE=44 Carroll Road:geo:-72.8335286,44.1874779
END:VEVENT
BEGIN:VEVENT
DTSTART;TZID=America/New_York:20260117T200000
DTEND;TZID=America/New_York:20260117T233000
DTSTAMP:20260421T210910
CREATED:20260113T190918Z
LAST-MODIFIED:20260117T200852Z
UID:10009730-1768680000-1768692600@mrvvillage.com
SUMMARY:THE REMNANTS
DESCRIPTION:Hard hitting Blues\, Rock and Soul… \nCome help us blow the doors off and dance till you drop with The Remnants at Cousins Brewing / Localfolk Smokehouse!
URL:https://mrvvillage.com/event/the-remnants/
LOCATION:Localfolk Smokehouse\, 9 VT-17\, Waitsfield\, 05673\, United States
CATEGORIES:Food & Drink,Live Music
ATTACH;FMTTYPE=image/jpeg:https://mrvvillage.com/wp-content/uploads/2026/01/unnamed-iu0E70.jpg
ORGANIZER;CN="Cousins%20Brewing":MAILTO:CousinsBrewing@gmail.com
GEO:44.1808939;-72.8406134
X-APPLE-STRUCTURED-LOCATION;VALUE=URI;X-ADDRESS=Localfolk Smokehouse 9 VT-17 Waitsfield 05673 United States;X-APPLE-RADIUS=500;X-TITLE=9 VT-17:geo:-72.8406134,44.1808939
END:VEVENT
BEGIN:VEVENT
DTSTART;TZID=America/New_York:20260121T170000
DTEND;TZID=America/New_York:20260121T210000
DTSTAMP:20260421T210910
CREATED:20260105T171019Z
LAST-MODIFIED:20260121T210838Z
UID:10009613-1769014800-1769029200@mrvvillage.com
SUMMARY:LIVE MUSIC & PUB NIGHT Featuring Ragged Company!
DESCRIPTION:Join us in the pub for all your favorite Mad River Barn menu items with live music from Ragged Company! Open 5 pm – 9 pm. Live music every Wednesday in the winter!
URL:https://mrvvillage.com/event/live-music-pub-night-featuring-ragged-company-7/
LOCATION:Mad River Barn
CATEGORIES:Dining,Family Friendly,Live Music,Public Welcome
ATTACH;FMTTYPE=image/png:https://mrvvillage.com/wp-content/uploads/2026/01/Copy-of-Music-Concert-Instagram-Post-YLab2r-3E5Pda.png
GEO:44.195472;-72.8915611
END:VEVENT
BEGIN:VEVENT
DTSTART;TZID=America/New_York:20260123T200000
DTEND;TZID=America/New_York:20260123T230000
DTSTAMP:20260421T210910
CREATED:20260120T205410Z
LAST-MODIFIED:20260123T213836Z
UID:10009758-1769198400-1769209200@mrvvillage.com
SUMMARY:OPEN MIC with EG And FRIENDS
DESCRIPTION:Start the evening enjoying a set by our house band\, EG And Friends. \nThen take over the stage\, or have EG And Friends back up your performance!
URL:https://mrvvillage.com/event/open-mic-with-eg-and-friends/
LOCATION:Localfolk Smokehouse\, 9 VT-17\, Waitsfield\, 05673\, United States
CATEGORIES:Live Music
ATTACH;FMTTYPE=image/jpeg:https://mrvvillage.com/wp-content/uploads/2026/01/openmic-KqlfNb.jpg
ORGANIZER;CN="Cousins%20Brewing":MAILTO:CousinsBrewing@gmail.com
GEO:44.1808939;-72.8406134
X-APPLE-STRUCTURED-LOCATION;VALUE=URI;X-ADDRESS=Localfolk Smokehouse 9 VT-17 Waitsfield 05673 United States;X-APPLE-RADIUS=500;X-TITLE=9 VT-17:geo:-72.8406134,44.1808939
END:VEVENT
BEGIN:VEVENT
DTSTART;TZID=America/New_York:20260124T200000
DTEND;TZID=America/New_York:20260124T233000
DTSTAMP:20260421T210910
CREATED:20260120T205424Z
LAST-MODIFIED:20260124T215335Z
UID:10009759-1769284800-1769297400@mrvvillage.com
SUMMARY:JADED RAVINS w/ Special Guests\, Pappy and EG Bishop
DESCRIPTION:An evening of exceptional musical talent. Guitar and banjo wizard Pappy Biondo\, and EG Bishop on bass\, set the tone with an opening set. \nNext up\, Kelly Ravin lets rips with his signature guitar riffs\, while complementing Jade’s soaring vocals.
URL:https://mrvvillage.com/event/jaded-ravins-w-special-guests-pappy-and-eg-bishop/
LOCATION:Localfolk Smokehouse\, 9 VT-17\, Waitsfield\, 05673\, United States
CATEGORIES:Live Music
ATTACH;FMTTYPE=image/jpeg:https://mrvvillage.com/wp-content/uploads/2026/01/jadedravins-cV7rov.jpg
ORGANIZER;CN="Cousins%20Brewing":MAILTO:CousinsBrewing@gmail.com
GEO:44.1808939;-72.8406134
X-APPLE-STRUCTURED-LOCATION;VALUE=URI;X-ADDRESS=Localfolk Smokehouse 9 VT-17 Waitsfield 05673 United States;X-APPLE-RADIUS=500;X-TITLE=9 VT-17:geo:-72.8406134,44.1808939
END:VEVENT
BEGIN:VEVENT
DTSTART;TZID=America/New_York:20260128T170000
DTEND;TZID=America/New_York:20260128T210000
DTSTAMP:20260421T210910
CREATED:20260105T171101Z
LAST-MODIFIED:20260128T225334Z
UID:10009619-1769619600-1769634000@mrvvillage.com
SUMMARY:LIVE MUSIC & PUB NIGHT Featuring The Loonz!
DESCRIPTION:Join us in the pub for all your favorite Mad River Barn menu items with live music from The Loonz! Open 5 pm – 9 pm. Live music every Wednesday in the winter!
URL:https://mrvvillage.com/event/live-music-pub-night-featuring-the-loonz-2/
LOCATION:Mad River Barn
CATEGORIES:Dining,Family Friendly,Live Music,Public Welcome
ATTACH;FMTTYPE=image/png:https://mrvvillage.com/wp-content/uploads/2026/01/Copy-of-Music-Concert-Instagram-Post-copy-eRvg3D-7hBCkk.png
GEO:44.195472;-72.8915611
END:VEVENT
BEGIN:VEVENT
DTSTART;TZID=America/New_York:20260129T000000
DTEND;TZID=America/New_York:20260129T235959
DTSTAMP:20260421T210910
CREATED:20260120T205453Z
LAST-MODIFIED:20260129T230838Z
UID:10009760-1769644800-1769731199@mrvvillage.com
SUMMARY:LIVE @ MRVTV is Back! Thursday\, January 29th @ 7PM with Magic User
DESCRIPTION:LIVE @ MRVTV is back with Montpelier-based band Magic User\, and you don’t want to miss it! Thursday\, January 29th @ 7PM \nJoin us LIVE in-studio at Mad River Valley TV (5033 Main St\, Waitsfield) \nFREE & BYOB! \nBroadcasting LIVE on Channel 44!
URL:https://mrvvillage.com/event/live-mrvtv-is-back-thursday-january-29th-7pm-with-magic-user/
LOCATION:Mad River Valley Television\, 5031 Main St\, Waitsfield\, VT\, 05673\, United States
CATEGORIES:Community,Live Music
ATTACH;FMTTYPE=image/png:https://mrvvillage.com/wp-content/uploads/2026/01/MAGIC-USER-LIVE-at-MRVTV-5lnPdC.png
GEO:44.1852267;-72.834515
X-APPLE-STRUCTURED-LOCATION;VALUE=URI;X-ADDRESS=Mad River Valley Television 5031 Main St Waitsfield VT 05673 United States;X-APPLE-RADIUS=500;X-TITLE=5031 Main St:geo:-72.834515,44.1852267
END:VEVENT
BEGIN:VEVENT
DTSTART;TZID=America/New_York:20260130T200000
DTEND;TZID=America/New_York:20260130T200000
DTSTAMP:20260421T210910
CREATED:20260120T205508Z
LAST-MODIFIED:20260130T232347Z
UID:10009761-1769803200-1769803200@mrvvillage.com
SUMMARY:FOREVER HOME SMOKESHOW
DESCRIPTION:A night of punk and rock with all Vermont bands and DJ. Join us for a damn good time on Friday\, January 30\, 2026. $15 tickets at the door.\nLocalfolk Smokehouse and Cousins Brewing in Waitsfield\, VT.\nWith your friends\nLunar Static @lunarstaticband\nThe Skizm @the.skizm\nRobbery @robberypunks\nand\nSnakefoot dj @snakexfoot
URL:https://mrvvillage.com/event/forever-home-smokeshow/
LOCATION:Localfolk Smokehouse\, 9 VT-17\, Waitsfield\, 05673\, United States
CATEGORIES:Live Music
ATTACH;FMTTYPE=image/jpeg:https://mrvvillage.com/wp-content/uploads/2026/01/punkshow-BUHOuG.jpg
ORGANIZER;CN="Cousins%20Brewing":MAILTO:CousinsBrewing@gmail.com
GEO:44.1808939;-72.8406134
X-APPLE-STRUCTURED-LOCATION;VALUE=URI;X-ADDRESS=Localfolk Smokehouse 9 VT-17 Waitsfield 05673 United States;X-APPLE-RADIUS=500;X-TITLE=9 VT-17:geo:-72.8406134,44.1808939
END:VEVENT
BEGIN:VEVENT
DTSTART;TZID=America/New_York:20260131T200000
DTEND;TZID=America/New_York:20260131T233000
DTSTAMP:20260421T210910
CREATED:20260127T223918Z
LAST-MODIFIED:20260131T233849Z
UID:10009799-1769889600-1769902200@mrvvillage.com
SUMMARY:BLUES WITHOT BORDERS
DESCRIPTION:Music steeped in the blues\, plus rock and soulful ballads.
URL:https://mrvvillage.com/event/blues-withot-borders/
LOCATION:Localfolk Smokehouse\, 9 VT-17\, Waitsfield\, 05673\, United States
CATEGORIES:Live Music
ATTACH;FMTTYPE=image/jpeg:https://mrvvillage.com/wp-content/uploads/2026/01/blues-iTaLwS.jpg
ORGANIZER;CN="Cousins%20Brewing":MAILTO:CousinsBrewing@gmail.com
GEO:44.1808939;-72.8406134
X-APPLE-STRUCTURED-LOCATION;VALUE=URI;X-ADDRESS=Localfolk Smokehouse 9 VT-17 Waitsfield 05673 United States;X-APPLE-RADIUS=500;X-TITLE=9 VT-17:geo:-72.8406134,44.1808939
END:VEVENT
END:VCALENDAR