BEGIN:VCALENDAR
VERSION:2.0
PRODID:-//The Mad River Valley Village - ECPv6.0.13//NONSGML v1.0//EN
CALSCALE:GREGORIAN
METHOD:PUBLISH
X-WR-CALNAME:The Mad River Valley Village
X-ORIGINAL-URL:https://mrvvillage.com
X-WR-CALDESC:Events for The Mad River Valley Village
REFRESH-INTERVAL;VALUE=DURATION:PT1H
X-Robots-Tag:noindex
X-PUBLISHED-TTL:PT1H
BEGIN:VTIMEZONE
TZID:America/New_York
BEGIN:DAYLIGHT
TZOFFSETFROM:-0500
TZOFFSETTO:-0400
TZNAME:EDT
DTSTART:20230312T070000
END:DAYLIGHT
BEGIN:STANDARD
TZOFFSETFROM:-0400
TZOFFSETTO:-0500
TZNAME:EST
DTSTART:20231105T060000
END:STANDARD
END:VTIMEZONE
BEGIN:VEVENT
DTSTART;TZID=America/New_York:20230610T110000
DTEND;TZID=America/New_York:20230610T130000
DTSTAMP:20260421T214721
CREATED:20230603T065410Z
LAST-MODIFIED:20230610T123826Z
UID:10004024-1686394800-1686402000@mrvvillage.com
SUMMARY:Cellos in the Morning
DESCRIPTION:Drop in to hear Suzanne Smith\, principal cellist of the Montpelier Chamber Orchestra\, and a group of friends and neighbors as they play pieces for cello ensemble. The family friendly event will also include several musical children’s stories in between and the group will be available for questions and give you a chance to get up close to a cello!
URL:https://mrvvillage.com/event/cellos-in-the-morning/
LOCATION:Moretown Town Hall and Library\, 1147 Route 100B\, Moretown\, 05660
CATEGORIES:Arts & Entertainment,Live Music
ATTACH;FMTTYPE=image/png:https://mrvvillage.com/wp-content/uploads/2023/06/Cello-in-the-Morning-Wt5wbD.tmp_.png
ORGANIZER;CN="Moretown%20Library":MAILTO:moretownlibrary@gmail.com
GEO:44.2476272;-72.7639304
X-APPLE-STRUCTURED-LOCATION;VALUE=URI;X-ADDRESS=Moretown Town Hall and Library 1147 Route 100B Moretown 05660;X-APPLE-RADIUS=500;X-TITLE=1147 Route 100B:geo:-72.7639304,44.2476272
END:VEVENT
END:VCALENDAR