BEGIN:VCALENDAR
VERSION:2.0
PRODID:-//The Mad River Valley Village - ECPv6.0.13//NONSGML v1.0//EN
CALSCALE:GREGORIAN
METHOD:PUBLISH
X-WR-CALNAME:The Mad River Valley Village
X-ORIGINAL-URL:https://mrvvillage.com
X-WR-CALDESC:Events for The Mad River Valley Village
REFRESH-INTERVAL;VALUE=DURATION:PT1H
X-Robots-Tag:noindex
X-PUBLISHED-TTL:PT1H
BEGIN:VTIMEZONE
TZID:UTC
BEGIN:STANDARD
TZOFFSETFROM:+0000
TZOFFSETTO:+0000
TZNAME:UTC
DTSTART:20230101T000000
END:STANDARD
END:VTIMEZONE
BEGIN:VEVENT
DTSTART;TZID=UTC:20230622T170000
DTEND;TZID=UTC:20230622T210000
DTSTAMP:20260421T215519
CREATED:20230523T212619Z
LAST-MODIFIED:20230622T172932Z
UID:10003995-1687453200-1687467600@mrvvillage.com
SUMMARY:Pub Music Series: Granville Daze
DESCRIPTION:Join us for live music\, food & drinks from 5:00-9:00pm. Music featuring Granville Daze
URL:https://mrvvillage.com/event/pub-music-series-granville-daze/
CATEGORIES:Dining,Family Friendly,Live Music,Public Welcome
ATTACH;FMTTYPE=image/jpeg:https://mrvvillage.com/wp-content/uploads/2023/06/EatLocalLOGOMRB-pdf-afCR6P.tmp_.jpg
END:VEVENT
END:VCALENDAR