BEGIN:VCALENDAR
VERSION:2.0
PRODID:-//The Mad River Valley Village - ECPv6.0.13//NONSGML v1.0//EN
CALSCALE:GREGORIAN
METHOD:PUBLISH
X-WR-CALNAME:The Mad River Valley Village
X-ORIGINAL-URL:https://mrvvillage.com
X-WR-CALDESC:Events for The Mad River Valley Village
REFRESH-INTERVAL;VALUE=DURATION:PT1H
X-Robots-Tag:noindex
X-PUBLISHED-TTL:PT1H
BEGIN:VTIMEZONE
TZID:UTC
BEGIN:STANDARD
TZOFFSETFROM:+0000
TZOFFSETTO:+0000
TZNAME:UTC
DTSTART:20230101T000000
END:STANDARD
END:VTIMEZONE
BEGIN:VEVENT
DTSTART;TZID=UTC:20230907T170000
DTEND;TZID=UTC:20230907T210000
DTSTAMP:20260423T034334
CREATED:20230809T034148Z
LAST-MODIFIED:20230907T235421Z
UID:10004569-1694106000-1694120400@mrvvillage.com
SUMMARY:MRB Pub Music Series: Running in Circles (RIC)
DESCRIPTION:Join us for live music\, food & drinks from 5:00-9:00pm. Music featuring Running in Circles (RIC)
URL:https://mrvvillage.com/event/mrb-pub-music-series-joshs-new-band/
CATEGORIES:Dining,Family Friendly,Live Music,Public Welcome
END:VEVENT
END:VCALENDAR