BEGIN:VCALENDAR
VERSION:2.0
PRODID:-//The Mad River Valley Village - ECPv6.0.13//NONSGML v1.0//EN
CALSCALE:GREGORIAN
METHOD:PUBLISH
X-ORIGINAL-URL:https://mrvvillage.com
X-WR-CALDESC:Events for The Mad River Valley Village
REFRESH-INTERVAL;VALUE=DURATION:PT1H
X-Robots-Tag:noindex
X-PUBLISHED-TTL:PT1H
BEGIN:VTIMEZONE
TZID:America/New_York
BEGIN:DAYLIGHT
TZOFFSETFROM:-0500
TZOFFSETTO:-0400
TZNAME:EDT
DTSTART:20230312T070000
END:DAYLIGHT
BEGIN:STANDARD
TZOFFSETFROM:-0400
TZOFFSETTO:-0500
TZNAME:EST
DTSTART:20231105T060000
END:STANDARD
END:VTIMEZONE
BEGIN:VEVENT
DTSTART;TZID=America/New_York:20230924T170000
DTEND;TZID=America/New_York:20230924T200000
DTSTAMP:20260423T075319
CREATED:20230831T221345Z
LAST-MODIFIED:20230924T153812Z
UID:10005106-1695574800-1695585600@mrvvillage.com
SUMMARY:Troy Millette & the Fire Below plays our Concerts on the Green!
DESCRIPTION:We are pleased to welcome Troy Millette & the Fire Below to the Green! Singer/songwriter\, Tory Millette\, alongside his band the Fire Below\, has gained recognition as one of the regions most engaging live acts. Seven Days says that they are “sure to strike a chord with fans of storytelling Americana troubadours”. We can’t wait for you to see them in all their glory! Doors at 5pm\, band begins at 5:30pm.
URL:https://mrvvillage.com/event/troy-millette-the-fire-below-plays-our-concerts-on-the-green/
LOCATION:Camp Meade\, 961 ROUTE 2\, middlesex\, 05602
CATEGORIES:Arts & Entertainment,Community,Live Music
ATTACH;FMTTYPE=image/jpeg:https://mrvvillage.com/wp-content/uploads/2023/08/Troy-Millette-gDXb3I.tmp_.jpg
ORGANIZER;CN="Camp%20Meade":MAILTO:info@campmeade.today
GEO:44.2412437;-72.5366148
X-APPLE-STRUCTURED-LOCATION;VALUE=URI;X-ADDRESS=Camp Meade 961 ROUTE 2 middlesex 05602;X-APPLE-RADIUS=500;X-TITLE=961 ROUTE 2:geo:-72.5366148,44.2412437
END:VEVENT
END:VCALENDAR