BEGIN:VCALENDAR
VERSION:2.0
PRODID:-//The Mad River Valley Village - ECPv6.0.13//NONSGML v1.0//EN
CALSCALE:GREGORIAN
METHOD:PUBLISH
X-ORIGINAL-URL:https://mrvvillage.com
X-WR-CALDESC:Events for The Mad River Valley Village
REFRESH-INTERVAL;VALUE=DURATION:PT1H
X-Robots-Tag:noindex
X-PUBLISHED-TTL:PT1H
BEGIN:VTIMEZONE
TZID:America/New_York
BEGIN:DAYLIGHT
TZOFFSETFROM:-0500
TZOFFSETTO:-0400
TZNAME:EDT
DTSTART:20230312T070000
END:DAYLIGHT
BEGIN:STANDARD
TZOFFSETFROM:-0400
TZOFFSETTO:-0500
TZNAME:EST
DTSTART:20231105T060000
END:STANDARD
END:VTIMEZONE
BEGIN:VEVENT
DTSTART;TZID=America/New_York:20231028T140000
DTEND;TZID=America/New_York:20231028T170000
DTSTAMP:20260423T075143
CREATED:20231011T155422Z
LAST-MODIFIED:20231028T225315Z
UID:10005369-1698501600-1698512400@mrvvillage.com
SUMMARY:Harvest Celebration & Block Party – CVHHHFundraiser
DESCRIPTION:Are are invited to a Warren Village Block Party to raise money for Central Vermont Home Health and Hospice\, a well-loved and respected local non-profit organization . Buffet dinner and live music on the deck at The Warren Store.
URL:https://mrvvillage.com/event/cvhhh-harvest-celebration-fundraiser/
LOCATION:Warren Store\, 284 Main Street\, Warren\, 05674
CATEGORIES:Community,Family Friendly,Food & Drink,Live Music
ATTACH;FMTTYPE=image/png:https://mrvvillage.com/wp-content/uploads/2023/10/Screen-Shot-2023-10-18-at-1.58.15-PM-yg8lZR.tmp_.png
GEO:44.118347;-72.8576681
X-APPLE-STRUCTURED-LOCATION;VALUE=URI;X-ADDRESS=Warren Store 284 Main Street Warren 05674;X-APPLE-RADIUS=500;X-TITLE=284 Main Street:geo:-72.8576681,44.118347
END:VEVENT
END:VCALENDAR