BEGIN:VCALENDAR
VERSION:2.0
PRODID:-//The Mad River Valley Village - ECPv6.0.13//NONSGML v1.0//EN
CALSCALE:GREGORIAN
METHOD:PUBLISH
X-ORIGINAL-URL:https://mrvvillage.com
X-WR-CALDESC:Events for The Mad River Valley Village
REFRESH-INTERVAL;VALUE=DURATION:PT1H
X-Robots-Tag:noindex
X-PUBLISHED-TTL:PT1H
BEGIN:VTIMEZONE
TZID:America/New_York
BEGIN:DAYLIGHT
TZOFFSETFROM:-0500
TZOFFSETTO:-0400
TZNAME:EDT
DTSTART:20250309T070000
END:DAYLIGHT
BEGIN:STANDARD
TZOFFSETFROM:-0400
TZOFFSETTO:-0500
TZNAME:EST
DTSTART:20251102T060000
END:STANDARD
END:VTIMEZONE
BEGIN:VEVENT
DTSTART;TZID=America/New_York:20251220T190000
DTEND;TZID=America/New_York:20251220T210000
DTSTAMP:20260422T051710
CREATED:20251220T130832Z
LAST-MODIFIED:20251220T182327Z
UID:10009500-1766257200-1766264400@mrvvillage.com
SUMMARY:LIVE MUSIC: BREANNA ELAINE
DESCRIPTION:Stop in for a chill night of gathering with friends\, family and or/coworkers and listen to the sounds of Breanna Elaine. \nBreanna is a singer/songwriter based out of Vermont. Breanna’s music is dripping with plenty of earthy folk\, indie\, singer/songwriter sounds\, but the term “folk music” does not encapsulate the work of this blooming musician. She performs a mix of originals and a wide array of covers on vocals and guitar. \nBreanna is recognized for her unique sound and songwriting talent. Her debut album\, “Seedlings” was released January 1st\, 2023\, with two more singles to follow. \nCome listen to Breanna’s rendition of your favorite songs and find inspiration in her unique original compositions. \nAfterthoughts bar opens at 5pm with food by Peace Burger. All ages welcome.
URL:https://mrvvillage.com/event/live-music-breanna-elaine/
LOCATION:afterthoughts\, 8 Vt Route 17 200\, Waitsfield\, Vermont\, 05673\, United States
CATEGORIES:Aprés,Food & Drink,Live Music
ATTACH;FMTTYPE=image/png:https://mrvvillage.com/wp-content/uploads/2025/12/image1-Nl03f3.png
ORGANIZER;CN="afterthoughts":MAILTO:hello@afterthoughtsvt.com
GEO:44.181648;-72.8405231
X-APPLE-STRUCTURED-LOCATION;VALUE=URI;X-ADDRESS=afterthoughts 8 Vt Route 17 200 Waitsfield Vermont 05673 United States;X-APPLE-RADIUS=500;X-TITLE=8 Vt Route 17 200:geo:-72.8405231,44.181648
END:VEVENT
BEGIN:VEVENT
DTSTART;TZID=America/New_York:20251220T193000
DTEND;TZID=America/New_York:20251220T210000
DTSTAMP:20260422T051710
CREATED:20251205T145544Z
LAST-MODIFIED:20251220T182327Z
UID:10009385-1766259000-1766264400@mrvvillage.com
SUMMARY:“A Perfect Day” concert by Onion River Chorus
DESCRIPTION:“A Perfect Day\,” a cantata written in 1994 by Plainfield composer Dennis Murphy\, along with three short pieces for organ also by Murphy\, will be performed by Onion River Chorus\, under the direction of Richard Riley\, on Saturday\, December 20 at 7:30 pm\, and Sunday\, December 21 at 4:00 pm. \nBoth concerts will be at the Unitarian Church\, 130 Main St. in Montpelier. \nThere will be a reception following the Sunday concert\, with proceeds to benefit the Montpelier Food Pantry. Tickets are $25 at the door or in advance at sevendaystickets.com. \nAs always\, 18 and under are free.
URL:https://mrvvillage.com/event/a-perfect-day-concert-by-onion-river-chorus/
LOCATION:Unitarian Church of Montpelier\, 130 Main Street\, Montpelier\, Vermont\, 05602\, United States
CATEGORIES:Arts & Entertainment,Live Music
ATTACH;FMTTYPE=image/jpeg:https://mrvvillage.com/wp-content/uploads/2025/12/Richard_Riley_small-o78U58.jpg
ORGANIZER;CN="Onion%20River%20Chorus":MAILTO:griffinsuter@hotmail.com
GEO:44.2615398;-72.5746765
X-APPLE-STRUCTURED-LOCATION;VALUE=URI;X-ADDRESS=Unitarian Church of Montpelier 130 Main Street Montpelier Vermont 05602 United States;X-APPLE-RADIUS=500;X-TITLE=130 Main Street:geo:-72.5746765,44.2615398
END:VEVENT
END:VCALENDAR