BEGIN:VCALENDAR
VERSION:2.0
PRODID:-//The Mad River Valley Village - ECPv6.0.13//NONSGML v1.0//EN
CALSCALE:GREGORIAN
METHOD:PUBLISH
X-WR-CALNAME:The Mad River Valley Village
X-ORIGINAL-URL:https://mrvvillage.com
X-WR-CALDESC:Events for The Mad River Valley Village
REFRESH-INTERVAL;VALUE=DURATION:PT1H
X-Robots-Tag:noindex
X-PUBLISHED-TTL:PT1H
BEGIN:VTIMEZONE
TZID:America/New_York
BEGIN:DAYLIGHT
TZOFFSETFROM:-0500
TZOFFSETTO:-0400
TZNAME:EDT
DTSTART:20250309T070000
END:DAYLIGHT
BEGIN:STANDARD
TZOFFSETFROM:-0400
TZOFFSETTO:-0500
TZNAME:EST
DTSTART:20251102T060000
END:STANDARD
END:VTIMEZONE
BEGIN:VEVENT
DTSTART;TZID=America/New_York:20251221T160000
DTEND;TZID=America/New_York:20251221T173000
DTSTAMP:20260422T032431
CREATED:20251205T145545Z
LAST-MODIFIED:20251221T183828Z
UID:10009386-1766332800-1766338200@mrvvillage.com
SUMMARY:“A Perfect Day” concert by Onion River Chorus
DESCRIPTION:“A Perfect Day\,” a cantata written in 1994 by Plainfield composer Dennis Murphy\, along with three short pieces for organ also by Murphy\, will be performed by Onion River Chorus\, under the direction of Richard Riley\, on Saturday\, December 20 at 7:30 pm\, and Sunday\, December 21 at 4:00 pm. \nBoth concerts will be at the Unitarian Church\, 130 Main St. in Montpelier. \nThere will be a reception following the Sunday concert\, with proceeds to benefit the Montpelier Food Pantry. Tickets are $25 at the door or in advance at sevendaystickets.com. \nAs always\, 18 and under are free.
URL:https://mrvvillage.com/event/a-perfect-day-concert-by-onion-river-chorus-2/
LOCATION:Unitarian Church of Montpelier\, 130 Main Street\, Montpelier\, Vermont\, 05602\, United States
CATEGORIES:Arts & Entertainment,Live Music
ATTACH;FMTTYPE=image/jpeg:https://mrvvillage.com/wp-content/uploads/2025/12/Richard_Riley_small-o78U58.jpg
ORGANIZER;CN="Onion%20River%20Chorus":MAILTO:griffinsuter@hotmail.com
GEO:44.2615398;-72.5746765
X-APPLE-STRUCTURED-LOCATION;VALUE=URI;X-ADDRESS=Unitarian Church of Montpelier 130 Main Street Montpelier Vermont 05602 United States;X-APPLE-RADIUS=500;X-TITLE=130 Main Street:geo:-72.5746765,44.2615398
END:VEVENT
END:VCALENDAR