BEGIN:VCALENDAR
VERSION:2.0
PRODID:-//The Mad River Valley Village - ECPv6.0.13//NONSGML v1.0//EN
CALSCALE:GREGORIAN
METHOD:PUBLISH
X-WR-CALNAME:The Mad River Valley Village
X-ORIGINAL-URL:https://mrvvillage.com
X-WR-CALDESC:Events for The Mad River Valley Village
REFRESH-INTERVAL;VALUE=DURATION:PT1H
X-Robots-Tag:noindex
X-PUBLISHED-TTL:PT1H
BEGIN:VTIMEZONE
TZID:America/New_York
BEGIN:DAYLIGHT
TZOFFSETFROM:-0500
TZOFFSETTO:-0400
TZNAME:EDT
DTSTART:20250309T070000
END:DAYLIGHT
BEGIN:STANDARD
TZOFFSETFROM:-0400
TZOFFSETTO:-0500
TZNAME:EST
DTSTART:20251102T060000
END:STANDARD
END:VTIMEZONE
BEGIN:VEVENT
DTSTART;TZID=America/New_York:20251227T210000
DTEND;TZID=America/New_York:20251227T233000
DTSTAMP:20260422T032429
CREATED:20251223T185345Z
LAST-MODIFIED:20251227T195329Z
UID:10009543-1766869200-1766878200@mrvvillage.com
SUMMARY:LIVE MUSIC: DJ RED DANSON COZY CORE DANCE PARTY
DESCRIPTION:Tis the season to get cozy and go about your business. If that business means dancing too\, then have we got an event for you! \nDJ RED DANSON (aka PEACE BURGER) is back for a cozy core dance party. Dress up in your finest flannel jammies or onesies or whatever you like to wear to bed and let’s get cozy on the dance floor. \nAfterthoughts opens up at 5pm. Music starts at 9pm. \nFREE EVENT.
URL:https://mrvvillage.com/event/live-music-dj-red-danson-cozy-core-dance-party/
LOCATION:afterthoughts\, 8 Vt Route 17 200\, Waitsfield\, Vermont\, 05673\, United States
CATEGORIES:Live Music
ATTACH;FMTTYPE=image/png:https://mrvvillage.com/wp-content/uploads/2025/12/Untitled-design-1-7lB5Wg.png
ORGANIZER;CN="afterthoughts":MAILTO:hello@afterthoughtsvt.com
GEO:44.181648;-72.8405231
X-APPLE-STRUCTURED-LOCATION;VALUE=URI;X-ADDRESS=afterthoughts 8 Vt Route 17 200 Waitsfield Vermont 05673 United States;X-APPLE-RADIUS=500;X-TITLE=8 Vt Route 17 200:geo:-72.8405231,44.181648
END:VEVENT
END:VCALENDAR