BEGIN:VCALENDAR
VERSION:2.0
PRODID:-//The Mad River Valley Village - ECPv6.0.13//NONSGML v1.0//EN
CALSCALE:GREGORIAN
METHOD:PUBLISH
X-WR-CALNAME:The Mad River Valley Village
X-ORIGINAL-URL:https://mrvvillage.com
X-WR-CALDESC:Events for The Mad River Valley Village
REFRESH-INTERVAL;VALUE=DURATION:PT1H
X-Robots-Tag:noindex
X-PUBLISHED-TTL:PT1H
BEGIN:VTIMEZONE
TZID:America/New_York
BEGIN:DAYLIGHT
TZOFFSETFROM:-0500
TZOFFSETTO:-0400
TZNAME:EDT
DTSTART:20260308T070000
END:DAYLIGHT
BEGIN:STANDARD
TZOFFSETFROM:-0400
TZOFFSETTO:-0500
TZNAME:EST
DTSTART:20261101T060000
END:STANDARD
END:VTIMEZONE
BEGIN:VEVENT
DTSTART;TZID=America/New_York:20260321T203000
DTEND;TZID=America/New_York:20260321T233000
DTSTAMP:20260421T194718
CREATED:20260321T012345Z
LAST-MODIFIED:20260321T163844Z
UID:10010008-1774125000-1774135800@mrvvillage.com
SUMMARY:Après Ski Slay DRAG SHOW W/EMOJI NIGHTMARE. AFTER DANCE PARTY w/DJ cRAIG mITCHELL
DESCRIPTION:Après Slay is bringing peak bluebird ski-day energy straight to the stage. \nJoin us in the Mad River Valley for a high-altitude\, high-glam après-ski drag show at Afterthoughts in Waitsfield. Hosted by the one and only Emoji Nightmare\, this night serves fierce performances\, winter realness\, and enough heat to melt the snow off Mount Ellen. \nFeaturing an all-star lineup of local drag excellence from Sasha Sriracha\, Rhedd Rhumm\, Miss Chekova\, Marjorie Mayhem\, Pete Zapparti\, and Jizzo—each bringing their own flavor of chaos\, glamour\, and slay to the lodge (no lift ticket required). \nSki all day\, slay all night\, and then stay for the after party with DJ Craig Mitchell\, spinning for you til last call for peak après après vibes. \nGrab your fluffiest fits\, boldest looks\, and biggest energy. Après Slay is where the boots come off and the heels come out. \n$20/person \nIf you can’t come to the show but don’t want to miss the dancing\, stop in after 11pm. Dance party is free entry.
URL:https://mrvvillage.com/event/apres-ski-slay-drag-show-w-emoji-nightmare-after-dance-party-w-dj-craig-mitchell/
LOCATION:afterthoughts\, 8 Vt Route 17 200\, Waitsfield\, Vermont\, 05673\, United States
CATEGORIES:Food & Drink,Live Music
ATTACH;FMTTYPE=image/png:https://mrvvillage.com/wp-content/uploads/2026/03/7D-Header-2-Letkl8.png
ORGANIZER;CN="afterthoughts":MAILTO:hello@afterthoughtsvt.com
GEO:44.181648;-72.8405231
X-APPLE-STRUCTURED-LOCATION;VALUE=URI;X-ADDRESS=afterthoughts 8 Vt Route 17 200 Waitsfield Vermont 05673 United States;X-APPLE-RADIUS=500;X-TITLE=8 Vt Route 17 200:geo:-72.8405231,44.181648
END:VEVENT
END:VCALENDAR