BEGIN:VCALENDAR
VERSION:2.0
PRODID:-//The Mad River Valley Village - ECPv6.0.13//NONSGML v1.0//EN
CALSCALE:GREGORIAN
METHOD:PUBLISH
X-ORIGINAL-URL:https://mrvvillage.com
X-WR-CALDESC:Events for The Mad River Valley Village
REFRESH-INTERVAL;VALUE=DURATION:PT1H
X-Robots-Tag:noindex
X-PUBLISHED-TTL:PT1H
BEGIN:VTIMEZONE
TZID:America/New_York
BEGIN:DAYLIGHT
TZOFFSETFROM:-0500
TZOFFSETTO:-0400
TZNAME:EDT
DTSTART:20260308T070000
END:DAYLIGHT
BEGIN:STANDARD
TZOFFSETFROM:-0400
TZOFFSETTO:-0500
TZNAME:EST
DTSTART:20261101T060000
END:STANDARD
END:VTIMEZONE
BEGIN:VEVENT
DTSTART;TZID=America/New_York:20260328T200000
DTEND;TZID=America/New_York:20260328T230000
DTSTAMP:20260421T194823
CREATED:20260321T012455Z
LAST-MODIFIED:20260328T182342Z
UID:10010010-1774728000-1774738800@mrvvillage.com
SUMMARY:LIVE MUSIC: MOONDOGS- Burlington Psych Rock
DESCRIPTION:Don’t miss psychedelic rockers\, MOONDOGS\, on Saturday\, March 28th. \nMusic starts at 8:30PM. $10 cover. \nMoondogs is a Burlington\, Vermont based psychedelic rock band\, whose broadly influenced\, eclectic style is both familiar and adventurous. Pulling from traditions and styles of funk\, alternative rock\, americana\, and more\, the band blends creative and compelling songwriting with energetic musicianship and improvisation. Danceable grooves\, memorable melodies\, and deep musical chemistry are infused in the band’s fresh take on rock music\, which is simultaneously modern and nostalgic for eras gone by.\nJimmy Martucci on drums\, Will Sturcke on lead vocals and guitar\, Matt Weinstein on keys\, and Kai Pasciak on bass. \nPeace Burger dine-in and full bar available at 5pm.
URL:https://mrvvillage.com/event/live-music-moondogs-burlington-psych-rock/
LOCATION:afterthoughts\, 8 Vt Route 17 200\, Waitsfield\, Vermont\, 05673\, United States
CATEGORIES:Food & Drink,Live Music
ATTACH;FMTTYPE=image/png:https://mrvvillage.com/wp-content/uploads/2026/03/Moondogs-0XpPHy.png
ORGANIZER;CN="afterthoughts":MAILTO:hello@afterthoughtsvt.com
GEO:44.181648;-72.8405231
X-APPLE-STRUCTURED-LOCATION;VALUE=URI;X-ADDRESS=afterthoughts 8 Vt Route 17 200 Waitsfield Vermont 05673 United States;X-APPLE-RADIUS=500;X-TITLE=8 Vt Route 17 200:geo:-72.8405231,44.181648
END:VEVENT
BEGIN:VEVENT
DTSTART;TZID=America/New_York:20260328T200000
DTEND;TZID=America/New_York:20260328T233000
DTSTAMP:20260421T194823
CREATED:20260327T125358Z
LAST-MODIFIED:20260328T182342Z
UID:10010038-1774728000-1774740600@mrvvillage.com
SUMMARY:SUBLIME TRIBUTE CONCERT
DESCRIPTION:North Beach Dub All-Stars bring the party to Cousins Brewing\, with their high energy tribute to one of our favorite bands!
URL:https://mrvvillage.com/event/sublime-tribute-concert/
LOCATION:Unnamed Venue\, United States
CATEGORIES:Live Music
ATTACH;FMTTYPE=image/jpeg:https://mrvvillage.com/wp-content/uploads/2026/03/2740697774184352643-xRREPO.jpg
ORGANIZER;CN="Cousins%20Brewing":MAILTO:CousinsBrewing@gmail.com
GEO:37.09024;-95.712891
END:VEVENT
END:VCALENDAR